| Back to Multiple platform build/check report for BioC 3.11 | 
  | 
This page was generated on 2020-10-17 11:55:25 -0400 (Sat, 17 Oct 2020).
| TO THE DEVELOPERS/MAINTAINERS OF THE PrInCE PACKAGE: Please make sure to use the following settings in order to reproduce any error or warning you see on this page. | 
| Package 1349/1905 | Hostname | OS / Arch | INSTALL | BUILD | CHECK | BUILD BIN | ||||||
| PrInCE 1.4.0 Michael Skinnider 
  | malbec2 | Linux (Ubuntu 18.04.4 LTS) / x86_64 | OK | OK | [ OK ] | |||||||
| tokay2 | Windows Server 2012 R2 Standard / x64 | OK | OK | OK | OK | |||||||
| machv2 | macOS 10.14.6 Mojave / x86_64 | OK | OK | OK | OK | 
| Package: PrInCE | 
| Version: 1.4.0 | 
| Command: /home/biocbuild/bbs-3.11-bioc/R/bin/R CMD check --install=check:PrInCE.install-out.txt --library=/home/biocbuild/bbs-3.11-bioc/R/library --no-vignettes --timings PrInCE_1.4.0.tar.gz | 
| StartedAt: 2020-10-17 04:15:15 -0400 (Sat, 17 Oct 2020) | 
| EndedAt: 2020-10-17 04:18:48 -0400 (Sat, 17 Oct 2020) | 
| EllapsedTime: 212.5 seconds | 
| RetCode: 0 | 
| Status: OK | 
| CheckDir: PrInCE.Rcheck | 
| Warnings: 0 | 
##############################################################################
##############################################################################
###
### Running command:
###
###   /home/biocbuild/bbs-3.11-bioc/R/bin/R CMD check --install=check:PrInCE.install-out.txt --library=/home/biocbuild/bbs-3.11-bioc/R/library --no-vignettes --timings PrInCE_1.4.0.tar.gz
###
##############################################################################
##############################################################################
* using log directory ‘/home/biocbuild/bbs-3.11-bioc/meat/PrInCE.Rcheck’
* using R version 4.0.3 (2020-10-10)
* using platform: x86_64-pc-linux-gnu (64-bit)
* using session charset: UTF-8
* using option ‘--no-vignettes’
* checking for file ‘PrInCE/DESCRIPTION’ ... OK
* this is package ‘PrInCE’ version ‘1.4.0’
* package encoding: UTF-8
* checking package namespace information ... OK
* checking package dependencies ... OK
* checking if this is a source package ... OK
* checking if there is a namespace ... OK
* checking for hidden files and directories ... OK
* checking for portable file names ... OK
* checking for sufficient/correct file permissions ... OK
* checking whether package ‘PrInCE’ can be installed ... OK
* checking installed package size ... OK
* checking package directory ... OK
* checking ‘build’ directory ... OK
* checking DESCRIPTION meta-information ... OK
* checking top-level files ... OK
* checking for left-over files ... OK
* checking index information ... OK
* checking package subdirectories ... OK
* checking R files for non-ASCII characters ... OK
* checking R files for syntax errors ... OK
* checking whether the package can be loaded ... OK
* checking whether the package can be loaded with stated dependencies ... OK
* checking whether the package can be unloaded cleanly ... OK
* checking whether the namespace can be loaded with stated dependencies ... OK
* checking whether the namespace can be unloaded cleanly ... OK
* checking dependencies in R code ... OK
* checking S3 generic/method consistency ... OK
* checking replacement functions ... OK
* checking foreign function calls ... OK
* checking R code for possible problems ... OK
* checking Rd files ... OK
* checking Rd metadata ... OK
* checking Rd cross-references ... OK
* checking for missing documentation entries ... OK
* checking for code/documentation mismatches ... OK
* checking Rd \usage sections ... OK
* checking Rd contents ... OK
* checking for unstated dependencies in examples ... OK
* checking contents of ‘data’ directory ... OK
* checking data for non-ASCII characters ... OK
* checking data for ASCII and uncompressed saves ... OK
* checking files in ‘vignettes’ ... OK
* checking examples ... OK
Examples with CPU (user + system) or elapsed time > 5s
                      user system elapsed
calculate_precision  7.587  0.084   7.672
predict_ensemble     7.182  0.056   7.237
predict_interactions 6.809  0.044   6.854
PrInCE               6.467  0.120   6.586
threshold_precision  5.417  0.052   5.469
* checking for unstated dependencies in vignettes ... OK
* checking package vignettes in ‘inst/doc’ ... OK
* checking running R code from vignettes ... SKIPPED
* checking re-building of vignette outputs ... SKIPPED
* checking PDF version of manual ... OK
* DONE
Status: OK
PrInCE.Rcheck/00install.out
############################################################################## ############################################################################## ### ### Running command: ### ### /home/biocbuild/bbs-3.11-bioc/R/bin/R CMD INSTALL PrInCE ### ############################################################################## ############################################################################## * installing to library ‘/home/biocbuild/bbs-3.11-bioc/R/library’ * installing *source* package ‘PrInCE’ ... ** using staged installation ** R ** data ** inst ** byte-compile and prepare package for lazy loading ** help Loading required namespace: PrInCE Registered S3 method overwritten by 'quantmod': method from as.zoo.data.frame zoo *** installing help indices ** building package indices ** installing vignettes ** testing if installed package can be loaded from temporary location ** testing if installed package can be loaded from final location ** testing if installed package keeps a record of temporary installation path * DONE (PrInCE)
PrInCE.Rcheck/PrInCE-Ex.timings
| name | user | system | elapsed | |
| PrInCE | 6.467 | 0.120 | 6.586 | |
| adjacency_matrix_from_data_frame | 0.001 | 0.000 | 0.002 | |
| adjacency_matrix_from_list | 0.915 | 0.000 | 0.916 | |
| build_gaussians | 0.555 | 0.028 | 0.583 | |
| calculate_precision | 7.587 | 0.084 | 7.672 | |
| check_gaussians | 0.261 | 0.036 | 0.296 | |
| choose_gaussians | 0.334 | 0.004 | 0.338 | |
| clean_profile | 0.067 | 0.004 | 0.071 | |
| clean_profiles | 0.057 | 0.004 | 0.061 | |
| co_apex | 0.238 | 0.044 | 0.283 | |
| detect_complexes | 0.167 | 0.012 | 0.179 | |
| filter_profiles | 0.367 | 0.004 | 0.370 | |
| fit_curve | 0.18 | 0.00 | 0.18 | |
| fit_gaussians | 0.162 | 0.000 | 0.163 | |
| impute_neighbors | 0.061 | 0.004 | 0.065 | |
| is_unweighted | 0.858 | 0.004 | 0.862 | |
| is_weighted | 0.829 | 0.016 | 0.845 | |
| make_initial_conditions | 0.056 | 0.000 | 0.056 | |
| make_labels | 0.860 | 0.004 | 0.865 | |
| match_matrix_dimensions | 1.204 | 0.004 | 1.208 | |
| predict_ensemble | 7.182 | 0.056 | 7.237 | |
| predict_interactions | 6.809 | 0.044 | 6.854 | |
| threshold_precision | 5.417 | 0.052 | 5.469 | |