| Back to Build/check report for BioC 3.11 |
|
This page was generated on 2020-09-15 13:13:42 -0400 (Tue, 15 Sep 2020).
| TO THE DEVELOPERS/MAINTAINERS OF THE Pigengene PACKAGE: Please make sure to use the following settings in order to reproduce any error or warning you see on this page. |
| Package 1314/1905 | Hostname | OS / Arch | INSTALL | BUILD | CHECK | BUILD BIN | ||||||
| Pigengene 1.14.0 Habil Zare
| malbec2 | Linux (Ubuntu 18.04.4 LTS) / x86_64 | OK | OK | [ OK ] |
| Package: Pigengene |
| Version: 1.14.0 |
| Command: /home/biocbuild/bbs-3.11-bioc/R/bin/R CMD check --install=check:Pigengene.install-out.txt --library=/home/biocbuild/bbs-3.11-bioc/R/library --no-vignettes --timings Pigengene_1.14.0.tar.gz |
| StartedAt: 2020-09-15 02:57:24 -0400 (Tue, 15 Sep 2020) |
| EndedAt: 2020-09-15 03:04:39 -0400 (Tue, 15 Sep 2020) |
| EllapsedTime: 434.7 seconds |
| RetCode: 0 |
| Status: OK |
| CheckDir: Pigengene.Rcheck |
| Warnings: 0 |
##############################################################################
##############################################################################
###
### Running command:
###
### /home/biocbuild/bbs-3.11-bioc/R/bin/R CMD check --install=check:Pigengene.install-out.txt --library=/home/biocbuild/bbs-3.11-bioc/R/library --no-vignettes --timings Pigengene_1.14.0.tar.gz
###
##############################################################################
##############################################################################
* using log directory ‘/home/biocbuild/bbs-3.11-bioc/meat/Pigengene.Rcheck’
* using R version 4.0.2 (2020-06-22)
* using platform: x86_64-pc-linux-gnu (64-bit)
* using session charset: UTF-8
* using option ‘--no-vignettes’
* checking for file ‘Pigengene/DESCRIPTION’ ... OK
* checking extension type ... Package
* this is package ‘Pigengene’ version ‘1.14.0’
* checking package namespace information ... OK
* checking package dependencies ... OK
* checking if this is a source package ... OK
* checking if there is a namespace ... OK
* checking for hidden files and directories ... OK
* checking for portable file names ... OK
* checking for sufficient/correct file permissions ... OK
* checking whether package ‘Pigengene’ can be installed ... OK
* checking installed package size ... OK
* checking package directory ... OK
* checking ‘build’ directory ... OK
* checking DESCRIPTION meta-information ... OK
* checking top-level files ... OK
* checking for left-over files ... OK
* checking index information ... OK
* checking package subdirectories ... OK
* checking R files for non-ASCII characters ... OK
* checking R files for syntax errors ... OK
* checking whether the package can be loaded ... OK
* checking whether the package can be loaded with stated dependencies ... OK
* checking whether the package can be unloaded cleanly ... OK
* checking whether the namespace can be loaded with stated dependencies ... OK
* checking whether the namespace can be unloaded cleanly ... OK
* checking dependencies in R code ... NOTE
'library' or 'require' calls in package code:
‘AnnotationDbi’ ‘biomaRt’ ‘energy’ ‘org.Hs.eg.db’ ‘org.Mm.eg.db’
Please use :: or requireNamespace() instead.
See section 'Suggested packages' in the 'Writing R Extensions' manual.
* checking S3 generic/method consistency ... OK
* checking replacement functions ... OK
* checking foreign function calls ... OK
* checking R code for possible problems ... NOTE
Found the following possibly unsafe calls:
File ‘Pigengene/R/bn.calculation.R’:
assignInNamespace("supported.clusters", fixArgs, "bnlearn")
combine.networks: no visible binding for global variable ‘netwok’
Undefined global functions or variables:
netwok
* checking Rd files ... OK
* checking Rd metadata ... OK
* checking Rd cross-references ... OK
* checking for missing documentation entries ... OK
* checking for code/documentation mismatches ... OK
* checking Rd \usage sections ... OK
* checking Rd contents ... OK
* checking for unstated dependencies in examples ... OK
* checking contents of ‘data’ directory ... NOTE
Output for data("pigengene", package = "Pigengene"):
* checking data for non-ASCII characters ... OK
* checking data for ASCII and uncompressed saves ... OK
* checking files in ‘vignettes’ ... OK
* checking examples ... OK
Examples with CPU (user + system) or elapsed time > 5s
user system elapsed
one.step.pigengene 66.888 0.823 67.778
Pigengene-package 57.795 0.688 58.652
module.heatmap 13.352 0.035 13.954
learn.bn 12.683 0.420 13.101
make.decision.tree 11.379 0.032 11.411
gene.mapping 10.481 0.223 14.002
compact.tree 9.766 0.012 9.777
combine.networks 8.277 0.135 8.458
wgcna.one.step 8.366 0.000 8.366
pigengene 7.344 0.100 7.445
compute.pigengene 7.086 0.072 7.158
project.eigen 6.860 0.024 6.884
plot.pigengene 5.908 0.036 5.944
* checking for unstated dependencies in vignettes ... OK
* checking package vignettes in ‘inst/doc’ ... OK
* checking running R code from vignettes ... SKIPPED
* checking re-building of vignette outputs ... SKIPPED
* checking PDF version of manual ... OK
* DONE
Status: 3 NOTEs
See
‘/home/biocbuild/bbs-3.11-bioc/meat/Pigengene.Rcheck/00check.log’
for details.
Pigengene.Rcheck/00install.out
############################################################################## ############################################################################## ### ### Running command: ### ### /home/biocbuild/bbs-3.11-bioc/R/bin/R CMD INSTALL Pigengene ### ############################################################################## ############################################################################## * installing to library ‘/home/biocbuild/bbs-3.11-bioc/R/library’ * installing *source* package ‘Pigengene’ ... ** using staged installation ** R ** data ** inst ** byte-compile and prepare package for lazy loading ** help *** installing help indices ** building package indices ** installing vignettes ** testing if installed package can be loaded from temporary location ** testing if installed package can be loaded from final location ** testing if installed package keeps a record of temporary installation path * DONE (Pigengene)
Pigengene.Rcheck/Pigengene-Ex.timings
| name | user | system | elapsed | |
| Pigengene-package | 57.795 | 0.688 | 58.652 | |
| aml | 0.134 | 0.004 | 0.138 | |
| balance | 0.269 | 0.048 | 0.318 | |
| calculate.beta | 0.914 | 0.008 | 0.922 | |
| check.nas | 0.042 | 0.000 | 0.042 | |
| check.pigengene.input | 0.041 | 0.000 | 0.041 | |
| combine.networks | 8.277 | 0.135 | 8.458 | |
| compact.tree | 9.766 | 0.012 | 9.777 | |
| compute.pigengene | 7.086 | 0.072 | 7.158 | |
| dcor.matrix | 0.156 | 0.000 | 0.169 | |
| draw.bn | 0 | 0 | 0 | |
| eigengenes33 | 0.09 | 0.00 | 0.09 | |
| gene.mapping | 10.481 | 0.223 | 14.002 | |
| get.fitted.leaf | 0.541 | 0.012 | 0.554 | |
| get.genes | 0.469 | 0.011 | 0.481 | |
| get.used.features | 0.471 | 0.005 | 0.475 | |
| learn.bn | 12.683 | 0.420 | 13.101 | |
| make.decision.tree | 11.379 | 0.032 | 11.411 | |
| mds | 0.084 | 0.004 | 0.089 | |
| message.if | 0.001 | 0.000 | 0.000 | |
| module.heatmap | 13.352 | 0.035 | 13.954 | |
| one.step.pigengene | 66.888 | 0.823 | 67.778 | |
| pheatmap.type | 0.211 | 0.003 | 0.214 | |
| pigengene | 7.344 | 0.100 | 7.445 | |
| plot.pigengene | 5.908 | 0.036 | 5.944 | |
| preds.at | 0.570 | 0.004 | 0.573 | |
| project.eigen | 6.860 | 0.024 | 6.884 | |
| pvalues.manova | 0.116 | 0.000 | 0.116 | |
| save.if | 0.631 | 0.016 | 0.647 | |
| wgcna.one.step | 8.366 | 0.000 | 8.366 | |