| Back to Multiple platform build/check report for BioC 3.11 |
|
This page was generated on 2020-10-17 11:55:23 -0400 (Sat, 17 Oct 2020).
| TO THE DEVELOPERS/MAINTAINERS OF THE PhyloProfile PACKAGE: Please make sure to use the following settings in order to reproduce any error or warning you see on this page. |
| Package 1308/1905 | Hostname | OS / Arch | INSTALL | BUILD | CHECK | BUILD BIN | ||||||
| PhyloProfile 1.2.8 Vinh Tran
| malbec2 | Linux (Ubuntu 18.04.4 LTS) / x86_64 | OK | OK | [ OK ] | |||||||
| tokay2 | Windows Server 2012 R2 Standard / x64 | OK | OK | OK | OK | |||||||
| machv2 | macOS 10.14.6 Mojave / x86_64 | OK | OK | OK | OK |
| Package: PhyloProfile |
| Version: 1.2.8 |
| Command: /home/biocbuild/bbs-3.11-bioc/R/bin/R CMD check --install=check:PhyloProfile.install-out.txt --library=/home/biocbuild/bbs-3.11-bioc/R/library --no-vignettes --timings PhyloProfile_1.2.8.tar.gz |
| StartedAt: 2020-10-17 04:05:40 -0400 (Sat, 17 Oct 2020) |
| EndedAt: 2020-10-17 04:08:21 -0400 (Sat, 17 Oct 2020) |
| EllapsedTime: 161.1 seconds |
| RetCode: 0 |
| Status: OK |
| CheckDir: PhyloProfile.Rcheck |
| Warnings: 0 |
############################################################################## ############################################################################## ### ### Running command: ### ### /home/biocbuild/bbs-3.11-bioc/R/bin/R CMD check --install=check:PhyloProfile.install-out.txt --library=/home/biocbuild/bbs-3.11-bioc/R/library --no-vignettes --timings PhyloProfile_1.2.8.tar.gz ### ############################################################################## ############################################################################## * using log directory ‘/home/biocbuild/bbs-3.11-bioc/meat/PhyloProfile.Rcheck’ * using R version 4.0.3 (2020-10-10) * using platform: x86_64-pc-linux-gnu (64-bit) * using session charset: UTF-8 * using option ‘--no-vignettes’ * checking for file ‘PhyloProfile/DESCRIPTION’ ... OK * this is package ‘PhyloProfile’ version ‘1.2.8’ * package encoding: UTF-8 * checking package namespace information ... OK * checking package dependencies ... OK * checking if this is a source package ... OK * checking if there is a namespace ... OK * checking for hidden files and directories ... OK * checking for portable file names ... OK * checking for sufficient/correct file permissions ... OK * checking whether package ‘PhyloProfile’ can be installed ... OK * checking installed package size ... OK * checking package directory ... OK * checking ‘build’ directory ... OK * checking DESCRIPTION meta-information ... OK * checking top-level files ... OK * checking for left-over files ... OK * checking index information ... OK * checking package subdirectories ... OK * checking R files for non-ASCII characters ... OK * checking R files for syntax errors ... OK * checking whether the package can be loaded ... OK * checking whether the package can be loaded with stated dependencies ... OK * checking whether the package can be unloaded cleanly ... OK * checking whether the namespace can be loaded with stated dependencies ... OK * checking whether the namespace can be unloaded cleanly ... OK * checking dependencies in R code ... OK * checking S3 generic/method consistency ... OK * checking replacement functions ... OK * checking foreign function calls ... OK * checking R code for possible problems ... OK * checking Rd files ... OK * checking Rd metadata ... OK * checking Rd cross-references ... OK * checking for missing documentation entries ... OK * checking for code/documentation mismatches ... OK * checking Rd \usage sections ... OK * checking Rd contents ... OK * checking for unstated dependencies in examples ... OK * checking contents of ‘data’ directory ... OK * checking data for non-ASCII characters ... OK * checking data for ASCII and uncompressed saves ... OK * checking files in ‘vignettes’ ... OK * checking examples ... OK * checking for unstated dependencies in ‘tests’ ... OK * checking tests ... Running ‘testthat.R’ OK * checking for unstated dependencies in vignettes ... OK * checking package vignettes in ‘inst/doc’ ... OK * checking running R code from vignettes ... SKIPPED * checking re-building of vignette outputs ... SKIPPED * checking PDF version of manual ... OK * DONE Status: OK
PhyloProfile.Rcheck/00install.out
############################################################################## ############################################################################## ### ### Running command: ### ### /home/biocbuild/bbs-3.11-bioc/R/bin/R CMD INSTALL PhyloProfile ### ############################################################################## ############################################################################## * installing to library ‘/home/biocbuild/bbs-3.11-bioc/R/library’ * installing *source* package ‘PhyloProfile’ ... ** using staged installation ** R ** data ** inst ** byte-compile and prepare package for lazy loading ** help *** installing help indices ** building package indices ** installing vignettes ** testing if installed package can be loaded from temporary location ** testing if installed package can be loaded from final location ** testing if installed package keeps a record of temporary installation path * DONE (PhyloProfile)
PhyloProfile.Rcheck/tests/testthat.Rout
R version 4.0.3 (2020-10-10) -- "Bunny-Wunnies Freak Out"
Copyright (C) 2020 The R Foundation for Statistical Computing
Platform: x86_64-pc-linux-gnu (64-bit)
R is free software and comes with ABSOLUTELY NO WARRANTY.
You are welcome to redistribute it under certain conditions.
Type 'license()' or 'licence()' for distribution details.
R is a collaborative project with many contributors.
Type 'contributors()' for more information and
'citation()' on how to cite R or R packages in publications.
Type 'demo()' for some demos, 'help()' for on-line help, or
'help.start()' for an HTML browser interface to help.
Type 'q()' to quit R.
> library(testthat)
> library(PhyloProfile)
>
> test_check("PhyloProfile")
══ testthat results ═══════════════════════════════════════════════════════════
[ OK: 20 | SKIPPED: 0 | WARNINGS: 0 | FAILED: 0 ]
>
> proc.time()
user system elapsed
8.283 0.283 8.594
PhyloProfile.Rcheck/PhyloProfile-Ex.timings
| name | user | system | elapsed | |
| calcPresSpec | 0.048 | 0.000 | 0.048 | |
| checkInputValidity | 0.014 | 0.000 | 0.017 | |
| checkNewick | 0.004 | 0.000 | 0.004 | |
| checkOmaID | 0 | 0 | 0 | |
| clusterDataDend | 0.046 | 0.000 | 0.047 | |
| compareMedianTaxonGroups | 0.049 | 0.000 | 0.049 | |
| compareTaxonGroups | 0.061 | 0.004 | 0.065 | |
| createArchiPlot | 0.771 | 0.000 | 0.771 | |
| createGeneAgePlot | 0.264 | 0.000 | 0.263 | |
| createLongMatrix | 0.039 | 0.000 | 0.039 | |
| createPercentageDistributionData | 0.603 | 0.016 | 0.620 | |
| createProfileFromOma | 0.000 | 0.001 | 0.001 | |
| createRootedTree | 0.020 | 0.001 | 0.021 | |
| createVarDistPlot | 0.235 | 0.000 | 0.236 | |
| createVariableDistributionData | 0.010 | 0.004 | 0.014 | |
| createVariableDistributionDataSubset | 0.015 | 0.000 | 0.016 | |
| dataCustomizedPlot | 0.047 | 0.000 | 0.047 | |
| dataFeatureTaxGroup | 0.023 | 0.000 | 0.023 | |
| dataMainPlot | 0.054 | 0.012 | 0.067 | |
| dataVarDistTaxGroup | 0.005 | 0.004 | 0.008 | |
| estimateGeneAge | 0.082 | 0.004 | 0.087 | |
| fastaParser | 0.065 | 0.004 | 0.069 | |
| featureDistTaxPlot | 0.261 | 0.016 | 0.278 | |
| filterProfileData | 0.026 | 0.004 | 0.030 | |
| fromInputToProfile | 0.198 | 0.012 | 0.211 | |
| geneAgePlotDf | 0.006 | 0.000 | 0.006 | |
| generateSinglePlot | 0.444 | 0.000 | 0.444 | |
| getAllDomainsOma | 0 | 0 | 0 | |
| getAllFastaOma | 0 | 0 | 0 | |
| getCommonAncestor | 0.063 | 0.000 | 0.063 | |
| getCoreGene | 0.018 | 0.000 | 0.018 | |
| getDataClustering | 0.023 | 0.000 | 0.023 | |
| getDataForOneOma | 0.001 | 0.000 | 0.001 | |
| getDendrogram | 0.071 | 0.000 | 0.071 | |
| getDistanceMatrix | 0.021 | 0.000 | 0.020 | |
| getDomainFolder | 0 | 0 | 0 | |
| getFastaFromFasInput | 0.026 | 0.000 | 0.026 | |
| getFastaFromFile | 0.016 | 0.000 | 0.017 | |
| getFastaFromFolder | 0.014 | 0.000 | 0.430 | |
| getIDsRank | 0.043 | 0.000 | 0.051 | |
| getInputTaxaID | 0.004 | 0.000 | 0.004 | |
| getInputTaxaName | 0.017 | 0.003 | 0.020 | |
| getNameList | 0.040 | 0.008 | 0.048 | |
| getOmaDataForOneOrtholog | 0 | 0 | 0 | |
| getOmaDomainFromURL | 0 | 0 | 0 | |
| getOmaMembers | 0 | 0 | 0 | |
| getQualColForVector | 0 | 0 | 0 | |
| getSelectedFastaOma | 0.000 | 0.000 | 0.001 | |
| getSelectedTaxonNames | 0.033 | 0.000 | 0.033 | |
| getTaxonomyInfo | 0.013 | 0.000 | 0.014 | |
| getTaxonomyMatrix | 0.183 | 0.036 | 0.218 | |
| getTaxonomyRanks | 0.000 | 0.000 | 0.001 | |
| gridArrangeSharedLegend | 0.724 | 0.036 | 0.759 | |
| heatmapPlotting | 0.475 | 0.000 | 0.475 | |
| highlightProfilePlot | 0.536 | 0.004 | 0.540 | |
| mainTaxonomyRank | 0.000 | 0.000 | 0.001 | |
| pairDomainPlotting | 0.001 | 0.000 | 0.001 | |
| parseDomainInput | 0.031 | 0.000 | 0.031 | |
| parseInfoProfile | 0.171 | 0.016 | 0.186 | |
| processNcbiTaxonomy | 0.109 | 0.047 | 0.754 | |
| qualitativeColours | 0 | 0 | 0 | |
| rankIndexing | 0 | 0 | 0 | |
| reduceProfile | 0.019 | 0.006 | 0.026 | |
| runPhyloProfile | 0.088 | 0.056 | 0.145 | |
| singleDomainPlotting | 0.000 | 0.000 | 0.001 | |
| sortDomains | 0 | 0 | 0 | |
| sortInputTaxa | 0.115 | 0.020 | 0.134 | |
| sortTaxaFromTree | 0.024 | 0.000 | 0.024 | |
| taxonomyTableCreator | 0.181 | 0.012 | 0.202 | |
| varDistTaxPlot | 0.950 | 0.016 | 0.965 | |
| wideToLong | 0.016 | 0.008 | 0.025 | |
| xmlParser | 0.034 | 0.000 | 0.033 | |