| Back to Multiple platform build/check report for BioC 3.11 |
|
This page was generated on 2020-10-17 11:55:22 -0400 (Sat, 17 Oct 2020).
| TO THE DEVELOPERS/MAINTAINERS OF THE PharmacoGx PACKAGE: Please make sure to use the following settings in order to reproduce any error or warning you see on this page. |
| Package 1301/1905 | Hostname | OS / Arch | INSTALL | BUILD | CHECK | BUILD BIN | ||||||
| PharmacoGx 2.0.9 Benjamin Haibe-Kains
| malbec2 | Linux (Ubuntu 18.04.4 LTS) / x86_64 | OK | OK | [ OK ] | |||||||
| tokay2 | Windows Server 2012 R2 Standard / x64 | OK | OK | OK | OK | |||||||
| machv2 | macOS 10.14.6 Mojave / x86_64 | OK | OK | OK | OK |
| Package: PharmacoGx |
| Version: 2.0.9 |
| Command: /home/biocbuild/bbs-3.11-bioc/R/bin/R CMD check --install=check:PharmacoGx.install-out.txt --library=/home/biocbuild/bbs-3.11-bioc/R/library --no-vignettes --timings PharmacoGx_2.0.9.tar.gz |
| StartedAt: 2020-10-17 04:03:01 -0400 (Sat, 17 Oct 2020) |
| EndedAt: 2020-10-17 04:11:23 -0400 (Sat, 17 Oct 2020) |
| EllapsedTime: 501.6 seconds |
| RetCode: 0 |
| Status: OK |
| CheckDir: PharmacoGx.Rcheck |
| Warnings: 0 |
##############################################################################
##############################################################################
###
### Running command:
###
### /home/biocbuild/bbs-3.11-bioc/R/bin/R CMD check --install=check:PharmacoGx.install-out.txt --library=/home/biocbuild/bbs-3.11-bioc/R/library --no-vignettes --timings PharmacoGx_2.0.9.tar.gz
###
##############################################################################
##############################################################################
* using log directory ‘/home/biocbuild/bbs-3.11-bioc/meat/PharmacoGx.Rcheck’
* using R version 4.0.3 (2020-10-10)
* using platform: x86_64-pc-linux-gnu (64-bit)
* using session charset: UTF-8
* using option ‘--no-vignettes’
* checking for file ‘PharmacoGx/DESCRIPTION’ ... OK
* checking extension type ... Package
* this is package ‘PharmacoGx’ version ‘2.0.9’
* package encoding: UTF-8
* checking package namespace information ... OK
* checking package dependencies ... OK
* checking if this is a source package ... OK
* checking if there is a namespace ... OK
* checking for hidden files and directories ... OK
* checking for portable file names ... OK
* checking for sufficient/correct file permissions ... OK
* checking whether package ‘PharmacoGx’ can be installed ... OK
* checking installed package size ... OK
* checking package directory ... OK
* checking ‘build’ directory ... OK
* checking DESCRIPTION meta-information ... OK
* checking top-level files ... OK
* checking for left-over files ... OK
* checking index information ... OK
* checking package subdirectories ... OK
* checking R files for non-ASCII characters ... OK
* checking R files for syntax errors ... OK
* checking whether the package can be loaded ... OK
* checking whether the package can be loaded with stated dependencies ... OK
* checking whether the package can be unloaded cleanly ... OK
* checking whether the namespace can be loaded with stated dependencies ... OK
* checking whether the namespace can be unloaded cleanly ... OK
* checking dependencies in R code ... OK
* checking S3 generic/method consistency ... OK
* checking replacement functions ... OK
* checking foreign function calls ... OK
* checking R code for possible problems ... OK
* checking Rd files ... OK
* checking Rd metadata ... OK
* checking Rd cross-references ... OK
* checking for missing documentation entries ... OK
* checking for code/documentation mismatches ... OK
* checking Rd \usage sections ... OK
* checking Rd contents ... OK
* checking for unstated dependencies in examples ... OK
* checking contents of ‘data’ directory ... OK
* checking data for non-ASCII characters ... NOTE
Note: found 2251 marked UTF-8 strings
* checking data for ASCII and uncompressed saves ... OK
* checking files in ‘vignettes’ ... OK
* checking examples ... OK
Examples with CPU (user + system) or elapsed time > 5s
user system elapsed
PharmacoSet-class 35.255 0.568 35.944
* checking for unstated dependencies in ‘tests’ ... OK
* checking tests ...
Running ‘testthat.R’
OK
* checking for unstated dependencies in vignettes ... OK
* checking package vignettes in ‘inst/doc’ ... OK
* checking running R code from vignettes ... SKIPPED
* checking re-building of vignette outputs ... SKIPPED
* checking PDF version of manual ... OK
* DONE
Status: 1 NOTE
See
‘/home/biocbuild/bbs-3.11-bioc/meat/PharmacoGx.Rcheck/00check.log’
for details.
PharmacoGx.Rcheck/00install.out
############################################################################## ############################################################################## ### ### Running command: ### ### /home/biocbuild/bbs-3.11-bioc/R/bin/R CMD INSTALL PharmacoGx ### ############################################################################## ############################################################################## * installing to library ‘/home/biocbuild/bbs-3.11-bioc/R/library’ * installing *source* package ‘PharmacoGx’ ... ** using staged installation ** R ** data ** inst ** byte-compile and prepare package for lazy loading ** help *** installing help indices ** building package indices ** installing vignettes ** testing if installed package can be loaded from temporary location ** testing if installed package can be loaded from final location ** testing if installed package keeps a record of temporary installation path * DONE (PharmacoGx)
PharmacoGx.Rcheck/tests/testthat.Rout
R version 4.0.3 (2020-10-10) -- "Bunny-Wunnies Freak Out"
Copyright (C) 2020 The R Foundation for Statistical Computing
Platform: x86_64-pc-linux-gnu (64-bit)
R is free software and comes with ABSOLUTELY NO WARRANTY.
You are welcome to redistribute it under certain conditions.
Type 'license()' or 'licence()' for distribution details.
R is a collaborative project with many contributors.
Type 'contributors()' for more information and
'citation()' on how to cite R or R packages in publications.
Type 'demo()' for some demos, 'help()' for on-line help, or
'help.start()' for an HTML browser interface to help.
Type 'q()' to quit R.
> Sys.unsetenv("R_TESTS")
>
> library(testthat)
> library(PharmacoGx)
Loading required package: CoreGx
Attaching package: ‘PharmacoGx’
The following objects are masked from ‘package:CoreGx’:
amcc, connectivityScore, cosinePerm, gwc, mcc
>
> test_check("PharmacoGx")
[1] NA 3
[1] 1 2 Inf
[1] NA 3
[1] 1 2 Inf
|
| | 0%
|
|======================================================================| 100%
|
| | 0%
|
|======================================================================| 100%
[1] 1 1 -1
[1] 0
[1] 0
[,1] [,2] [,3]
lower_bounds 0 0 0
upper_bounds 1 1 -1
|
| | 0%
|
|======================================================================| 100%
|
| | 0%
|
|======================================================================| 100%
|
| | 0%
|
|======================================================================| 100%
|
| | 0%
|
|======================================================================| 100%
|
| | 0%
|
|======================================================================| 100%
|
| | 0%
|
|======================================================================| 100%
|
| | 0%
|
|======================================================================| 100%
══ testthat results ═══════════════════════════════════════════════════════════
[ OK: 127 | SKIPPED: 0 | WARNINGS: 0 | FAILED: 0 ]
>
> proc.time()
user system elapsed
144.416 36.991 173.533
PharmacoGx.Rcheck/PharmacoGx-Ex.timings
| name | user | system | elapsed | |
| PharmacoSet-class | 35.255 | 0.568 | 35.944 | |
| PharmacoSet | 0.001 | 0.000 | 0.002 | |
| amcc | 2.799 | 0.831 | 3.517 | |
| availablePSets | 0.001 | 0.000 | 0.000 | |
| cellInfo-set-PharmacoSet-data.frame-method | 1.289 | 0.028 | 1.317 | |
| checkPsetStructure | 1.632 | 0.044 | 1.674 | |
| computeABC | 2.721 | 1.406 | 3.999 | |
| computeAUC | 1.959 | 0.898 | 2.590 | |
| computeAmax | 1.655 | 0.717 | 2.143 | |
| computeICn | 3.099 | 1.529 | 4.254 | |
| computeSlope | 0.006 | 0.000 | 0.006 | |
| connectivityScore | 0.067 | 0.000 | 0.066 | |
| cosinePerm | 0.052 | 0.003 | 0.079 | |
| downloadPSet | 0 | 0 | 0 | |
| downloadPertSig | 0 | 0 | 0 | |
| drugDoseResponseCurve | 0 | 0 | 0 | |
| drugInfo-set | 1.211 | 0.022 | 1.233 | |
| drugInfo | 1.756 | 0.033 | 1.852 | |
| drugNames-set | 1.432 | 0.023 | 1.471 | |
| drugNames | 1.620 | 0.018 | 1.639 | |
| drugPerturbationSig | 4.033 | 0.369 | 4.359 | |
| drugSensitivitySig | 2.370 | 0.383 | 2.727 | |
| fNames-set-PharmacoSet-character-character-method | 1.858 | 0.035 | 1.892 | |
| filterNoisyCurves | 1.216 | 0.130 | 1.317 | |
| gwc | 1.060 | 0.023 | 1.082 | |
| logLogisticRegression | 1.802 | 0.930 | 2.774 | |
| mDataNames-PharmacoSet-method | 1.491 | 0.039 | 1.530 | |
| mcc | 3.577 | 0.877 | 4.289 | |
| plot.PharmacoSig | 2.479 | 0.369 | 2.822 | |
| show-PharmacoSet-method | 1.408 | 0.006 | 1.413 | |
| show-PharmacoSig-method | 2.225 | 0.236 | 2.456 | |
| showSigAnnot | 1.738 | 0.248 | 1.953 | |
| subsetTo | 1.153 | 0.023 | 1.176 | |
| summarizeMolecularProfiles | 0.190 | 0.004 | 0.191 | |
| summarizeSensitivityProfiles | 0.056 | 0.000 | 0.056 | |