| Back to Multiple platform build/check report for BioC 3.11 |
|
This page was generated on 2020-10-17 11:57:20 -0400 (Sat, 17 Oct 2020).
| TO THE DEVELOPERS/MAINTAINERS OF THE PAIRADISE PACKAGE: Please make sure to use the following settings in order to reproduce any error or warning you see on this page. |
| Package 1258/1905 | Hostname | OS / Arch | INSTALL | BUILD | CHECK | BUILD BIN | ||||||
| PAIRADISE 1.4.1 Qiang Hu
| malbec2 | Linux (Ubuntu 18.04.4 LTS) / x86_64 | OK | OK | OK | |||||||
| tokay2 | Windows Server 2012 R2 Standard / x64 | [ OK ] | OK | OK | OK | |||||||
| machv2 | macOS 10.14.6 Mojave / x86_64 | OK | OK | OK | OK |
| Package: PAIRADISE |
| Version: 1.4.1 |
| Command: C:\cygwin\bin\curl.exe -O https://malbec2.bioconductor.org/BBS/3.11/bioc/src/contrib/PAIRADISE_1.4.1.tar.gz && rm -rf PAIRADISE.buildbin-libdir && mkdir PAIRADISE.buildbin-libdir && C:\Users\biocbuild\bbs-3.11-bioc\R\bin\R.exe CMD INSTALL --merge-multiarch --build --library=PAIRADISE.buildbin-libdir PAIRADISE_1.4.1.tar.gz && C:\Users\biocbuild\bbs-3.11-bioc\R\bin\R.exe CMD INSTALL PAIRADISE_1.4.1.zip && rm PAIRADISE_1.4.1.tar.gz PAIRADISE_1.4.1.zip |
| StartedAt: 2020-10-16 18:52:24 -0400 (Fri, 16 Oct 2020) |
| EndedAt: 2020-10-16 18:53:07 -0400 (Fri, 16 Oct 2020) |
| EllapsedTime: 43.2 seconds |
| RetCode: 0 |
| Status: OK |
##############################################################################
##############################################################################
###
### Running command:
###
### C:\cygwin\bin\curl.exe -O https://malbec2.bioconductor.org/BBS/3.11/bioc/src/contrib/PAIRADISE_1.4.1.tar.gz && rm -rf PAIRADISE.buildbin-libdir && mkdir PAIRADISE.buildbin-libdir && C:\Users\biocbuild\bbs-3.11-bioc\R\bin\R.exe CMD INSTALL --merge-multiarch --build --library=PAIRADISE.buildbin-libdir PAIRADISE_1.4.1.tar.gz && C:\Users\biocbuild\bbs-3.11-bioc\R\bin\R.exe CMD INSTALL PAIRADISE_1.4.1.zip && rm PAIRADISE_1.4.1.tar.gz PAIRADISE_1.4.1.zip
###
##############################################################################
##############################################################################
% Total % Received % Xferd Average Speed Time Time Time Current
Dload Upload Total Spent Left Speed
0 0 0 0 0 0 0 0 --:--:-- --:--:-- --:--:-- 0
100 30462 100 30462 0 0 531k 0 --:--:-- --:--:-- --:--:-- 607k
install for i386
* installing *source* package 'PAIRADISE' ...
** using staged installation
** R
** data
** byte-compile and prepare package for lazy loading
** help
*** installing help indices
converting help for package 'PAIRADISE'
finding HTML links ... done
PAIRADISE html
PDseDataSet html
PDseDataSetFromMat html
clean.data html
counts html
load.data html
logit html
loglikelihood html
optimize1 html
optimize2 html
pairadise-FUN html
results html
sample_dataset html
sigmoid html
** building package indices
** installing vignettes
** testing if installed package can be loaded from temporary location
** testing if installed package can be loaded from final location
** testing if installed package keeps a record of temporary installation path
install for x64
* installing *source* package 'PAIRADISE' ...
** testing if installed package can be loaded
* MD5 sums
packaged installation of 'PAIRADISE' as PAIRADISE_1.4.1.zip
* DONE (PAIRADISE)
* installing to library 'C:/Users/biocbuild/bbs-3.11-bioc/R/library'
package 'PAIRADISE' successfully unpacked and MD5 sums checked