| Back to Multiple platform build/check report for BioC 3.11 |
|
This page was generated on 2020-10-17 11:55:18 -0400 (Sat, 17 Oct 2020).
| TO THE DEVELOPERS/MAINTAINERS OF THE Onassis PACKAGE: Please make sure to use the following settings in order to reproduce any error or warning you see on this page. |
| Package 1229/1905 | Hostname | OS / Arch | INSTALL | BUILD | CHECK | BUILD BIN | ||||||
| Onassis 1.10.0 Eugenia Galeota
| malbec2 | Linux (Ubuntu 18.04.4 LTS) / x86_64 | OK | OK | [ OK ] | |||||||
| tokay2 | Windows Server 2012 R2 Standard / x64 | OK | OK | OK | OK | |||||||
| machv2 | macOS 10.14.6 Mojave / x86_64 | OK | OK | OK | OK |
| Package: Onassis |
| Version: 1.10.0 |
| Command: /home/biocbuild/bbs-3.11-bioc/R/bin/R CMD check --install=check:Onassis.install-out.txt --library=/home/biocbuild/bbs-3.11-bioc/R/library --no-vignettes --timings Onassis_1.10.0.tar.gz |
| StartedAt: 2020-10-17 03:48:28 -0400 (Sat, 17 Oct 2020) |
| EndedAt: 2020-10-17 03:50:40 -0400 (Sat, 17 Oct 2020) |
| EllapsedTime: 132.6 seconds |
| RetCode: 0 |
| Status: OK |
| CheckDir: Onassis.Rcheck |
| Warnings: 0 |
##############################################################################
##############################################################################
###
### Running command:
###
### /home/biocbuild/bbs-3.11-bioc/R/bin/R CMD check --install=check:Onassis.install-out.txt --library=/home/biocbuild/bbs-3.11-bioc/R/library --no-vignettes --timings Onassis_1.10.0.tar.gz
###
##############################################################################
##############################################################################
* using log directory ‘/home/biocbuild/bbs-3.11-bioc/meat/Onassis.Rcheck’
* using R version 4.0.3 (2020-10-10)
* using platform: x86_64-pc-linux-gnu (64-bit)
* using session charset: UTF-8
* using option ‘--no-vignettes’
* checking for file ‘Onassis/DESCRIPTION’ ... OK
* this is package ‘Onassis’ version ‘1.10.0’
* package encoding: UTF-8
* checking package namespace information ... OK
* checking package dependencies ... OK
* checking if this is a source package ... OK
* checking if there is a namespace ... OK
* checking for hidden files and directories ... OK
* checking for portable file names ... OK
* checking for sufficient/correct file permissions ... OK
* checking whether package ‘Onassis’ can be installed ... OK
* checking installed package size ... OK
* checking package directory ... OK
* checking ‘build’ directory ... OK
* checking DESCRIPTION meta-information ... NOTE
Package listed in more than one of Depends, Imports, Suggests, Enhances:
‘data.table’
A package should be listed in only one of these fields.
* checking top-level files ... OK
* checking for left-over files ... OK
* checking index information ... OK
* checking package subdirectories ... OK
* checking R files for non-ASCII characters ... OK
* checking R files for syntax errors ... OK
* checking whether the package can be loaded ... OK
* checking whether the package can be loaded with stated dependencies ... OK
* checking whether the package can be unloaded cleanly ... OK
* checking whether the namespace can be loaded with stated dependencies ... OK
* checking whether the namespace can be unloaded cleanly ... OK
* checking dependencies in R code ... NOTE
Namespaces in Imports field not imported from:
‘DT’ ‘Rtsne’ ‘clusteval’ ‘dendextend’ ‘ggfortify’ ‘ggplot2’ ‘knitr’
‘stats’
All declared Imports should be used.
* checking S3 generic/method consistency ... OK
* checking replacement functions ... OK
* checking foreign function calls ... OK
* checking R code for possible problems ... NOTE
annotate,data.frame-character-character: no visible binding for global
variable ‘sample_id’
annotateDF,EntityFinder-data.frame-character-CMoptions: no visible
binding for global variable ‘ID’
annotateDF,EntityFinder-data.frame-character-CMoptions: no visible
binding for global variable ‘NEW’
collapse,Onassis: no visible global function definition for ‘as.dist’
collapse,Onassis: no visible global function definition for ‘hclust’
collapse,Onassis: no visible global function definition for ‘cutree’
compare,Onassis: no visible global function definition for ‘p.adjust’
Undefined global functions or variables:
ID NEW as.dist cutree hclust p.adjust sample_id
Consider adding
importFrom("stats", "as.dist", "cutree", "hclust", "p.adjust")
to your NAMESPACE file.
* checking Rd files ... OK
* checking Rd metadata ... OK
* checking Rd cross-references ... OK
* checking for missing documentation entries ... OK
* checking for code/documentation mismatches ... OK
* checking Rd \usage sections ... OK
* checking Rd contents ... OK
* checking for unstated dependencies in examples ... OK
* checking files in ‘vignettes’ ... OK
* checking examples ... OK
Examples with CPU (user + system) or elapsed time > 5s
user system elapsed
EntityFinder 16.907 0.505 5.316
compare 10.635 0.221 8.258
collapse 6.889 0.163 2.966
annotate 6.055 0.190 2.253
sim 5.832 0.160 3.864
* checking for unstated dependencies in vignettes ... OK
* checking package vignettes in ‘inst/doc’ ... OK
* checking running R code from vignettes ... SKIPPED
* checking re-building of vignette outputs ... SKIPPED
* checking PDF version of manual ... OK
* DONE
Status: 3 NOTEs
See
‘/home/biocbuild/bbs-3.11-bioc/meat/Onassis.Rcheck/00check.log’
for details.
Onassis.Rcheck/00install.out
############################################################################## ############################################################################## ### ### Running command: ### ### /home/biocbuild/bbs-3.11-bioc/R/bin/R CMD INSTALL Onassis ### ############################################################################## ############################################################################## * installing to library ‘/home/biocbuild/bbs-3.11-bioc/R/library’ * installing *source* package ‘Onassis’ ... ** using staged installation ** R ** inst ** byte-compile and prepare package for lazy loading ** help *** installing help indices ** building package indices ** installing vignettes ** testing if installed package can be loaded from temporary location ** testing if installed package can be loaded from final location ** testing if installed package keeps a record of temporary installation path * DONE (Onassis)
Onassis.Rcheck/Onassis-Ex.timings
| name | user | system | elapsed | |
| CMdictionary-class | 0.001 | 0.000 | 0.001 | |
| CMdictionary | 0 | 0 | 0 | |
| CMoptions-class | 0.01 | 0.00 | 0.01 | |
| CMoptions | 0.004 | 0.000 | 0.003 | |
| CaseMatch | 0.011 | 0.000 | 0.011 | |
| EntityFinder-class | 0.086 | 0.000 | 0.303 | |
| EntityFinder | 16.907 | 0.505 | 5.316 | |
| FindAllMatches | 0.038 | 0.000 | 0.018 | |
| GEOHandler-functions | 0.001 | 0.000 | 0.001 | |
| Onassis | 0.005 | 0.000 | 0.001 | |
| OrderIndependentLookup | 0.033 | 0.000 | 0.017 | |
| SearchStrategy | 0.030 | 0.004 | 0.018 | |
| Similarity-class | 0.045 | 0.004 | 0.025 | |
| Similarity | 1.881 | 0.072 | 0.648 | |
| Stemmer | 0.019 | 0.001 | 0.020 | |
| StopWords | 0.015 | 0.004 | 0.019 | |
| SynonymType | 0.02 | 0.00 | 0.02 | |
| annotate | 6.055 | 0.190 | 2.253 | |
| annotateDF | 2.141 | 0.072 | 0.728 | |
| collapse | 6.889 | 0.163 | 2.966 | |
| compare | 10.635 | 0.221 | 8.258 | |
| dictInfo | 0.001 | 0.000 | 0.001 | |
| dictRef | 0.003 | 0.000 | 0.003 | |
| dictTypes | 0.003 | 0.000 | 0.003 | |
| dict_location | 0.001 | 0.000 | 0.001 | |
| dictionary | 0.001 | 0.000 | 0.002 | |
| entities | 0.003 | 0.000 | 0.003 | |
| experiment_types | 0.001 | 0.000 | 0.000 | |
| filterTerms | 0.068 | 0.008 | 0.076 | |
| filterconcepts | 1.071 | 0.084 | 0.570 | |
| findEntities | 0.939 | 0.056 | 0.450 | |
| findHealthy | 0.100 | 0.004 | 0.061 | |
| getGEOMetadata | 0.000 | 0.000 | 0.001 | |
| groupConfig | 0.109 | 0.000 | 0.057 | |
| groupsim | 0.295 | 0.004 | 0.188 | |
| groupwiseConfigRef | 0.042 | 0.000 | 0.042 | |
| icConfig | 0.001 | 0.000 | 0.000 | |
| listCMOptions | 0.000 | 0.002 | 0.001 | |
| listSimilarities | 0.037 | 0.002 | 0.039 | |
| mergeonassis | 2.319 | 0.116 | 0.805 | |
| multisim | 2.428 | 0.133 | 1.441 | |
| ontology | 0.052 | 0.004 | 0.013 | |
| organism_types | 0.000 | 0.000 | 0.001 | |
| pairsim | 0.233 | 0.000 | 0.153 | |
| pairwiseConfig | 0.350 | 0.000 | 0.158 | |
| pairwiseConfigRef | 0.071 | 0.000 | 0.071 | |
| paramValueIndex | 0.019 | 0.000 | 0.019 | |
| samplesim | 1.669 | 0.076 | 0.855 | |
| scores | 0.001 | 0.000 | 0.001 | |
| sim | 5.832 | 0.160 | 3.864 | |
| simil | 0.000 | 0.001 | 0.001 | |
| similarityInstance | 0.000 | 0.002 | 0.001 | |
| typeSystemRef | 0.008 | 0.001 | 0.009 | |