| Back to Multiple platform build/check report for BioC 3.11 |
|
This page was generated on 2020-01-16 13:29:15 -0500 (Thu, 16 Jan 2020).
| Package 1172/1818 | Hostname | OS / Arch | INSTALL | BUILD | CHECK | BUILD BIN | ||||||
| OLIN 1.65.0 Matthias Futschik
| malbec2 | Linux (Ubuntu 18.04.3 LTS) / x86_64 | OK | OK | OK | |||||||
| tokay2 | Windows Server 2012 R2 Standard / x64 | OK | OK | OK | OK | |||||||
| celaya2 | OS X 10.11.6 El Capitan / x86_64 | OK | OK | [ OK ] | OK |
| Package: OLIN |
| Version: 1.65.0 |
| Command: /Library/Frameworks/R.framework/Versions/Current/Resources/bin/R CMD check --install=check:OLIN.install-out.txt --library=/Library/Frameworks/R.framework/Versions/Current/Resources/library --no-vignettes --timings OLIN_1.65.0.tar.gz |
| StartedAt: 2020-01-16 07:03:51 -0500 (Thu, 16 Jan 2020) |
| EndedAt: 2020-01-16 07:05:27 -0500 (Thu, 16 Jan 2020) |
| EllapsedTime: 96.1 seconds |
| RetCode: 0 |
| Status: OK |
| CheckDir: OLIN.Rcheck |
| Warnings: 0 |
##############################################################################
##############################################################################
###
### Running command:
###
### /Library/Frameworks/R.framework/Versions/Current/Resources/bin/R CMD check --install=check:OLIN.install-out.txt --library=/Library/Frameworks/R.framework/Versions/Current/Resources/library --no-vignettes --timings OLIN_1.65.0.tar.gz
###
##############################################################################
##############################################################################
* using log directory ‘/Users/biocbuild/bbs-3.11-bioc/meat/OLIN.Rcheck’
* using R Under development (unstable) (2019-12-14 r77572)
* using platform: x86_64-apple-darwin15.6.0 (64-bit)
* using session charset: UTF-8
* using option ‘--no-vignettes’
* checking for file ‘OLIN/DESCRIPTION’ ... OK
* this is package ‘OLIN’ version ‘1.65.0’
* checking package namespace information ... OK
* checking package dependencies ... OK
* checking if this is a source package ... OK
* checking if there is a namespace ... OK
* checking for hidden files and directories ... OK
* checking for portable file names ... OK
* checking for sufficient/correct file permissions ... OK
* checking whether package ‘OLIN’ can be installed ... OK
* checking installed package size ... OK
* checking package directory ... OK
* checking ‘build’ directory ... OK
* checking DESCRIPTION meta-information ... NOTE
Malformed Description field: should contain one or more complete sentences.
Packages listed in more than one of Depends, Imports, Suggests, Enhances:
‘marray’ ‘methods’
A package should be listed in only one of these fields.
* checking top-level files ... OK
* checking for left-over files ... OK
* checking index information ... OK
* checking package subdirectories ... OK
* checking R files for non-ASCII characters ... OK
* checking R files for syntax errors ... OK
* checking whether the package can be loaded ... OK
* checking whether the package can be loaded with stated dependencies ... OK
* checking whether the package can be unloaded cleanly ... OK
* checking whether the namespace can be loaded with stated dependencies ... OK
* checking whether the namespace can be unloaded cleanly ... OK
* checking dependencies in R code ... NOTE
'library' or 'require' call to ‘convert’ in package code.
Please use :: or requireNamespace() instead.
See section 'Suggested packages' in the 'Writing R Extensions' manual.
Package in Depends field not imported from: ‘locfit’
These packages need to be imported from (in the NAMESPACE file)
for when this namespace is loaded but not attached.
* checking S3 generic/method consistency ... OK
* checking replacement functions ... OK
* checking foreign function calls ... OK
* checking R code for possible problems ... NOTE
ino: no visible global function definition for ‘locfit’
ino: no visible global function definition for ‘predict’
lin: no visible global function definition for ‘locfit’
lin: no visible global function definition for ‘predict’
oin: no visible global function definition for ‘gcvplot’
oin: no visible global function definition for ‘locfit’
oin: no visible global function definition for ‘predict’
olin: no visible global function definition for ‘gcv’
olin: no visible global function definition for ‘locfit’
olin: no visible global function definition for ‘predict’
Undefined global functions or variables:
gcv gcvplot locfit predict
Consider adding
importFrom("stats", "predict")
to your NAMESPACE file.
* checking Rd files ... OK
* checking Rd metadata ... OK
* checking Rd cross-references ... OK
* checking for missing documentation entries ... OK
* checking for code/documentation mismatches ... OK
* checking Rd \usage sections ... OK
* checking Rd contents ... OK
* checking for unstated dependencies in examples ... OK
* checking contents of ‘data’ directory ... OK
* checking data for non-ASCII characters ... OK
* checking data for ASCII and uncompressed saves ... OK
* checking sizes of PDF files under ‘inst/doc’ ... OK
* checking files in ‘vignettes’ ... OK
* checking examples ... OK
Examples with CPU (user + system) or elapsed time > 5s
user system elapsed
olin 25.369 0.739 26.118
* checking for unstated dependencies in vignettes ... OK
* checking package vignettes in ‘inst/doc’ ... OK
* checking running R code from vignettes ... SKIPPED
* checking re-building of vignette outputs ... SKIPPED
* checking PDF version of manual ... OK
* DONE
Status: 3 NOTEs
See
‘/Users/biocbuild/bbs-3.11-bioc/meat/OLIN.Rcheck/00check.log’
for details.
OLIN.Rcheck/00install.out
############################################################################## ############################################################################## ### ### Running command: ### ### /Library/Frameworks/R.framework/Versions/Current/Resources/bin/R CMD INSTALL OLIN ### ############################################################################## ############################################################################## * installing to library ‘/Library/Frameworks/R.framework/Versions/4.0/Resources/library’ * installing *source* package ‘OLIN’ ... ** using staged installation ** R ** data ** inst ** byte-compile and prepare package for lazy loading ** help *** installing help indices ** building package indices ** installing vignettes ** testing if installed package can be loaded from temporary location ** testing if installed package can be loaded from final location ** testing if installed package keeps a record of temporary installation path * DONE (OLIN)
OLIN.Rcheck/OLIN-Ex.timings
| name | user | system | elapsed | |
| anovaint | 0.244 | 0.042 | 0.285 | |
| anovapin | 0.117 | 0.038 | 0.155 | |
| anovaplate | 0.117 | 0.045 | 0.162 | |
| anovaspatial | 0.258 | 0.082 | 0.340 | |
| backgroundCorrect2 | 0.692 | 0.109 | 0.808 | |
| bas | 0.099 | 0.021 | 0.123 | |
| colorbar.mxy | 0.075 | 0.036 | 0.111 | |
| fdr.int | 0.000 | 0.001 | 0.001 | |
| fdr.int2 | 0 | 0 | 0 | |
| fdr.spatial | 0.001 | 0.000 | 0.001 | |
| fdr.spatial2 | 0 | 0 | 0 | |
| fgbg.visu | 0.141 | 0.045 | 0.187 | |
| ino | 0.292 | 0.077 | 0.375 | |
| lin | 0.838 | 0.123 | 0.963 | |
| m2v | 0.076 | 0.025 | 0.103 | |
| ma.matrix | 0.471 | 0.025 | 0.497 | |
| ma.vector | 0.729 | 0.078 | 0.807 | |
| mxy.abs.plot | 0.127 | 0.019 | 0.150 | |
| mxy.plot | 0.097 | 0.021 | 0.120 | |
| mxy2.plot | 0.081 | 0.018 | 0.099 | |
| oin | 1.326 | 0.125 | 1.454 | |
| olin | 25.369 | 0.739 | 26.118 | |
| p.int | 0.001 | 0.001 | 0.001 | |
| p.int2 | 0.001 | 0.000 | 0.001 | |
| p.spatial | 0 | 0 | 0 | |
| p.spatial2 | 0.001 | 0.000 | 0.001 | |
| sig.mask | 0.000 | 0.000 | 0.001 | |
| sigint.plot | 0.000 | 0.000 | 0.001 | |
| sigint.plot2 | 0.001 | 0.001 | 0.000 | |
| sigxy.plot | 0.000 | 0.001 | 0.001 | |
| sigxy.plot2 | 0.001 | 0.001 | 0.001 | |
| v2m | 0.079 | 0.015 | 0.096 | |