| Back to Multiple platform build/check report for BioC 3.11 |
|
This page was generated on 2020-01-16 13:32:47 -0500 (Thu, 16 Jan 2020).
| Package 1165/1818 | Hostname | OS / Arch | INSTALL | BUILD | CHECK | BUILD BIN | ||||||
| NuPoP 1.37.0 Ji-Ping Wang
| malbec2 | Linux (Ubuntu 18.04.3 LTS) / x86_64 | OK | OK | OK | |||||||
| tokay2 | Windows Server 2012 R2 Standard / x64 | OK | OK | OK | OK | |||||||
| celaya2 | OS X 10.11.6 El Capitan / x86_64 | [ OK ] | OK | OK | OK |
| Package: NuPoP |
| Version: 1.37.0 |
| Command: /Library/Frameworks/R.framework/Versions/Current/Resources/bin/R CMD INSTALL NuPoP |
| StartedAt: 2020-01-15 18:06:02 -0500 (Wed, 15 Jan 2020) |
| EndedAt: 2020-01-15 18:06:19 -0500 (Wed, 15 Jan 2020) |
| EllapsedTime: 17.0 seconds |
| RetCode: 0 |
| Status: OK |
##############################################################################
##############################################################################
###
### Running command:
###
### /Library/Frameworks/R.framework/Versions/Current/Resources/bin/R CMD INSTALL NuPoP
###
##############################################################################
##############################################################################
* installing to library ‘/Library/Frameworks/R.framework/Versions/4.0/Resources/library’
* installing *source* package ‘NuPoP’ ...
** using staged installation
** libs
gfortran -fPIC -Wall -g -O2 -c vtbfb.f90 -o vtbfb.o
vtbfb.f90:13:32:
character*80 seqName,out1,out2; character*2 tpc
1
Warning: Unused variable ‘out2’ declared at (1) [-Wunused-variable]
gfortran -fPIC -Wall -g -O2 -c vtbfbNL4.f90 -o vtbfbNL4.o
clang -dynamiclib -Wl,-headerpad_max_install_names -undefined dynamic_lookup -single_module -multiply_defined suppress -L/Library/Frameworks/R.framework/Resources/lib -L/usr/local/lib -o NuPoP.so vtbfb.o vtbfbNL4.o -L/usr/local/gfortran/lib/gcc/x86_64-apple-darwin15/6.1.0 -L/usr/local/gfortran/lib -lgfortran -lquadmath -lm -F/Library/Frameworks/R.framework/.. -framework R -Wl,-framework -Wl,CoreFoundation
installing to /Library/Frameworks/R.framework/Versions/4.0/Resources/library/00LOCK-NuPoP/00new/NuPoP/libs
** R
** inst
** byte-compile and prepare package for lazy loading
** help
*** installing help indices
** building package indices
** installing vignettes
** testing if installed package can be loaded from temporary location
** checking absolute paths in shared objects and dynamic libraries
** testing if installed package can be loaded from final location
** testing if installed package keeps a record of temporary installation path
* DONE (NuPoP)