| Back to Multiple platform build/check report for BioC 3.11 |
|
This page was generated on 2020-01-16 13:52:12 -0500 (Thu, 16 Jan 2020).
| Package 1156/1818 | Hostname | OS / Arch | INSTALL | BUILD | CHECK | BUILD BIN | ||||||
| NormalyzerDE 1.5.0 Jakob Willforss
| malbec2 | Linux (Ubuntu 18.04.3 LTS) / x86_64 | OK | OK | OK | |||||||
| tokay2 | Windows Server 2012 R2 Standard / x64 | OK | OK | OK | OK | |||||||
| celaya2 | OS X 10.11.6 El Capitan / x86_64 | OK | OK | [ OK ] | OK |
| Package: NormalyzerDE |
| Version: 1.5.0 |
| Command: /Library/Frameworks/R.framework/Versions/Current/Resources/bin/R CMD check --install=check:NormalyzerDE.install-out.txt --library=/Library/Frameworks/R.framework/Versions/Current/Resources/library --no-vignettes --timings NormalyzerDE_1.5.0.tar.gz |
| StartedAt: 2020-01-16 07:00:46 -0500 (Thu, 16 Jan 2020) |
| EndedAt: 2020-01-16 07:09:07 -0500 (Thu, 16 Jan 2020) |
| EllapsedTime: 501.8 seconds |
| RetCode: 0 |
| Status: OK |
| CheckDir: NormalyzerDE.Rcheck |
| Warnings: 0 |
##############################################################################
##############################################################################
###
### Running command:
###
### /Library/Frameworks/R.framework/Versions/Current/Resources/bin/R CMD check --install=check:NormalyzerDE.install-out.txt --library=/Library/Frameworks/R.framework/Versions/Current/Resources/library --no-vignettes --timings NormalyzerDE_1.5.0.tar.gz
###
##############################################################################
##############################################################################
* using log directory ‘/Users/biocbuild/bbs-3.11-bioc/meat/NormalyzerDE.Rcheck’
* using R Under development (unstable) (2019-12-14 r77572)
* using platform: x86_64-apple-darwin15.6.0 (64-bit)
* using session charset: UTF-8
* using option ‘--no-vignettes’
* checking for file ‘NormalyzerDE/DESCRIPTION’ ... OK
* this is package ‘NormalyzerDE’ version ‘1.5.0’
* package encoding: UTF-8
* checking package namespace information ... OK
* checking package dependencies ... OK
* checking if this is a source package ... OK
* checking if there is a namespace ... OK
* checking for hidden files and directories ... NOTE
Found the following hidden files and directories:
.travis.yml
These were most likely included in error. See section ‘Package
structure’ in the ‘Writing R Extensions’ manual.
* checking for portable file names ... OK
* checking for sufficient/correct file permissions ... OK
* checking whether package ‘NormalyzerDE’ can be installed ... OK
* checking installed package size ... OK
* checking package directory ... OK
* checking ‘build’ directory ... OK
* checking DESCRIPTION meta-information ... OK
* checking top-level files ... OK
* checking for left-over files ... OK
* checking index information ... OK
* checking package subdirectories ... OK
* checking R files for non-ASCII characters ... OK
* checking R files for syntax errors ... OK
* checking whether the package can be loaded ... OK
* checking whether the package can be loaded with stated dependencies ... OK
* checking whether the package can be unloaded cleanly ... OK
* checking whether the namespace can be loaded with stated dependencies ... OK
* checking whether the namespace can be unloaded cleanly ... OK
* checking dependencies in R code ... OK
* checking S3 generic/method consistency ... OK
* checking replacement functions ... OK
* checking foreign function calls ... OK
* checking R code for possible problems ... OK
* checking Rd files ... OK
* checking Rd metadata ... OK
* checking Rd cross-references ... OK
* checking for missing documentation entries ... OK
* checking for code/documentation mismatches ... OK
* checking Rd \usage sections ... OK
* checking Rd contents ... OK
* checking for unstated dependencies in examples ... OK
* checking contents of ‘data’ directory ... OK
* checking data for non-ASCII characters ... OK
* checking data for ASCII and uncompressed saves ... OK
* checking sizes of PDF files under ‘inst/doc’ ... OK
* checking files in ‘vignettes’ ... OK
* checking examples ... OK
Examples with CPU (user + system) or elapsed time > 5s
user system elapsed
generatePlots 26.328 0.815 27.170
NormalyzerEvaluationResults 10.164 0.555 10.720
analyzeNormalizations 8.851 0.090 8.941
writeNormalizedDatasets 8.197 0.090 8.287
getSmoothedRTNormalizedMatrix 5.812 0.190 6.006
* checking for unstated dependencies in ‘tests’ ... OK
* checking tests ...
Running ‘testthat.R’
OK
* checking for unstated dependencies in vignettes ... OK
* checking package vignettes in ‘inst/doc’ ... OK
* checking running R code from vignettes ... SKIPPED
* checking re-building of vignette outputs ... SKIPPED
* checking PDF version of manual ... OK
* DONE
Status: 1 NOTE
See
‘/Users/biocbuild/bbs-3.11-bioc/meat/NormalyzerDE.Rcheck/00check.log’
for details.
NormalyzerDE.Rcheck/00install.out
############################################################################## ############################################################################## ### ### Running command: ### ### /Library/Frameworks/R.framework/Versions/Current/Resources/bin/R CMD INSTALL NormalyzerDE ### ############################################################################## ############################################################################## * installing to library ‘/Library/Frameworks/R.framework/Versions/4.0/Resources/library’ * installing *source* package ‘NormalyzerDE’ ... ** using staged installation ** R ** data ** inst ** byte-compile and prepare package for lazy loading ** help *** installing help indices ** building package indices ** installing vignettes ** testing if installed package can be loaded from temporary location ** testing if installed package can be loaded from final location ** testing if installed package keeps a record of temporary installation path * DONE (NormalyzerDE)
NormalyzerDE.Rcheck/tests/testthat.Rout
R Under development (unstable) (2019-12-14 r77572) -- "Unsuffered Consequences"
Copyright (C) 2019 The R Foundation for Statistical Computing
Platform: x86_64-apple-darwin15.6.0 (64-bit)
R is free software and comes with ABSOLUTELY NO WARRANTY.
You are welcome to redistribute it under certain conditions.
Type 'license()' or 'licence()' for distribution details.
R is a collaborative project with many contributors.
Type 'contributors()' for more information and
'citation()' on how to cite R or R packages in publications.
Type 'demo()' for some demos, 'help()' for on-line help, or
'help.start()' for an HTML browser interface to help.
Type 'q()' to quit R.
> library(testthat)
> library(NormalyzerDE)
> test_check("NormalyzerDE")
══ testthat results ═══════════════════════════════════════════════════════════
[ OK: 85 | SKIPPED: 0 | WARNINGS: 0 | FAILED: 0 ]
>
> proc.time()
user system elapsed
51.121 2.357 53.436
NormalyzerDE.Rcheck/NormalyzerDE-Ex.timings
| name | user | system | elapsed | |
| NormalyzerEvaluationResults | 10.164 | 0.555 | 10.720 | |
| NormalyzerResults | 0.173 | 0.002 | 0.176 | |
| NormalyzerStatistics | 0.040 | 0.008 | 0.048 | |
| analyzeNormalizations | 8.851 | 0.090 | 8.941 | |
| calculateContrasts | 0.133 | 0.008 | 0.142 | |
| generateAnnotatedMatrix | 0.071 | 0.008 | 0.079 | |
| generatePlots | 26.328 | 0.815 | 27.170 | |
| generateStatsReport | 4.069 | 0.039 | 4.118 | |
| getRTNormalizedMatrix | 2.733 | 0.105 | 2.838 | |
| getSmoothedRTNormalizedMatrix | 5.812 | 0.190 | 6.006 | |
| getVerifiedNormalyzerObject | 0.082 | 0.003 | 0.085 | |
| globalIntensityNormalization | 0.008 | 0.002 | 0.010 | |
| loadData | 0.000 | 0.000 | 0.001 | |
| loadDesign | 0.000 | 0.001 | 0.000 | |
| meanNormalization | 0.005 | 0.001 | 0.007 | |
| medianNormalization | 0.008 | 0.002 | 0.011 | |
| normMethods | 3.332 | 0.051 | 3.383 | |
| normalyzer | 0.000 | 0.000 | 0.001 | |
| normalyzerDE | 2.298 | 0.016 | 2.320 | |
| performCyclicLoessNormalization | 0.013 | 0.003 | 0.016 | |
| performGlobalRLRNormalization | 0.039 | 0.002 | 0.040 | |
| performQuantileNormalization | 0.003 | 0.002 | 0.004 | |
| performSMADNormalization | 0.003 | 0.001 | 0.005 | |
| performVSNNormalization | 0.038 | 0.003 | 0.041 | |
| reduceTechnicalReplicates | 0.044 | 0.001 | 0.044 | |
| setupJobDir | 0.001 | 0.001 | 0.001 | |
| setupRawContrastObject | 0.019 | 0.002 | 0.019 | |
| setupRawDataObject | 0.021 | 0.001 | 0.022 | |
| setupTestData | 0.002 | 0.001 | 0.002 | |
| writeNormalizedDatasets | 8.197 | 0.090 | 8.287 | |