| Back to Multiple platform build/check report for BioC 3.11 |
|
This page was generated on 2020-10-17 11:57:17 -0400 (Sat, 17 Oct 2020).
| TO THE DEVELOPERS/MAINTAINERS OF THE NoRCE PACKAGE: Please make sure to use the following settings in order to reproduce any error or warning you see on this page. |
| Package 1199/1905 | Hostname | OS / Arch | INSTALL | BUILD | CHECK | BUILD BIN | ||||||
| NoRCE 1.0.0 Gulden Olgun
| malbec2 | Linux (Ubuntu 18.04.4 LTS) / x86_64 | OK | OK | OK | |||||||
| tokay2 | Windows Server 2012 R2 Standard / x64 | OK | OK | OK | [ OK ] | |||||||
| machv2 | macOS 10.14.6 Mojave / x86_64 | OK | OK | OK | OK |
| Package: NoRCE |
| Version: 1.0.0 |
| Command: rm -rf NoRCE.buildbin-libdir && mkdir NoRCE.buildbin-libdir && C:\Users\biocbuild\bbs-3.11-bioc\R\bin\R.exe CMD INSTALL --merge-multiarch --build --library=NoRCE.buildbin-libdir NoRCE_1.0.0.tar.gz |
| StartedAt: 2020-10-17 11:09:05 -0400 (Sat, 17 Oct 2020) |
| EndedAt: 2020-10-17 11:10:19 -0400 (Sat, 17 Oct 2020) |
| EllapsedTime: 73.7 seconds |
| RetCode: 0 |
| Status: OK |
| PackageFile: NoRCE_1.0.0.zip |
| PackageFileSize: 2.208 MiB |
##############################################################################
##############################################################################
###
### Running command:
###
### rm -rf NoRCE.buildbin-libdir && mkdir NoRCE.buildbin-libdir && C:\Users\biocbuild\bbs-3.11-bioc\R\bin\R.exe CMD INSTALL --merge-multiarch --build --library=NoRCE.buildbin-libdir NoRCE_1.0.0.tar.gz
###
##############################################################################
##############################################################################
install for i386
* installing *source* package 'NoRCE' ...
** using staged installation
** R
** data
*** moving datasets to lazyload DB
** inst
** byte-compile and prepare package for lazy loading
** help
*** installing help indices
converting help for package 'NoRCE'
finding HTML links ... done
KeggEnrichment html
NoRCE-class html
WikiEnrichment html
annGO html
assembly html
brain_disorder_ncRNA html
brain_mirna html
breastmRNA html
calculateCorr html
convertGMT html
convertGeneID html
corrbased html
corrbasedMrna html
createNetwork html
drawDotPlot html
extractBiotype html
filterBiotype html
geneGOEnricher html
genePathwayEnricher html
geneRegionGOEnricher html
geneRegionPathwayEnricher html
getGoDag html
getKeggDiagram html
getNearToExon html
getNearToIntron html
getReactomeDiagram html
getTADOverlap html
getUCSC html
getmiRNACount html
goEnrichment html
listTAD html
mirna html
mirnaGOEnricher html
mirnaPathwayEnricher html
mirnaRegionGOEnricher html
mirnaRegionPathwayEnricher html
mrna html
ncRegion html
packageCheck html
pathwayEnrichment html
predictmiTargets html
reactomeEnrichment html
setParameters html
tad_dmel html
tad_hg19 html
tad_hg38 html
tad_mm10 html
topEnrichment html
writeEnrichment html
** building package indices
** installing vignettes
** testing if installed package can be loaded from temporary location
** testing if installed package can be loaded from final location
** testing if installed package keeps a record of temporary installation path
install for x64
* installing *source* package 'NoRCE' ...
** testing if installed package can be loaded
* MD5 sums
packaged installation of 'NoRCE' as NoRCE_1.0.0.zip
* DONE (NoRCE)