| Back to Multiple platform build/check report for BioC 3.11 | 
  | 
This page was generated on 2020-01-16 13:39:47 -0500 (Thu, 16 Jan 2020).
| Package 1022/1818 | Hostname | OS / Arch | INSTALL | BUILD | CHECK | BUILD BIN | ||||||
| MethylMix 2.17.0 Olivier Gevaert 
  | malbec2 | Linux (Ubuntu 18.04.3 LTS) / x86_64 | OK | OK | OK | |||||||
| tokay2 | Windows Server 2012 R2 Standard / x64 | OK | OK | OK | OK | |||||||
| celaya2 | OS X 10.11.6 El Capitan / x86_64 | OK | OK | [ OK ] | OK | 
| Package: MethylMix | 
| Version: 2.17.0 | 
| Command: /Library/Frameworks/R.framework/Versions/Current/Resources/bin/R CMD check --install=check:MethylMix.install-out.txt --library=/Library/Frameworks/R.framework/Versions/Current/Resources/library --no-vignettes --timings MethylMix_2.17.0.tar.gz | 
| StartedAt: 2020-01-16 06:23:40 -0500 (Thu, 16 Jan 2020) | 
| EndedAt: 2020-01-16 06:27:13 -0500 (Thu, 16 Jan 2020) | 
| EllapsedTime: 212.9 seconds | 
| RetCode: 0 | 
| Status: OK | 
| CheckDir: MethylMix.Rcheck | 
| Warnings: 0 | 
##############################################################################
##############################################################################
###
### Running command:
###
###   /Library/Frameworks/R.framework/Versions/Current/Resources/bin/R CMD check --install=check:MethylMix.install-out.txt --library=/Library/Frameworks/R.framework/Versions/Current/Resources/library --no-vignettes --timings MethylMix_2.17.0.tar.gz
###
##############################################################################
##############################################################################
* using log directory ‘/Users/biocbuild/bbs-3.11-bioc/meat/MethylMix.Rcheck’
* using R Under development (unstable) (2019-12-14 r77572)
* using platform: x86_64-apple-darwin15.6.0 (64-bit)
* using session charset: UTF-8
* using option ‘--no-vignettes’
* checking for file ‘MethylMix/DESCRIPTION’ ... OK
* checking extension type ... Package
* this is package ‘MethylMix’ version ‘2.17.0’
* package encoding: UTF-8
* checking package namespace information ... OK
* checking package dependencies ... OK
* checking if this is a source package ... OK
* checking if there is a namespace ... OK
* checking for hidden files and directories ... OK
* checking for portable file names ... OK
* checking for sufficient/correct file permissions ... OK
* checking whether package ‘MethylMix’ can be installed ... OK
* checking installed package size ... OK
* checking package directory ... OK
* checking ‘build’ directory ... OK
* checking DESCRIPTION meta-information ... OK
* checking top-level files ... OK
* checking for left-over files ... OK
* checking index information ... OK
* checking package subdirectories ... OK
* checking R files for non-ASCII characters ... OK
* checking R files for syntax errors ... OK
* checking whether the package can be loaded ... OK
* checking whether the package can be loaded with stated dependencies ... OK
* checking whether the package can be unloaded cleanly ... OK
* checking whether the namespace can be loaded with stated dependencies ... OK
* checking whether the namespace can be unloaded cleanly ... OK
* checking dependencies in R code ... NOTE
Namespace in Imports field not imported from: ‘digest’
  All declared Imports should be used.
* checking S3 generic/method consistency ... OK
* checking replacement functions ... OK
* checking foreign function calls ... OK
* checking R code for possible problems ... OK
* checking Rd files ... OK
* checking Rd metadata ... OK
* checking Rd cross-references ... OK
* checking for missing documentation entries ... OK
* checking for code/documentation mismatches ... OK
* checking Rd \usage sections ... OK
* checking Rd contents ... OK
* checking for unstated dependencies in examples ... OK
* checking contents of ‘data’ directory ... OK
* checking data for non-ASCII characters ... OK
* checking data for ASCII and uncompressed saves ... OK
* checking files in ‘vignettes’ ... OK
* checking examples ... OK
Examples with CPU (user + system) or elapsed time > 5s
                      user system elapsed
MethylMix_PlotModel 38.559  0.500  40.619
MethylMix_Predict   32.183  0.287  33.666
MethylMix           30.267  0.970  31.266
* checking for unstated dependencies in ‘tests’ ... OK
* checking tests ...
  Running ‘testthat.R’
 OK
* checking for unstated dependencies in vignettes ... OK
* checking package vignettes in ‘inst/doc’ ... OK
* checking running R code from vignettes ... SKIPPED
* checking re-building of vignette outputs ... SKIPPED
* checking PDF version of manual ... OK
* DONE
Status: 1 NOTE
See
  ‘/Users/biocbuild/bbs-3.11-bioc/meat/MethylMix.Rcheck/00check.log’
for details.
MethylMix.Rcheck/00install.out
############################################################################## ############################################################################## ### ### Running command: ### ### /Library/Frameworks/R.framework/Versions/Current/Resources/bin/R CMD INSTALL MethylMix ### ############################################################################## ############################################################################## * installing to library ‘/Library/Frameworks/R.framework/Versions/4.0/Resources/library’ * installing *source* package ‘MethylMix’ ... ** using staged installation ** R ** data *** moving datasets to lazyload DB ** byte-compile and prepare package for lazy loading ** help *** installing help indices ** building package indices ** installing vignettes ** testing if installed package can be loaded from temporary location ** testing if installed package can be loaded from final location ** testing if installed package keeps a record of temporary installation path * DONE (MethylMix)
MethylMix.Rcheck/tests/testthat.Rout
R Under development (unstable) (2019-12-14 r77572) -- "Unsuffered Consequences"
Copyright (C) 2019 The R Foundation for Statistical Computing
Platform: x86_64-apple-darwin15.6.0 (64-bit)
R is free software and comes with ABSOLUTELY NO WARRANTY.
You are welcome to redistribute it under certain conditions.
Type 'license()' or 'licence()' for distribution details.
R is a collaborative project with many contributors.
Type 'contributors()' for more information and
'citation()' on how to cite R or R packages in publications.
Type 'demo()' for some demos, 'help()' for on-line help, or
'help.start()' for an HTML browser interface to help.
Type 'q()' to quit R.
> library(testthat)
> library(MethylMix)
> 
> test_check("MethylMix")
Found 251 samples with both methylation and expression data.
Correlating methylation data with gene expression...
Found 9 transcriptionally predictive genes.
Starting Beta mixture modeling.
Running Beta mixture model on 9 genes and on 251 samples.
ERBB2 :  2  components are best.
FAAH :  2  components are best.
FOXD1 :  2  components are best.
ME1 :  2  components are best.
MGMT :  2  components are best.
OAS1 :  2  components are best.
SOX10 :  2  components are best.
TRAF6 :  2  components are best.
ZNF217 :  2  components are best.
══ testthat results  ═══════════════════════════════════════════════════════════
[ OK: 2 | SKIPPED: 0 | WARNINGS: 1 | FAILED: 0 ]
> 
> proc.time()
   user  system elapsed 
 34.285   1.116  35.483 
MethylMix.Rcheck/MethylMix-Ex.timings
| name | user | system | elapsed | |
| ClusterProbes | 0.000 | 0.000 | 0.001 | |
| Download_DNAmethylation | 0.001 | 0.000 | 0.001 | |
| Download_GeneExpression | 0.001 | 0.000 | 0.001 | |
| GetData | 0.000 | 0.000 | 0.001 | |
| MethylMix | 30.267 | 0.970 | 31.266 | |
| MethylMix_ModelGeneExpression | 0.052 | 0.004 | 0.056 | |
| MethylMix_PlotModel | 38.559 | 0.500 | 40.619 | |
| MethylMix_Predict | 32.183 | 0.287 | 33.666 | |
| Preprocess_DNAmethylation | 0.000 | 0.001 | 0.001 | |
| Preprocess_GeneExpression | 0.001 | 0.001 | 0.001 | |