| Back to Multiple platform build/check report for BioC 3.11 |
|
This page was generated on 2020-10-17 11:57:00 -0400 (Sat, 17 Oct 2020).
| TO THE DEVELOPERS/MAINTAINERS OF THE MatrixGenerics PACKAGE: Please make sure to use the following settings in order to reproduce any error or warning you see on this page. |
| Package 996/1905 | Hostname | OS / Arch | INSTALL | BUILD | CHECK | BUILD BIN | ||||||
| MatrixGenerics 1.0.2 Peter Hickey
| malbec2 | Linux (Ubuntu 18.04.4 LTS) / x86_64 | OK | OK | OK | |||||||
| tokay2 | Windows Server 2012 R2 Standard / x64 | [ OK ] | OK | OK | OK | |||||||
| machv2 | macOS 10.14.6 Mojave / x86_64 | OK | OK | OK | OK |
| Package: MatrixGenerics |
| Version: 1.0.2 |
| Command: C:\cygwin\bin\curl.exe -O https://malbec2.bioconductor.org/BBS/3.11/bioc/src/contrib/MatrixGenerics_1.0.2.tar.gz && rm -rf MatrixGenerics.buildbin-libdir && mkdir MatrixGenerics.buildbin-libdir && C:\Users\biocbuild\bbs-3.11-bioc\R\bin\R.exe CMD INSTALL --merge-multiarch --build --library=MatrixGenerics.buildbin-libdir MatrixGenerics_1.0.2.tar.gz && C:\Users\biocbuild\bbs-3.11-bioc\R\bin\R.exe CMD INSTALL MatrixGenerics_1.0.2.zip && rm MatrixGenerics_1.0.2.tar.gz MatrixGenerics_1.0.2.zip |
| StartedAt: 2020-10-16 16:50:03 -0400 (Fri, 16 Oct 2020) |
| EndedAt: 2020-10-16 16:50:39 -0400 (Fri, 16 Oct 2020) |
| EllapsedTime: 36.6 seconds |
| RetCode: 0 |
| Status: OK |
##############################################################################
##############################################################################
###
### Running command:
###
### C:\cygwin\bin\curl.exe -O https://malbec2.bioconductor.org/BBS/3.11/bioc/src/contrib/MatrixGenerics_1.0.2.tar.gz && rm -rf MatrixGenerics.buildbin-libdir && mkdir MatrixGenerics.buildbin-libdir && C:\Users\biocbuild\bbs-3.11-bioc\R\bin\R.exe CMD INSTALL --merge-multiarch --build --library=MatrixGenerics.buildbin-libdir MatrixGenerics_1.0.2.tar.gz && C:\Users\biocbuild\bbs-3.11-bioc\R\bin\R.exe CMD INSTALL MatrixGenerics_1.0.2.zip && rm MatrixGenerics_1.0.2.tar.gz MatrixGenerics_1.0.2.zip
###
##############################################################################
##############################################################################
% Total % Received % Xferd Average Speed Time Time Time Current
Dload Upload Total Spent Left Speed
0 0 0 0 0 0 0 0 --:--:-- --:--:-- --:--:-- 0
100 29024 100 29024 0 0 444k 0 --:--:-- --:--:-- --:--:-- 497k
install for i386
* installing *source* package 'MatrixGenerics' ...
** using staged installation
** R
** byte-compile and prepare package for lazy loading
** help
*** installing help indices
converting help for package 'MatrixGenerics'
finding HTML links ... done
rowAlls html
rowAnyNAs html
rowAnys html
rowAvgsPerColSet html
rowCollapse html
rowCounts html
rowCummaxs html
rowCummins html
rowCumprods html
rowCumsums html
rowDiffs html
rowIQRDiffs html
rowIQRs html
rowLogSumExps html
rowMadDiffs html
rowMads html
rowMaxs html
rowMeans2 html
rowMedians html
rowMins html
rowOrderStats html
rowProds html
rowQuantiles html
rowRanges html
rowRanks html
rowSdDiffs html
rowSds html
rowSums2 html
rowTabulates html
rowVarDiffs html
rowVars html
rowWeightedMads html
rowWeightedMeans html
rowWeightedMedians html
rowWeightedSds html
rowWeightedVars html
** building package indices
** testing if installed package can be loaded from temporary location
** testing if installed package can be loaded from final location
** testing if installed package keeps a record of temporary installation path
install for x64
* installing *source* package 'MatrixGenerics' ...
** testing if installed package can be loaded
* MD5 sums
packaged installation of 'MatrixGenerics' as MatrixGenerics_1.0.2.zip
* DONE (MatrixGenerics)
* installing to library 'C:/Users/biocbuild/bbs-3.11-bioc/R/library'
package 'MatrixGenerics' successfully unpacked and MD5 sums checked