| Back to Multiple platform build/check report for BioC 3.11 |
|
This page was generated on 2020-10-17 11:55:12 -0400 (Sat, 17 Oct 2020).
| TO THE DEVELOPERS/MAINTAINERS OF THE MPRAnalyze PACKAGE: Please make sure to use the following settings in order to reproduce any error or warning you see on this page. |
| Package 1133/1905 | Hostname | OS / Arch | INSTALL | BUILD | CHECK | BUILD BIN | ||||||
| MPRAnalyze 1.6.0 Tal Ashuach
| malbec2 | Linux (Ubuntu 18.04.4 LTS) / x86_64 | OK | OK | [ OK ] | |||||||
| tokay2 | Windows Server 2012 R2 Standard / x64 | OK | OK | OK | OK | |||||||
| machv2 | macOS 10.14.6 Mojave / x86_64 | OK | OK | OK | OK |
| Package: MPRAnalyze |
| Version: 1.6.0 |
| Command: /home/biocbuild/bbs-3.11-bioc/R/bin/R CMD check --install=check:MPRAnalyze.install-out.txt --library=/home/biocbuild/bbs-3.11-bioc/R/library --no-vignettes --timings MPRAnalyze_1.6.0.tar.gz |
| StartedAt: 2020-10-17 03:25:26 -0400 (Sat, 17 Oct 2020) |
| EndedAt: 2020-10-17 03:28:44 -0400 (Sat, 17 Oct 2020) |
| EllapsedTime: 197.8 seconds |
| RetCode: 0 |
| Status: OK |
| CheckDir: MPRAnalyze.Rcheck |
| Warnings: 0 |
##############################################################################
##############################################################################
###
### Running command:
###
### /home/biocbuild/bbs-3.11-bioc/R/bin/R CMD check --install=check:MPRAnalyze.install-out.txt --library=/home/biocbuild/bbs-3.11-bioc/R/library --no-vignettes --timings MPRAnalyze_1.6.0.tar.gz
###
##############################################################################
##############################################################################
* using log directory ‘/home/biocbuild/bbs-3.11-bioc/meat/MPRAnalyze.Rcheck’
* using R version 4.0.3 (2020-10-10)
* using platform: x86_64-pc-linux-gnu (64-bit)
* using session charset: UTF-8
* using option ‘--no-vignettes’
* checking for file ‘MPRAnalyze/DESCRIPTION’ ... OK
* checking extension type ... Package
* this is package ‘MPRAnalyze’ version ‘1.6.0’
* package encoding: UTF-8
* checking package namespace information ... OK
* checking package dependencies ... OK
* checking if this is a source package ... OK
* checking if there is a namespace ... OK
* checking for hidden files and directories ... OK
* checking for portable file names ... OK
* checking for sufficient/correct file permissions ... OK
* checking whether package ‘MPRAnalyze’ can be installed ... OK
* checking installed package size ... OK
* checking package directory ... OK
* checking ‘build’ directory ... OK
* checking DESCRIPTION meta-information ... OK
* checking top-level files ... OK
* checking for left-over files ... OK
* checking index information ... OK
* checking package subdirectories ... OK
* checking R files for non-ASCII characters ... OK
* checking R files for syntax errors ... OK
* checking whether the package can be loaded ... OK
* checking whether the package can be loaded with stated dependencies ... OK
* checking whether the package can be unloaded cleanly ... OK
* checking whether the namespace can be loaded with stated dependencies ... OK
* checking whether the namespace can be unloaded cleanly ... OK
* checking dependencies in R code ... OK
* checking S3 generic/method consistency ... OK
* checking replacement functions ... OK
* checking foreign function calls ... OK
* checking R code for possible problems ... OK
* checking Rd files ... OK
* checking Rd metadata ... OK
* checking Rd cross-references ... OK
* checking for missing documentation entries ... OK
* checking for code/documentation mismatches ... OK
* checking Rd \usage sections ... OK
* checking Rd contents ... OK
* checking for unstated dependencies in examples ... OK
* checking contents of ‘data’ directory ... OK
* checking data for non-ASCII characters ... OK
* checking data for ASCII and uncompressed saves ... OK
* checking files in ‘vignettes’ ... OK
* checking examples ... OK
Examples with CPU (user + system) or elapsed time > 5s
user system elapsed
getAlpha 9.209 0.024 9.235
analyzeComparative 8.438 0.068 8.506
testLrt 5.161 0.008 5.168
* checking for unstated dependencies in vignettes ... OK
* checking package vignettes in ‘inst/doc’ ... OK
* checking running R code from vignettes ... SKIPPED
* checking re-building of vignette outputs ... SKIPPED
* checking PDF version of manual ... OK
* DONE
Status: OK
MPRAnalyze.Rcheck/00install.out
############################################################################## ############################################################################## ### ### Running command: ### ### /home/biocbuild/bbs-3.11-bioc/R/bin/R CMD INSTALL MPRAnalyze ### ############################################################################## ############################################################################## * installing to library ‘/home/biocbuild/bbs-3.11-bioc/R/library’ * installing *source* package ‘MPRAnalyze’ ... ** using staged installation ** R ** data ** byte-compile and prepare package for lazy loading ** help *** installing help indices ** building package indices ** installing vignettes ** testing if installed package can be loaded from temporary location ** testing if installed package can be loaded from final location ** testing if installed package keeps a record of temporary installation path * DONE (MPRAnalyze)
MPRAnalyze.Rcheck/MPRAnalyze-Ex.timings
| name | user | system | elapsed | |
| MpraObject | 0.036 | 0.000 | 0.036 | |
| analyzeComparative | 8.438 | 0.068 | 8.506 | |
| analyzeQuantification | 3.614 | 0.112 | 3.726 | |
| estimateDepthFactors | 0.013 | 0.000 | 0.013 | |
| extractModelParameters | 2.823 | 0.000 | 2.823 | |
| getAlpha | 9.209 | 0.024 | 9.235 | |
| getDistrParam | 1.502 | 0.008 | 1.510 | |
| getFits_DNA | 2.025 | 0.008 | 2.033 | |
| getFits_RNA | 1.642 | 0.008 | 1.650 | |
| setDepthFactors | 0.006 | 0.000 | 0.006 | |
| setModel | 4.829 | 0.020 | 4.849 | |
| simulateMPRA | 0.078 | 0.000 | 0.078 | |
| testCoefficient | 4.084 | 0.012 | 4.104 | |
| testEmpirical | 4.147 | 0.012 | 4.160 | |
| testLrt | 5.161 | 0.008 | 5.168 | |