| Back to Multiple platform build/check report for BioC 3.11 |
|
This page was generated on 2020-10-17 11:57:07 -0400 (Sat, 17 Oct 2020).
| TO THE DEVELOPERS/MAINTAINERS OF THE MIRA PACKAGE: Please make sure to use the following settings in order to reproduce any error or warning you see on this page. |
| Package 1088/1905 | Hostname | OS / Arch | INSTALL | BUILD | CHECK | BUILD BIN | ||||||
| MIRA 1.10.0 John Lawson
| malbec2 | Linux (Ubuntu 18.04.4 LTS) / x86_64 | OK | OK | OK | |||||||
| tokay2 | Windows Server 2012 R2 Standard / x64 | [ OK ] | OK | OK | OK | |||||||
| machv2 | macOS 10.14.6 Mojave / x86_64 | OK | OK | OK | OK |
| Package: MIRA |
| Version: 1.10.0 |
| Command: C:\cygwin\bin\curl.exe -O https://malbec2.bioconductor.org/BBS/3.11/bioc/src/contrib/MIRA_1.10.0.tar.gz && rm -rf MIRA.buildbin-libdir && mkdir MIRA.buildbin-libdir && C:\Users\biocbuild\bbs-3.11-bioc\R\bin\R.exe CMD INSTALL --merge-multiarch --build --library=MIRA.buildbin-libdir MIRA_1.10.0.tar.gz && C:\Users\biocbuild\bbs-3.11-bioc\R\bin\R.exe CMD INSTALL MIRA_1.10.0.zip && rm MIRA_1.10.0.tar.gz MIRA_1.10.0.zip |
| StartedAt: 2020-10-16 18:54:47 -0400 (Fri, 16 Oct 2020) |
| EndedAt: 2020-10-16 18:56:03 -0400 (Fri, 16 Oct 2020) |
| EllapsedTime: 75.9 seconds |
| RetCode: 0 |
| Status: OK |
##############################################################################
##############################################################################
###
### Running command:
###
### C:\cygwin\bin\curl.exe -O https://malbec2.bioconductor.org/BBS/3.11/bioc/src/contrib/MIRA_1.10.0.tar.gz && rm -rf MIRA.buildbin-libdir && mkdir MIRA.buildbin-libdir && C:\Users\biocbuild\bbs-3.11-bioc\R\bin\R.exe CMD INSTALL --merge-multiarch --build --library=MIRA.buildbin-libdir MIRA_1.10.0.tar.gz && C:\Users\biocbuild\bbs-3.11-bioc\R\bin\R.exe CMD INSTALL MIRA_1.10.0.zip && rm MIRA_1.10.0.tar.gz MIRA_1.10.0.zip
###
##############################################################################
##############################################################################
% Total % Received % Xferd Average Speed Time Time Time Current
Dload Upload Total Spent Left Speed
0 0 0 0 0 0 0 0 --:--:-- --:--:-- --:--:-- 0
100 1220k 100 1220k 0 0 15.2M 0 --:--:-- --:--:-- --:--:-- 16.7M
install for i386
* installing *source* package 'MIRA' ...
** using staged installation
** R
** data
** inst
** byte-compile and prepare package for lazy loading
** help
*** installing help indices
converting help for package 'MIRA'
finding HTML links ... done
BSBinAggregate html
BSreadBiSeq html
MIRA html
SummarizedExperimentToDataTable html
addMethPropCol html
aggregateMethyl html
bigBinDT1 html
bigBinDT2 html
binRegion html
bsseqToDataTable html
calcMIRAScore html
exampleAnnoDT1 html
exampleAnnoDT2 html
exampleBSDT html
exampleBSseqObj html
exampleBins html
exampleRegionSet html
plotMIRAProfiles html
plotMIRAScores html
rbindNamedList html
** building package indices
** installing vignettes
** testing if installed package can be loaded from temporary location
** testing if installed package can be loaded from final location
** testing if installed package keeps a record of temporary installation path
install for x64
* installing *source* package 'MIRA' ...
** testing if installed package can be loaded
* MD5 sums
packaged installation of 'MIRA' as MIRA_1.10.0.zip
* DONE (MIRA)
* installing to library 'C:/Users/biocbuild/bbs-3.11-bioc/R/library'
package 'MIRA' successfully unpacked and MD5 sums checked