| Back to Multiple platform build/check report for BioC 3.11 |
|
This page was generated on 2020-10-17 11:57:02 -0400 (Sat, 17 Oct 2020).
| TO THE DEVELOPERS/MAINTAINERS OF THE MEIGOR PACKAGE: Please make sure to use the following settings in order to reproduce any error or warning you see on this page. |
| Package 1021/1905 | Hostname | OS / Arch | INSTALL | BUILD | CHECK | BUILD BIN | ||||||
| MEIGOR 1.22.0 Jose A. Egea
| malbec2 | Linux (Ubuntu 18.04.4 LTS) / x86_64 | OK | OK | WARNINGS | |||||||
| tokay2 | Windows Server 2012 R2 Standard / x64 | [ OK ] | OK | WARNINGS | OK | |||||||
| machv2 | macOS 10.14.6 Mojave / x86_64 | OK | OK | WARNINGS | OK |
| Package: MEIGOR |
| Version: 1.22.0 |
| Command: C:\cygwin\bin\curl.exe -O https://malbec2.bioconductor.org/BBS/3.11/bioc/src/contrib/MEIGOR_1.22.0.tar.gz && rm -rf MEIGOR.buildbin-libdir && mkdir MEIGOR.buildbin-libdir && C:\Users\biocbuild\bbs-3.11-bioc\R\bin\R.exe CMD INSTALL --merge-multiarch --build --library=MEIGOR.buildbin-libdir MEIGOR_1.22.0.tar.gz && C:\Users\biocbuild\bbs-3.11-bioc\R\bin\R.exe CMD INSTALL MEIGOR_1.22.0.zip && rm MEIGOR_1.22.0.tar.gz MEIGOR_1.22.0.zip |
| StartedAt: 2020-10-16 18:18:25 -0400 (Fri, 16 Oct 2020) |
| EndedAt: 2020-10-16 18:19:43 -0400 (Fri, 16 Oct 2020) |
| EllapsedTime: 78.0 seconds |
| RetCode: 0 |
| Status: OK |
##############################################################################
##############################################################################
###
### Running command:
###
### C:\cygwin\bin\curl.exe -O https://malbec2.bioconductor.org/BBS/3.11/bioc/src/contrib/MEIGOR_1.22.0.tar.gz && rm -rf MEIGOR.buildbin-libdir && mkdir MEIGOR.buildbin-libdir && C:\Users\biocbuild\bbs-3.11-bioc\R\bin\R.exe CMD INSTALL --merge-multiarch --build --library=MEIGOR.buildbin-libdir MEIGOR_1.22.0.tar.gz && C:\Users\biocbuild\bbs-3.11-bioc\R\bin\R.exe CMD INSTALL MEIGOR_1.22.0.zip && rm MEIGOR_1.22.0.tar.gz MEIGOR_1.22.0.zip
###
##############################################################################
##############################################################################
% Total % Received % Xferd Average Speed Time Time Time Current
Dload Upload Total Spent Left Speed
0 0 0 0 0 0 0 0 --:--:-- --:--:-- --:--:-- 0
100 2375k 100 2375k 0 0 25.4M 0 --:--:-- --:--:-- --:--:-- 27.6M
install for i386
* installing *source* package 'MEIGOR' ...
** using staged installation
** R
** data
** inst
** byte-compile and prepare package for lazy loading
Note: possible error in 'runif(seed = options$seed)': unused argument (seed = options$seed)
** help
*** installing help indices
converting help for package 'MEIGOR'
finding HTML links ... done
BayesFit html
CeSSR html
CeVNSR html
MEIGO html
MEIGOR-package html
cnolist html
cur_params html
dhc html
essR-MEIGOR html
essR html
essR_multistart html
eucl_dist html
ith_VNSR html
ith_essR html
model html
nls_fobj html
optim_fobj html
paramsOpt html
runBayesFit html
rvnds_hamming html
rvnds_local html
solnp_eq html
solnp_fobj html
solnp_ineq html
ssm_beyond html
ssm_defaults html
ssm_evalfc html
ssm_isdif2 html
ssm_localsolver html
ssm_optset html
ssm_penalty_function html
ssm_round_int html
vns_defaults html
vns_optset html
** building package indices
** installing vignettes
** testing if installed package can be loaded from temporary location
** testing if installed package can be loaded from final location
** testing if installed package keeps a record of temporary installation path
install for x64
* installing *source* package 'MEIGOR' ...
** testing if installed package can be loaded
* MD5 sums
packaged installation of 'MEIGOR' as MEIGOR_1.22.0.zip
* DONE (MEIGOR)
* installing to library 'C:/Users/biocbuild/bbs-3.11-bioc/R/library'
package 'MEIGOR' successfully unpacked and MD5 sums checked