| Back to Multiple platform build/check report for BioC 3.11 |
|
This page was generated on 2020-10-17 11:57:01 -0400 (Sat, 17 Oct 2020).
| TO THE DEVELOPERS/MAINTAINERS OF THE MCRestimate PACKAGE: Please make sure to use the following settings in order to reproduce any error or warning you see on this page. |
| Package 1009/1905 | Hostname | OS / Arch | INSTALL | BUILD | CHECK | BUILD BIN | ||||||
Marc Johannes
| malbec2 | Linux (Ubuntu 18.04.4 LTS) / x86_64 | OK | ERROR | skipped | |||||||
| tokay2 | Windows Server 2012 R2 Standard / x64 | [ OK ] | ERROR | skipped | skipped | |||||||
| machv2 | macOS 10.14.6 Mojave / x86_64 | OK | ERROR | skipped | skipped |
| Package: MCRestimate |
| Version: 2.44.0 |
| Command: C:\cygwin\bin\curl.exe -O https://malbec2.bioconductor.org/BBS/3.11/bioc/src/contrib/MCRestimate_2.44.0.tar.gz && rm -rf MCRestimate.buildbin-libdir && mkdir MCRestimate.buildbin-libdir && C:\Users\biocbuild\bbs-3.11-bioc\R\bin\R.exe CMD INSTALL --merge-multiarch --build --library=MCRestimate.buildbin-libdir MCRestimate_2.44.0.tar.gz && C:\Users\biocbuild\bbs-3.11-bioc\R\bin\R.exe CMD INSTALL MCRestimate_2.44.0.zip && rm MCRestimate_2.44.0.tar.gz MCRestimate_2.44.0.zip |
| StartedAt: 2020-10-16 17:06:55 -0400 (Fri, 16 Oct 2020) |
| EndedAt: 2020-10-16 17:07:54 -0400 (Fri, 16 Oct 2020) |
| EllapsedTime: 58.9 seconds |
| RetCode: 0 |
| Status: OK |
##############################################################################
##############################################################################
###
### Running command:
###
### C:\cygwin\bin\curl.exe -O https://malbec2.bioconductor.org/BBS/3.11/bioc/src/contrib/MCRestimate_2.44.0.tar.gz && rm -rf MCRestimate.buildbin-libdir && mkdir MCRestimate.buildbin-libdir && C:\Users\biocbuild\bbs-3.11-bioc\R\bin\R.exe CMD INSTALL --merge-multiarch --build --library=MCRestimate.buildbin-libdir MCRestimate_2.44.0.tar.gz && C:\Users\biocbuild\bbs-3.11-bioc\R\bin\R.exe CMD INSTALL MCRestimate_2.44.0.zip && rm MCRestimate_2.44.0.tar.gz MCRestimate_2.44.0.zip
###
##############################################################################
##############################################################################
% Total % Received % Xferd Average Speed Time Time Time Current
Dload Upload Total Spent Left Speed
0 0 0 0 0 0 0 0 --:--:-- --:--:-- --:--:-- 0
100 34417 100 34417 0 0 329k 0 --:--:-- --:--:-- --:--:-- 353k
install for i386
* installing *source* package 'MCRestimate' ...
** using staged installation
** R
** inst
** byte-compile and prepare package for lazy loading
** help
*** installing help indices
converting help for package 'MCRestimate'
finding HTML links ... done
ClassifierBuild html
MCRconfusion html
MCRestimate html
MCRestimateMerge html
PLR html
SVM.OVA.wrap html
class.factor.format html
geneReduction html
important.variable.names html
indVotes html
intersectList html
plot.MCRestimate html
replace.NA html
select.NA.elements html
wrapper.fkt html
** building package indices
** installing vignettes
** testing if installed package can be loaded from temporary location
Warning: Package 'MCRestimate' is deprecated and will be removed from
Bioconductor version 3.12
** testing if installed package can be loaded from final location
Warning: Package 'MCRestimate' is deprecated and will be removed from
Bioconductor version 3.12
** testing if installed package keeps a record of temporary installation path
install for x64
* installing *source* package 'MCRestimate' ...
** testing if installed package can be loaded
Warning: Package 'MCRestimate' is deprecated and will be removed from
Bioconductor version 3.12
* MD5 sums
packaged installation of 'MCRestimate' as MCRestimate_2.44.0.zip
* DONE (MCRestimate)
* installing to library 'C:/Users/biocbuild/bbs-3.11-bioc/R/library'
package 'MCRestimate' successfully unpacked and MD5 sums checked