| Back to Multiple platform build/check report for BioC 3.11 |
|
This page was generated on 2020-10-17 11:57:01 -0400 (Sat, 17 Oct 2020).
| TO THE DEVELOPERS/MAINTAINERS OF THE MBAmethyl PACKAGE: Please make sure to use the following settings in order to reproduce any error or warning you see on this page. |
| Package 1000/1905 | Hostname | OS / Arch | INSTALL | BUILD | CHECK | BUILD BIN | ||||||
| MBAmethyl 1.22.0 Tao Wang
| malbec2 | Linux (Ubuntu 18.04.4 LTS) / x86_64 | OK | OK | OK | |||||||
| tokay2 | Windows Server 2012 R2 Standard / x64 | [ OK ] | OK | OK | OK | |||||||
| machv2 | macOS 10.14.6 Mojave / x86_64 | OK | OK | OK | OK |
| Package: MBAmethyl |
| Version: 1.22.0 |
| Command: C:\cygwin\bin\curl.exe -O https://malbec2.bioconductor.org/BBS/3.11/bioc/src/contrib/MBAmethyl_1.22.0.tar.gz && rm -rf MBAmethyl.buildbin-libdir && mkdir MBAmethyl.buildbin-libdir && C:\Users\biocbuild\bbs-3.11-bioc\R\bin\R.exe CMD INSTALL --merge-multiarch --build --library=MBAmethyl.buildbin-libdir MBAmethyl_1.22.0.tar.gz && C:\Users\biocbuild\bbs-3.11-bioc\R\bin\R.exe CMD INSTALL MBAmethyl_1.22.0.zip && rm MBAmethyl_1.22.0.tar.gz MBAmethyl_1.22.0.zip |
| StartedAt: 2020-10-16 16:43:43 -0400 (Fri, 16 Oct 2020) |
| EndedAt: 2020-10-16 16:43:59 -0400 (Fri, 16 Oct 2020) |
| EllapsedTime: 16.7 seconds |
| RetCode: 0 |
| Status: OK |
##############################################################################
##############################################################################
###
### Running command:
###
### C:\cygwin\bin\curl.exe -O https://malbec2.bioconductor.org/BBS/3.11/bioc/src/contrib/MBAmethyl_1.22.0.tar.gz && rm -rf MBAmethyl.buildbin-libdir && mkdir MBAmethyl.buildbin-libdir && C:\Users\biocbuild\bbs-3.11-bioc\R\bin\R.exe CMD INSTALL --merge-multiarch --build --library=MBAmethyl.buildbin-libdir MBAmethyl_1.22.0.tar.gz && C:\Users\biocbuild\bbs-3.11-bioc\R\bin\R.exe CMD INSTALL MBAmethyl_1.22.0.zip && rm MBAmethyl_1.22.0.tar.gz MBAmethyl_1.22.0.zip
###
##############################################################################
##############################################################################
% Total % Received % Xferd Average Speed Time Time Time Current
Dload Upload Total Spent Left Speed
0 0 0 0 0 0 0 0 --:--:-- --:--:-- --:--:-- 0
0 0 0 0 0 0 0 0 --:--:-- --:--:-- --:--:-- 0
100 5864 100 5864 0 0 5889 0 --:--:-- --:--:-- --:--:-- 5917
install for i386
* installing *source* package 'MBAmethyl' ...
** using staged installation
** R
** inst
** byte-compile and prepare package for lazy loading
** help
*** installing help indices
converting help for package 'MBAmethyl'
finding HTML links ... done
MBAmethyl-package html
MBAmethyl html
** building package indices
** installing vignettes
** testing if installed package can be loaded from temporary location
** testing if installed package can be loaded from final location
** testing if installed package keeps a record of temporary installation path
install for x64
* installing *source* package 'MBAmethyl' ...
** testing if installed package can be loaded
* MD5 sums
packaged installation of 'MBAmethyl' as MBAmethyl_1.22.0.zip
* DONE (MBAmethyl)
* installing to library 'C:/Users/biocbuild/bbs-3.11-bioc/R/library'
package 'MBAmethyl' successfully unpacked and MD5 sums checked