| Back to Multiple platform build/check report for BioC 3.11 | 
  | 
This page was generated on 2020-10-17 11:57:01 -0400 (Sat, 17 Oct 2020).
| TO THE DEVELOPERS/MAINTAINERS OF THE MBASED PACKAGE: Please make sure to use the following settings in order to reproduce any error or warning you see on this page. | 
| Package 1001/1905 | Hostname | OS / Arch | INSTALL | BUILD | CHECK | BUILD BIN | ||||||
| MBASED 1.22.0 Oleg Mayba 
  | malbec2 | Linux (Ubuntu 18.04.4 LTS) / x86_64 | OK | OK | OK | |||||||
| tokay2 | Windows Server 2012 R2 Standard / x64 | OK | [ OK ] | OK | OK | |||||||
| machv2 | macOS 10.14.6 Mojave / x86_64 | OK | OK | OK | OK | 
| Package: MBASED | 
| Version: 1.22.0 | 
| Command: chmod a+r MBASED -R && C:\Users\biocbuild\bbs-3.11-bioc\R\bin\R.exe CMD build --keep-empty-dirs --no-resave-data MBASED | 
| StartedAt: 2020-10-16 22:35:11 -0400 (Fri, 16 Oct 2020) | 
| EndedAt: 2020-10-16 22:39:01 -0400 (Fri, 16 Oct 2020) | 
| EllapsedTime: 230.4 seconds | 
| RetCode: 0 | 
| Status: OK | 
| PackageFile: MBASED_1.22.0.tar.gz | 
| PackageFileSize: 340.4 KiB | 
############################################################################## ############################################################################## ### ### Running command: ### ### chmod a+r MBASED -R && C:\Users\biocbuild\bbs-3.11-bioc\R\bin\R.exe CMD build --keep-empty-dirs --no-resave-data MBASED ### ############################################################################## ############################################################################## * checking for file 'MBASED/DESCRIPTION' ... OK * preparing 'MBASED': * checking DESCRIPTION meta-information ... OK * installing the package to build vignettes * creating vignettes ... OK * checking for LF line-endings in source and make files and shell scripts * checking for empty or unneeded directories * building 'MBASED_1.22.0.tar.gz'