| Back to Multiple platform build/check report for BioC 3.11 |
|
This page was generated on 2020-10-17 11:55:04 -0400 (Sat, 17 Oct 2020).
| TO THE DEVELOPERS/MAINTAINERS OF THE MAST PACKAGE: Please make sure to use the following settings in order to reproduce any error or warning you see on this page. |
| Package 994/1905 | Hostname | OS / Arch | INSTALL | BUILD | CHECK | BUILD BIN | ||||||
| MAST 1.14.0 Andrew McDavid
| malbec2 | Linux (Ubuntu 18.04.4 LTS) / x86_64 | OK | OK | [ OK ] | |||||||
| tokay2 | Windows Server 2012 R2 Standard / x64 | OK | OK | OK | OK | |||||||
| machv2 | macOS 10.14.6 Mojave / x86_64 | OK | OK | OK | OK |
| Package: MAST |
| Version: 1.14.0 |
| Command: /home/biocbuild/bbs-3.11-bioc/R/bin/R CMD check --install=check:MAST.install-out.txt --library=/home/biocbuild/bbs-3.11-bioc/R/library --no-vignettes --timings MAST_1.14.0.tar.gz |
| StartedAt: 2020-10-17 02:49:05 -0400 (Sat, 17 Oct 2020) |
| EndedAt: 2020-10-17 02:54:09 -0400 (Sat, 17 Oct 2020) |
| EllapsedTime: 303.6 seconds |
| RetCode: 0 |
| Status: OK |
| CheckDir: MAST.Rcheck |
| Warnings: 0 |
##############################################################################
##############################################################################
###
### Running command:
###
### /home/biocbuild/bbs-3.11-bioc/R/bin/R CMD check --install=check:MAST.install-out.txt --library=/home/biocbuild/bbs-3.11-bioc/R/library --no-vignettes --timings MAST_1.14.0.tar.gz
###
##############################################################################
##############################################################################
* using log directory ‘/home/biocbuild/bbs-3.11-bioc/meat/MAST.Rcheck’
* using R version 4.0.3 (2020-10-10)
* using platform: x86_64-pc-linux-gnu (64-bit)
* using session charset: UTF-8
* using option ‘--no-vignettes’
* checking for file ‘MAST/DESCRIPTION’ ... OK
* checking extension type ... Package
* this is package ‘MAST’ version ‘1.14.0’
* package encoding: UTF-8
* checking package namespace information ... OK
* checking package dependencies ... OK
* checking if this is a source package ... OK
* checking if there is a namespace ... OK
* checking for hidden files and directories ... NOTE
Found the following hidden files and directories:
.travis.yml
These were most likely included in error. See section ‘Package
structure’ in the ‘Writing R Extensions’ manual.
* checking for portable file names ... OK
* checking for sufficient/correct file permissions ... OK
* checking whether package ‘MAST’ can be installed ... OK
* checking installed package size ... OK
* checking package directory ... OK
* checking ‘build’ directory ... OK
* checking DESCRIPTION meta-information ... OK
* checking top-level files ... OK
* checking for left-over files ... OK
* checking index information ... OK
* checking package subdirectories ... OK
* checking R files for non-ASCII characters ... OK
* checking R files for syntax errors ... OK
* checking whether the package can be loaded ... OK
* checking whether the package can be loaded with stated dependencies ... OK
* checking whether the package can be unloaded cleanly ... OK
* checking whether the namespace can be loaded with stated dependencies ... OK
* checking whether the namespace can be unloaded cleanly ... OK
* checking dependencies in R code ... OK
* checking S3 generic/method consistency ... OK
* checking replacement functions ... OK
* checking foreign function calls ... OK
* checking R code for possible problems ... OK
* checking Rd files ... OK
* checking Rd metadata ... OK
* checking Rd cross-references ... OK
* checking for missing documentation entries ... OK
* checking for code/documentation mismatches ... OK
* checking Rd \usage sections ... OK
* checking Rd contents ... OK
* checking for unstated dependencies in examples ... OK
* checking contents of ‘data’ directory ... OK
* checking data for non-ASCII characters ... OK
* checking data for ASCII and uncompressed saves ... OK
* checking files in ‘vignettes’ ... OK
* checking examples ... OK
Examples with CPU (user + system) or elapsed time > 5s
user system elapsed
FromFlatDF 5.279 0.049 1.867
* checking for unstated dependencies in ‘tests’ ... OK
* checking tests ...
Running ‘testthat.R’
OK
* checking for unstated dependencies in vignettes ... OK
* checking package vignettes in ‘inst/doc’ ... OK
* checking running R code from vignettes ... SKIPPED
* checking re-building of vignette outputs ... SKIPPED
* checking PDF version of manual ... OK
* DONE
Status: 1 NOTE
See
‘/home/biocbuild/bbs-3.11-bioc/meat/MAST.Rcheck/00check.log’
for details.
MAST.Rcheck/00install.out
############################################################################## ############################################################################## ### ### Running command: ### ### /home/biocbuild/bbs-3.11-bioc/R/bin/R CMD INSTALL MAST ### ############################################################################## ############################################################################## * installing to library ‘/home/biocbuild/bbs-3.11-bioc/R/library’ * installing *source* package ‘MAST’ ... ** using staged installation ** R ** data *** moving datasets to lazyload DB ** inst ** byte-compile and prepare package for lazy loading ** help *** installing help indices ** building package indices ** installing vignettes ** testing if installed package can be loaded from temporary location ** testing if installed package can be loaded from final location ** testing if installed package keeps a record of temporary installation path * DONE (MAST)
MAST.Rcheck/tests/testthat.Rout
R version 4.0.3 (2020-10-10) -- "Bunny-Wunnies Freak Out"
Copyright (C) 2020 The R Foundation for Statistical Computing
Platform: x86_64-pc-linux-gnu (64-bit)
R is free software and comes with ABSOLUTELY NO WARRANTY.
You are welcome to redistribute it under certain conditions.
Type 'license()' or 'licence()' for distribution details.
R is a collaborative project with many contributors.
Type 'contributors()' for more information and
'citation()' on how to cite R or R packages in publications.
Type 'demo()' for some demos, 'help()' for on-line help, or
'help.start()' for an HTML browser interface to help.
Type 'q()' to quit R.
> library(testthat)
> test_check("MAST")
Loading required package: MAST
Loading required package: SingleCellExperiment
Loading required package: SummarizedExperiment
Loading required package: GenomicRanges
Loading required package: stats4
Loading required package: BiocGenerics
Loading required package: parallel
Attaching package: 'BiocGenerics'
The following objects are masked from 'package:parallel':
clusterApply, clusterApplyLB, clusterCall, clusterEvalQ,
clusterExport, clusterMap, parApply, parCapply, parLapply,
parLapplyLB, parRapply, parSapply, parSapplyLB
The following objects are masked from 'package:stats':
IQR, mad, sd, var, xtabs
The following objects are masked from 'package:base':
Filter, Find, Map, Position, Reduce, anyDuplicated, append,
as.data.frame, basename, cbind, colnames, dirname, do.call,
duplicated, eval, evalq, get, grep, grepl, intersect, is.unsorted,
lapply, mapply, match, mget, order, paste, pmax, pmax.int, pmin,
pmin.int, rank, rbind, rownames, sapply, setdiff, sort, table,
tapply, union, unique, unsplit, which, which.max, which.min
Loading required package: S4Vectors
Attaching package: 'S4Vectors'
The following object is masked from 'package:base':
expand.grid
Loading required package: IRanges
Loading required package: GenomeInfoDb
Loading required package: Biobase
Welcome to Bioconductor
Vignettes contain introductory material; view with
'browseVignettes()'. To cite Bioconductor, see
'citation("Biobase")', and for packages 'citation("pkgname")'.
Loading required package: DelayedArray
Loading required package: matrixStats
Attaching package: 'matrixStats'
The following objects are masked from 'package:Biobase':
anyMissing, rowMedians
Attaching package: 'DelayedArray'
The following objects are masked from 'package:matrixStats':
colMaxs, colMins, colRanges, rowMaxs, rowMins, rowRanges
The following objects are masked from 'package:base':
aperm, apply, rowsum
Error : number of levels of each grouping factor must be < number of observations (problems: Subject.ID)
(0.0426,0.354] (0.354,0.757] (0.757,1.28] (1.28,1.96] (1.96,2.84]
2.258200 2.258200 2.258200 2.258200 2.258200
(2.84,3.99] (3.99,13.2]
2.258200 3.313588
(0.0602,0.436] (0.436,0.67] (0.67,0.944] (0.944,1.26] (1.26,1.63]
1.967142 1.967142 1.967142 2.003488 2.003488
(1.63,2.06] (2.06,2.56] (2.56,3.83]
2.600202 2.600202 2.600202
(0.03,1.56] (1.56,5.36] (5.36,14.8] (14.8,9.25e+03]
238.2279 238.2279 238.2279 4525.1912
Error : grouping factors must have > 1 sampled level
NULL
NULL
NULL
Error in (function (x, y, weights = rep.int(1, nobs), start = NULL, etastart = NULL, :
NAs in V(mu)
══ testthat results ═══════════════════════════════════════════════════════════
[ OK: 287 | SKIPPED: 4 | WARNINGS: 7 | FAILED: 0 ]
>
> proc.time()
user system elapsed
77.438 0.946 77.402
MAST.Rcheck/MAST-Ex.timings
| name | user | system | elapsed | |
| Drop | 0 | 0 | 0 | |
| FromFlatDF | 5.279 | 0.049 | 1.867 | |
| FromMatrix | 0.251 | 0.004 | 0.254 | |
| Hypothesis | 0.011 | 0.000 | 0.012 | |
| LRT | 0.466 | 0.004 | 0.258 | |
| ZlmFit-class | 0.928 | 0.012 | 0.941 | |
| applyFlat | 0.001 | 0.000 | 0.002 | |
| bootVcov1 | 0.491 | 0.004 | 0.496 | |
| calcZ | 1.504 | 0.012 | 1.524 | |
| collectResiduals | 1.112 | 0.004 | 1.116 | |
| computeEtFromCt | 0.025 | 0.011 | 0.036 | |
| convertMASTClassicToSingleCellAssay | 0.071 | 0.000 | 0.071 | |
| defaultAssay | 0.044 | 0.000 | 0.044 | |
| defaultPrior | 0 | 0 | 0 | |
| expavg | 0 | 0 | 0 | |
| filterLowExpressedGenes | 0.171 | 0.000 | 0.173 | |
| freq | 0.035 | 0.004 | 0.039 | |
| getConcordance | 0.452 | 0.012 | 0.270 | |
| getwellKey | 0.014 | 0.000 | 0.014 | |
| gseaAfterBoot | 1.007 | 0.000 | 1.007 | |
| hushWarning | 0.000 | 0.000 | 0.001 | |
| impute | 1.110 | 0.032 | 1.142 | |
| invlogit | 0 | 0 | 0 | |
| logFC | 0.203 | 0.004 | 0.208 | |
| logmean | 0.001 | 0.000 | 0.001 | |
| lrTest | 1.333 | 0.008 | 1.341 | |
| mast_filter | 1.092 | 0.000 | 1.092 | |
| melt.SingleCellAssay | 0.298 | 0.000 | 0.273 | |
| plot.thresholdSCRNACountMatrix | 0.650 | 0.016 | 0.666 | |
| plotSCAConcordance | 1.161 | 0.004 | 0.757 | |
| predict.ZlmFit | 1.928 | 0.000 | 1.929 | |
| se.coef | 0.987 | 0.004 | 0.991 | |
| split-SingleCellAssay-character-method | 0.527 | 0.000 | 0.528 | |
| stat_ell | 1.083 | 0.000 | 1.082 | |
| subset-SingleCellAssay-method | 0.087 | 0.000 | 0.086 | |
| summary-GSEATests-method | 1.041 | 0.004 | 1.045 | |
| summary-ZlmFit-method | 0.262 | 0.000 | 0.262 | |
| thresholdSCRNACountMatrix | 0.529 | 0.004 | 0.534 | |
| waldTest | 0.982 | 0.008 | 0.990 | |
| zlm | 0.258 | 0.000 | 0.257 | |