| Back to Multiple platform build/check report for BioC 3.11 |
|
This page was generated on 2020-10-14 11:58:56 -0400 (Wed, 14 Oct 2020).
| TO THE DEVELOPERS/MAINTAINERS OF THE MAGeCKFlute PACKAGE: Please make sure to use the following settings in order to reproduce any error or warning you see on this page. |
| Package 976/1905 | Hostname | OS / Arch | INSTALL | BUILD | CHECK | BUILD BIN | ||||||
| MAGeCKFlute 1.8.0 Wubing Zhang
| malbec2 | Linux (Ubuntu 18.04.4 LTS) / x86_64 | OK | ERROR | skipped | |||||||
| tokay2 | Windows Server 2012 R2 Standard / x64 | OK | OK | OK | NA | |||||||
| machv2 | macOS 10.14.6 Mojave / x86_64 | OK | OK | [ OK ] | OK |
| Package: MAGeCKFlute |
| Version: 1.8.0 |
| Command: /Library/Frameworks/R.framework/Versions/Current/Resources/bin/R CMD check --install=check:MAGeCKFlute.install-out.txt --library=/Library/Frameworks/R.framework/Versions/Current/Resources/library --no-vignettes --timings MAGeCKFlute_1.8.0.tar.gz |
| StartedAt: 2020-10-14 04:02:18 -0400 (Wed, 14 Oct 2020) |
| EndedAt: 2020-10-14 04:10:15 -0400 (Wed, 14 Oct 2020) |
| EllapsedTime: 476.6 seconds |
| RetCode: 0 |
| Status: OK |
| CheckDir: MAGeCKFlute.Rcheck |
| Warnings: 0 |
##############################################################################
##############################################################################
###
### Running command:
###
### /Library/Frameworks/R.framework/Versions/Current/Resources/bin/R CMD check --install=check:MAGeCKFlute.install-out.txt --library=/Library/Frameworks/R.framework/Versions/Current/Resources/library --no-vignettes --timings MAGeCKFlute_1.8.0.tar.gz
###
##############################################################################
##############################################################################
* using log directory ‘/Users/biocbuild/bbs-3.11-bioc/meat/MAGeCKFlute.Rcheck’
* using R version 4.0.2 (2020-06-22)
* using platform: x86_64-apple-darwin17.0 (64-bit)
* using session charset: UTF-8
* using option ‘--no-vignettes’
* checking for file ‘MAGeCKFlute/DESCRIPTION’ ... OK
* checking extension type ... Package
* this is package ‘MAGeCKFlute’ version ‘1.8.0’
* package encoding: UTF-8
* checking package namespace information ... OK
* checking package dependencies ... OK
* checking if this is a source package ... OK
* checking if there is a namespace ... OK
* checking for hidden files and directories ... NOTE
Found the following hidden files and directories:
.travis.yml
These were most likely included in error. See section ‘Package
structure’ in the ‘Writing R Extensions’ manual.
* checking for portable file names ... OK
* checking for sufficient/correct file permissions ... OK
* checking whether package ‘MAGeCKFlute’ can be installed ... OK
* checking installed package size ... NOTE
installed size is 13.1Mb
sub-directories of 1Mb or more:
extdata 12.7Mb
* checking package directory ... OK
* checking ‘build’ directory ... OK
* checking DESCRIPTION meta-information ... OK
* checking top-level files ... OK
* checking for left-over files ... OK
* checking index information ... OK
* checking package subdirectories ... OK
* checking R files for non-ASCII characters ... OK
* checking R files for syntax errors ... OK
* checking whether the package can be loaded ... OK
* checking whether the package can be loaded with stated dependencies ... OK
* checking whether the package can be unloaded cleanly ... OK
* checking whether the namespace can be loaded with stated dependencies ... OK
* checking whether the namespace can be unloaded cleanly ... OK
* checking dependencies in R code ... OK
* checking S3 generic/method consistency ... OK
* checking replacement functions ... OK
* checking foreign function calls ... OK
* checking R code for possible problems ... OK
* checking Rd files ... OK
* checking Rd metadata ... OK
* checking Rd cross-references ... OK
* checking for missing documentation entries ... OK
* checking for code/documentation mismatches ... OK
* checking Rd \usage sections ... OK
* checking Rd contents ... OK
* checking for unstated dependencies in examples ... OK
* checking files in ‘vignettes’ ... OK
* checking examples ... OK
Examples with CPU (user + system) or elapsed time > 5s
user system elapsed
enrich.ORT 17.180 0.801 17.995
arrangePathview 7.066 0.301 9.124
KeggPathwayView 4.545 0.153 7.299
* checking for unstated dependencies in vignettes ... OK
* checking package vignettes in ‘inst/doc’ ... OK
* checking running R code from vignettes ... SKIPPED
* checking re-building of vignette outputs ... SKIPPED
* checking PDF version of manual ... OK
* DONE
Status: 2 NOTEs
See
‘/Users/biocbuild/bbs-3.11-bioc/meat/MAGeCKFlute.Rcheck/00check.log’
for details.
MAGeCKFlute.Rcheck/00install.out
############################################################################## ############################################################################## ### ### Running command: ### ### /Library/Frameworks/R.framework/Versions/Current/Resources/bin/R CMD INSTALL MAGeCKFlute ### ############################################################################## ############################################################################## * installing to library ‘/Library/Frameworks/R.framework/Versions/4.0/Resources/library’ * installing *source* package ‘MAGeCKFlute’ ... ** using staged installation ** R ** inst ** byte-compile and prepare package for lazy loading ** help *** installing help indices ** building package indices ** installing vignettes ** testing if installed package can be loaded from temporary location ** testing if installed package can be loaded from final location ** testing if installed package keeps a record of temporary installation path * DONE (MAGeCKFlute)
MAGeCKFlute.Rcheck/MAGeCKFlute-Ex.timings
| name | user | system | elapsed | |
| BarView | 0.802 | 0.008 | 0.810 | |
| BatchRemove | 1.525 | 0.022 | 1.551 | |
| ConsistencyView | 0.397 | 0.019 | 0.417 | |
| CutoffCalling | 0.005 | 0.001 | 0.005 | |
| DensityDiffView | 0.623 | 0.039 | 0.663 | |
| DensityView | 0.605 | 0.011 | 0.617 | |
| EnrichAnalyzer | 0.016 | 0.001 | 0.018 | |
| EnrichedFilter | 0.017 | 0.001 | 0.018 | |
| EnrichedGeneView | 0.017 | 0.001 | 0.018 | |
| EnrichedView | 0.011 | 0.001 | 0.011 | |
| FluteMLE | 0.002 | 0.001 | 0.002 | |
| FluteRRA | 0.001 | 0.001 | 0.002 | |
| HeatmapView | 0.136 | 0.004 | 0.140 | |
| IdentBarView | 0.173 | 0.002 | 0.175 | |
| IncorporateDepmap | 0.137 | 0.004 | 0.142 | |
| KeggPathwayView | 4.545 | 0.153 | 7.299 | |
| MAView | 4.425 | 0.047 | 4.475 | |
| MapRatesView | 0.469 | 0.006 | 0.476 | |
| NormalizeBeta | 0.352 | 0.005 | 0.358 | |
| OmitCommonEssential | 0.123 | 0.002 | 0.126 | |
| RankView | 0.919 | 0.034 | 0.953 | |
| ReadBeta | 0.124 | 0.002 | 0.126 | |
| ReadGMT | 0.857 | 0.220 | 1.092 | |
| ReadRRA | 0.137 | 0.002 | 0.145 | |
| ReadsgRRA | 0.792 | 0.020 | 0.825 | |
| ResembleDepmap | 0.126 | 0.002 | 0.129 | |
| ScatterView | 0.686 | 0.022 | 0.712 | |
| Selector | 0.415 | 0.003 | 0.421 | |
| SquareView | 0.800 | 0.020 | 0.822 | |
| TransGeneID | 2.238 | 0.022 | 2.260 | |
| ViolinView | 0.896 | 0.034 | 0.931 | |
| VolcanoView | 0.995 | 0.041 | 1.037 | |
| arrangePathview | 7.066 | 0.301 | 9.124 | |
| enrich.GSE | 0.015 | 0.001 | 0.016 | |
| enrich.HGT | 1.836 | 0.060 | 1.896 | |
| enrich.ORT | 17.180 | 0.801 | 17.995 | |
| getCols | 0.010 | 0.001 | 0.011 | |
| getGeneAnn | 0 | 0 | 0 | |
| getOrg | 0.001 | 0.001 | 0.001 | |
| getOrtAnn | 0.000 | 0.001 | 0.000 | |
| gsGetter | 0.256 | 0.004 | 0.260 | |
| hclustView | 0.155 | 0.007 | 0.162 | |
| normalize.loess | 0.351 | 0.004 | 0.355 | |
| sgRankView | 2.010 | 0.087 | 2.099 | |