| Back to Multiple platform build/check report for BioC 3.11 | 
  | 
This page was generated on 2020-01-16 13:50:24 -0500 (Thu, 16 Jan 2020).
| Package 935/1818 | Hostname | OS / Arch | INSTALL | BUILD | CHECK | BUILD BIN | ||||||
| MACPET 1.7.0 Ioannis Vardaxis 
  | malbec2 | Linux (Ubuntu 18.04.3 LTS) / x86_64 | OK | OK | OK | |||||||
| tokay2 | Windows Server 2012 R2 Standard / x64 | OK | ERROR | skipped | skipped | |||||||
| celaya2 | OS X 10.11.6 El Capitan / x86_64 | OK | [ OK ] | OK | OK | 
| Package: MACPET | 
| Version: 1.7.0 | 
| Command: /Library/Frameworks/R.framework/Versions/Current/Resources/bin/R CMD build --keep-empty-dirs --no-resave-data MACPET | 
| StartedAt: 2020-01-15 23:49:02 -0500 (Wed, 15 Jan 2020) | 
| EndedAt: 2020-01-15 23:52:04 -0500 (Wed, 15 Jan 2020) | 
| EllapsedTime: 181.8 seconds | 
| RetCode: 0 | 
| Status: OK | 
| PackageFile: MACPET_1.7.0.tar.gz | 
| PackageFileSize: 854.8 KiB | 
############################################################################## ############################################################################## ### ### Running command: ### ### /Library/Frameworks/R.framework/Versions/Current/Resources/bin/R CMD build --keep-empty-dirs --no-resave-data MACPET ### ############################################################################## ############################################################################## * checking for file ‘MACPET/DESCRIPTION’ ... OK * preparing ‘MACPET’: * checking DESCRIPTION meta-information ... OK * cleaning src * installing the package to build vignettes * creating vignettes ... OK * cleaning src * checking for LF line-endings in source and make files and shell scripts * checking for empty or unneeded directories * building ‘MACPET_1.7.0.tar.gz’