| Back to Multiple platform build/check report for BioC 3.11 | 
  | 
This page was generated on 2020-10-17 11:55:02 -0400 (Sat, 17 Oct 2020).
| TO THE DEVELOPERS/MAINTAINERS OF THE LymphoSeq PACKAGE: Please make sure to use the following settings in order to reproduce any error or warning you see on this page. | 
| Package 963/1905 | Hostname | OS / Arch | INSTALL | BUILD | CHECK | BUILD BIN | ||||||
| LymphoSeq 1.16.0 David Coffey 
  | malbec2 | Linux (Ubuntu 18.04.4 LTS) / x86_64 | OK | OK | [ OK ] | |||||||
| tokay2 | Windows Server 2012 R2 Standard / x64 | OK | OK | OK | OK | |||||||
| machv2 | macOS 10.14.6 Mojave / x86_64 | OK | OK | OK | OK | 
| Package: LymphoSeq | 
| Version: 1.16.0 | 
| Command: /home/biocbuild/bbs-3.11-bioc/R/bin/R CMD check --install=check:LymphoSeq.install-out.txt --library=/home/biocbuild/bbs-3.11-bioc/R/library --no-vignettes --timings LymphoSeq_1.16.0.tar.gz | 
| StartedAt: 2020-10-17 02:43:28 -0400 (Sat, 17 Oct 2020) | 
| EndedAt: 2020-10-17 02:47:05 -0400 (Sat, 17 Oct 2020) | 
| EllapsedTime: 216.8 seconds | 
| RetCode: 0 | 
| Status: OK | 
| CheckDir: LymphoSeq.Rcheck | 
| Warnings: 0 | 
##############################################################################
##############################################################################
###
### Running command:
###
###   /home/biocbuild/bbs-3.11-bioc/R/bin/R CMD check --install=check:LymphoSeq.install-out.txt --library=/home/biocbuild/bbs-3.11-bioc/R/library --no-vignettes --timings LymphoSeq_1.16.0.tar.gz
###
##############################################################################
##############################################################################
* using log directory ‘/home/biocbuild/bbs-3.11-bioc/meat/LymphoSeq.Rcheck’
* using R version 4.0.3 (2020-10-10)
* using platform: x86_64-pc-linux-gnu (64-bit)
* using session charset: UTF-8
* using option ‘--no-vignettes’
* checking for file ‘LymphoSeq/DESCRIPTION’ ... OK
* this is package ‘LymphoSeq’ version ‘1.16.0’
* checking package namespace information ... OK
* checking package dependencies ... OK
* checking if this is a source package ... OK
* checking if there is a namespace ... OK
* checking for hidden files and directories ... OK
* checking for portable file names ... OK
* checking for sufficient/correct file permissions ... OK
* checking whether package ‘LymphoSeq’ can be installed ... OK
* checking installed package size ... NOTE
  installed size is  5.7Mb
  sub-directories of 1Mb or more:
    extdata   5.5Mb
* checking package directory ... OK
* checking ‘build’ directory ... OK
* checking DESCRIPTION meta-information ... OK
* checking top-level files ... OK
* checking for left-over files ... OK
* checking index information ... OK
* checking package subdirectories ... OK
* checking R files for non-ASCII characters ... OK
* checking R files for syntax errors ... OK
* checking whether the package can be loaded ... OK
* checking whether the package can be loaded with stated dependencies ... OK
* checking whether the package can be unloaded cleanly ... OK
* checking whether the namespace can be loaded with stated dependencies ... OK
* checking whether the namespace can be unloaded cleanly ... OK
* checking dependencies in R code ... OK
* checking S3 generic/method consistency ... OK
* checking replacement functions ... OK
* checking foreign function calls ... OK
* checking R code for possible problems ... OK
* checking Rd files ... OK
* checking Rd metadata ... OK
* checking Rd cross-references ... OK
* checking for missing documentation entries ... OK
* checking for code/documentation mismatches ... OK
* checking Rd \usage sections ... OK
* checking Rd contents ... OK
* checking for unstated dependencies in examples ... OK
* checking files in ‘vignettes’ ... OK
* checking examples ... OK
Examples with CPU (user + system) or elapsed time > 5s
                user system elapsed
cloneTrack    31.436  0.828  33.067
productiveSeq 19.192  0.792  19.984
* checking for unstated dependencies in vignettes ... OK
* checking package vignettes in ‘inst/doc’ ... OK
* checking running R code from vignettes ... SKIPPED
* checking re-building of vignette outputs ... SKIPPED
* checking PDF version of manual ... OK
* DONE
Status: 1 NOTE
See
  ‘/home/biocbuild/bbs-3.11-bioc/meat/LymphoSeq.Rcheck/00check.log’
for details.
LymphoSeq.Rcheck/00install.out
############################################################################## ############################################################################## ### ### Running command: ### ### /home/biocbuild/bbs-3.11-bioc/R/bin/R CMD INSTALL LymphoSeq ### ############################################################################## ############################################################################## * installing to library ‘/home/biocbuild/bbs-3.11-bioc/R/library’ * installing *source* package ‘LymphoSeq’ ... ** using staged installation ** R ** inst ** byte-compile and prepare package for lazy loading ** help *** installing help indices ** building package indices ** installing vignettes ** testing if installed package can be loaded from temporary location ** testing if installed package can be loaded from final location ** testing if installed package keeps a record of temporary installation path * DONE (LymphoSeq)
LymphoSeq.Rcheck/LymphoSeq-Ex.timings
| name | user | system | elapsed | |
| alignSeq | 0.935 | 0.008 | 0.980 | |
| bhattacharyyaCoefficient | 0.181 | 0.000 | 0.182 | |
| bhattacharyyaMatrix | 0.178 | 0.008 | 0.186 | |
| chordDiagramVDJ | 0.795 | 0.036 | 0.830 | |
| clonalRelatedness | 1.380 | 0.024 | 0.263 | |
| clonality | 0.103 | 0.004 | 0.107 | |
| cloneTrack | 31.436 | 0.828 | 33.067 | |
| commonSeqs | 0.170 | 0.016 | 0.186 | |
| commonSeqsBar | 0.815 | 0.084 | 0.899 | |
| commonSeqsPlot | 0.348 | 0.032 | 0.380 | |
| commonSeqsVenn | 0.769 | 0.048 | 0.818 | |
| differentialAbundance | 2.992 | 0.084 | 3.076 | |
| exportFasta | 0.244 | 0.000 | 0.244 | |
| geneFreq | 1.387 | 0.008 | 1.395 | |
| lorenzCurve | 1.126 | 0.004 | 1.130 | |
| mergeFiles | 0.078 | 0.000 | 0.078 | |
| pairwisePlot | 1.482 | 0.004 | 1.486 | |
| phyloTree | 4.108 | 0.008 | 4.116 | |
| productive | 0.063 | 0.000 | 0.063 | |
| productiveSeq | 19.192 | 0.792 | 19.984 | |
| readImmunoSeq | 0.066 | 0.000 | 0.066 | |
| removeSeq | 0.084 | 0.004 | 0.088 | |
| searchPublished | 0.210 | 0.004 | 0.214 | |
| searchSeq | 0.829 | 0.000 | 0.829 | |
| seqMatrix | 3.769 | 0.108 | 3.878 | |
| similarityMatrix | 0.169 | 0.000 | 0.169 | |
| similarityScore | 0.155 | 0.000 | 0.154 | |
| topFreq | 3.011 | 0.092 | 3.103 | |
| topSeqs | 0.235 | 0.000 | 0.235 | |
| topSeqsPlot | 0.534 | 0.004 | 0.541 | |
| uniqueSeqs | 0.33 | 0.00 | 0.33 | |