| Back to Multiple platform build/check report for BioC 3.11 |
|
This page was generated on 2020-10-17 11:56:58 -0400 (Sat, 17 Oct 2020).
| TO THE DEVELOPERS/MAINTAINERS OF THE Logolas PACKAGE: Please make sure to use the following settings in order to reproduce any error or warning you see on this page. |
| Package 951/1905 | Hostname | OS / Arch | INSTALL | BUILD | CHECK | BUILD BIN | ||||||
| Logolas 1.12.0 Kushal Dey
| malbec2 | Linux (Ubuntu 18.04.4 LTS) / x86_64 | OK | OK | ERROR | |||||||
| tokay2 | Windows Server 2012 R2 Standard / x64 | OK | OK | ERROR | [ OK ] | |||||||
| machv2 | macOS 10.14.6 Mojave / x86_64 | OK | OK | ERROR | OK |
| Package: Logolas |
| Version: 1.12.0 |
| Command: rm -rf Logolas.buildbin-libdir && mkdir Logolas.buildbin-libdir && C:\Users\biocbuild\bbs-3.11-bioc\R\bin\R.exe CMD INSTALL --merge-multiarch --build --library=Logolas.buildbin-libdir Logolas_1.12.0.tar.gz |
| StartedAt: 2020-10-17 10:53:35 -0400 (Sat, 17 Oct 2020) |
| EndedAt: 2020-10-17 10:54:22 -0400 (Sat, 17 Oct 2020) |
| EllapsedTime: 47.5 seconds |
| RetCode: 0 |
| Status: OK |
| PackageFile: Logolas_1.12.0.zip |
| PackageFileSize: 1.165 MiB |
##############################################################################
##############################################################################
###
### Running command:
###
### rm -rf Logolas.buildbin-libdir && mkdir Logolas.buildbin-libdir && C:\Users\biocbuild\bbs-3.11-bioc\R\bin\R.exe CMD INSTALL --merge-multiarch --build --library=Logolas.buildbin-libdir Logolas_1.12.0.tar.gz
###
##############################################################################
##############################################################################
install for i386
* installing *source* package 'Logolas' ...
** using staged installation
** R
** data
*** moving datasets to lazyload DB
** demo
** inst
** byte-compile and prepare package for lazy loading
** help
*** installing help indices
converting help for package 'Logolas'
finding HTML links ... done
EBF1_disc1 html
GetConsensusSeq html
UMI html
aRxiv html
get_logo_heights html
get_plot html
get_viewport_logo html
himalayan_fauna html
histone_marks html
logo_pssm html
logomaker html
makemylogo html
mutation_sig html
nlogomaker html
plogomaker html
pssm html
seqlogo_example html
** building package indices
** installing vignettes
** testing if installed package can be loaded from temporary location
** testing if installed package can be loaded from final location
** testing if installed package keeps a record of temporary installation path
install for x64
* installing *source* package 'Logolas' ...
** testing if installed package can be loaded
* MD5 sums
packaged installation of 'Logolas' as Logolas_1.12.0.zip
* DONE (Logolas)