| Back to Multiple platform build/check report for BioC 3.11 |
|
This page was generated on 2020-10-17 11:56:56 -0400 (Sat, 17 Oct 2020).
| TO THE DEVELOPERS/MAINTAINERS OF THE KnowSeq PACKAGE: Please make sure to use the following settings in order to reproduce any error or warning you see on this page. |
| Package 926/1905 | Hostname | OS / Arch | INSTALL | BUILD | CHECK | BUILD BIN | ||||||
| KnowSeq 1.2.2 Daniel Castillo-Secilla
| malbec2 | Linux (Ubuntu 18.04.4 LTS) / x86_64 | OK | OK | OK | |||||||
| tokay2 | Windows Server 2012 R2 Standard / x64 | OK | OK | OK | [ OK ] | |||||||
| machv2 | macOS 10.14.6 Mojave / x86_64 | OK | OK | OK | OK |
| Package: KnowSeq |
| Version: 1.2.2 |
| Command: rm -rf KnowSeq.buildbin-libdir && mkdir KnowSeq.buildbin-libdir && C:\Users\biocbuild\bbs-3.11-bioc\R\bin\R.exe CMD INSTALL --merge-multiarch --build --library=KnowSeq.buildbin-libdir KnowSeq_1.2.2.tar.gz |
| StartedAt: 2020-10-17 10:51:57 -0400 (Sat, 17 Oct 2020) |
| EndedAt: 2020-10-17 10:53:23 -0400 (Sat, 17 Oct 2020) |
| EllapsedTime: 86.3 seconds |
| RetCode: 0 |
| Status: OK |
| PackageFile: KnowSeq_1.2.2.zip |
| PackageFileSize: 4.508 MiB |
##############################################################################
##############################################################################
###
### Running command:
###
### rm -rf KnowSeq.buildbin-libdir && mkdir KnowSeq.buildbin-libdir && C:\Users\biocbuild\bbs-3.11-bioc\R\bin\R.exe CMD INSTALL --merge-multiarch --build --library=KnowSeq.buildbin-libdir KnowSeq_1.2.2.tar.gz
###
##############################################################################
##############################################################################
install for i386
* installing *source* package 'KnowSeq' ...
** using staged installation
** R
** inst
** byte-compile and prepare package for lazy loading
** help
*** installing help indices
converting help for package 'KnowSeq'
finding HTML links ... done
DEGsEvidences html
DEGsExtraction html
DEGsPathwayVisualization html
finding level-2 HTML links ... done
DEGsToDiseases html
RNAseqQA html
batchEffectRemoval html
calculateGeneExpressionValues html
countsToMatrix html
dataPlot html
downloadPublicSeries html
featureSelection html
fileMove html
gdcClientDownload html
geneOntologyEnrichment html
getGenesAnnotation html
hisatAlignment html
knn_test html
knn_trn html
knowseqReport html
plotConfMatrix html
rawAlignment html
rf_test html
rf_trn html
sraToFastq html
svm_test html
svm_trn html
** building package indices
** installing vignettes
** testing if installed package can be loaded from temporary location
** testing if installed package can be loaded from final location
** testing if installed package keeps a record of temporary installation path
install for x64
* installing *source* package 'KnowSeq' ...
** testing if installed package can be loaded
* MD5 sums
packaged installation of 'KnowSeq' as KnowSeq_1.2.2.zip
* DONE (KnowSeq)