| Back to Multiple platform build/check report for BioC 3.11 |
|
This page was generated on 2020-10-17 11:56:56 -0400 (Sat, 17 Oct 2020).
| TO THE DEVELOPERS/MAINTAINERS OF THE KEGGprofile PACKAGE: Please make sure to use the following settings in order to reproduce any error or warning you see on this page. |
| Package 921/1905 | Hostname | OS / Arch | INSTALL | BUILD | CHECK | BUILD BIN | ||||||
| KEGGprofile 1.30.0 Shilin Zhao
| malbec2 | Linux (Ubuntu 18.04.4 LTS) / x86_64 | OK | OK | OK | |||||||
| tokay2 | Windows Server 2012 R2 Standard / x64 | OK | OK | OK | [ OK ] | |||||||
| machv2 | macOS 10.14.6 Mojave / x86_64 | OK | OK | OK | OK |
| Package: KEGGprofile |
| Version: 1.30.0 |
| Command: rm -rf KEGGprofile.buildbin-libdir && mkdir KEGGprofile.buildbin-libdir && C:\Users\biocbuild\bbs-3.11-bioc\R\bin\R.exe CMD INSTALL --merge-multiarch --build --library=KEGGprofile.buildbin-libdir KEGGprofile_1.30.0.tar.gz |
| StartedAt: 2020-10-17 10:51:37 -0400 (Sat, 17 Oct 2020) |
| EndedAt: 2020-10-17 10:52:16 -0400 (Sat, 17 Oct 2020) |
| EllapsedTime: 39.3 seconds |
| RetCode: 0 |
| Status: OK |
| PackageFile: KEGGprofile_1.30.0.zip |
| PackageFileSize: 528.8 KiB |
##############################################################################
##############################################################################
###
### Running command:
###
### rm -rf KEGGprofile.buildbin-libdir && mkdir KEGGprofile.buildbin-libdir && C:\Users\biocbuild\bbs-3.11-bioc\R\bin\R.exe CMD INSTALL --merge-multiarch --build --library=KEGGprofile.buildbin-libdir KEGGprofile_1.30.0.tar.gz
###
##############################################################################
##############################################################################
install for i386
* installing *source* package 'KEGGprofile' ...
** using staged installation
** R
** data
** inst
** byte-compile and prepare package for lazy loading
** help
*** installing help indices
converting help for package 'KEGGprofile'
finding HTML links ... done
KEGGprofile-package html
col_by_value html
convertId html
download_KEGGfile html
download_latest_pathway html
find_enriched_pathway html
newIdMatrix html
parse_XMLfile html
pho_sites_count html
plot_pathway html
plot_pathway_cor html
plot_pathway_overall html
plot_profile html
pro_pho_expr html
** building package indices
** installing vignettes
** testing if installed package can be loaded from temporary location
** testing if installed package can be loaded from final location
** testing if installed package keeps a record of temporary installation path
install for x64
* installing *source* package 'KEGGprofile' ...
** testing if installed package can be loaded
* MD5 sums
packaged installation of 'KEGGprofile' as KEGGprofile_1.30.0.zip
* DONE (KEGGprofile)