| Back to Multiple platform build/check report for BioC 3.11 |
|
This page was generated on 2020-10-17 11:55:00 -0400 (Sat, 17 Oct 2020).
| TO THE DEVELOPERS/MAINTAINERS OF THE KEGGlincs PACKAGE: Please make sure to use the following settings in order to reproduce any error or warning you see on this page. |
| Package 919/1905 | Hostname | OS / Arch | INSTALL | BUILD | CHECK | BUILD BIN | ||||||
| KEGGlincs 1.14.0 Shana White
| malbec2 | Linux (Ubuntu 18.04.4 LTS) / x86_64 | OK | OK | [ OK ] | |||||||
| tokay2 | Windows Server 2012 R2 Standard / x64 | OK | OK | OK | OK | |||||||
| machv2 | macOS 10.14.6 Mojave / x86_64 | OK | OK | OK | OK |
| Package: KEGGlincs |
| Version: 1.14.0 |
| Command: /home/biocbuild/bbs-3.11-bioc/R/bin/R CMD check --install=check:KEGGlincs.install-out.txt --library=/home/biocbuild/bbs-3.11-bioc/R/library --no-vignettes --timings KEGGlincs_1.14.0.tar.gz |
| StartedAt: 2020-10-17 02:34:07 -0400 (Sat, 17 Oct 2020) |
| EndedAt: 2020-10-17 02:37:32 -0400 (Sat, 17 Oct 2020) |
| EllapsedTime: 205.0 seconds |
| RetCode: 0 |
| Status: OK |
| CheckDir: KEGGlincs.Rcheck |
| Warnings: 0 |
##############################################################################
##############################################################################
###
### Running command:
###
### /home/biocbuild/bbs-3.11-bioc/R/bin/R CMD check --install=check:KEGGlincs.install-out.txt --library=/home/biocbuild/bbs-3.11-bioc/R/library --no-vignettes --timings KEGGlincs_1.14.0.tar.gz
###
##############################################################################
##############################################################################
* using log directory ‘/home/biocbuild/bbs-3.11-bioc/meat/KEGGlincs.Rcheck’
* using R version 4.0.3 (2020-10-10)
* using platform: x86_64-pc-linux-gnu (64-bit)
* using session charset: UTF-8
* using option ‘--no-vignettes’
* checking for file ‘KEGGlincs/DESCRIPTION’ ... OK
* checking extension type ... Package
* this is package ‘KEGGlincs’ version ‘1.14.0’
* checking package namespace information ... OK
* checking package dependencies ... OK
* checking if this is a source package ... OK
* checking if there is a namespace ... OK
* checking for hidden files and directories ... OK
* checking for portable file names ... OK
* checking for sufficient/correct file permissions ... OK
* checking whether package ‘KEGGlincs’ can be installed ... OK
* checking installed package size ... OK
* checking package directory ... OK
* checking ‘build’ directory ... OK
* checking DESCRIPTION meta-information ... OK
* checking top-level files ... OK
* checking for left-over files ... OK
* checking index information ... OK
* checking package subdirectories ... OK
* checking R files for non-ASCII characters ... OK
* checking R files for syntax errors ... OK
* checking whether the package can be loaded ... OK
* checking whether the package can be loaded with stated dependencies ... OK
* checking whether the package can be unloaded cleanly ... OK
* checking whether the namespace can be loaded with stated dependencies ... OK
* checking whether the namespace can be unloaded cleanly ... OK
* checking dependencies in R code ... NOTE
Namespace in Imports field not imported from: ‘XML’
All declared Imports should be used.
* checking S3 generic/method consistency ... OK
* checking replacement functions ... OK
* checking foreign function calls ... OK
* checking R code for possible problems ... OK
* checking Rd files ... OK
* checking Rd metadata ... OK
* checking Rd cross-references ... OK
* checking for missing documentation entries ... OK
* checking for code/documentation mismatches ... OK
* checking Rd \usage sections ... OK
* checking Rd contents ... OK
* checking for unstated dependencies in examples ... OK
* checking files in ‘vignettes’ ... OK
* checking examples ... OK
Examples with CPU (user + system) or elapsed time > 5s
user system elapsed
add_edge_data 19.739 0.545 21.523
overlap_info 17.406 0.664 18.261
refine_mappings 10.813 0.164 11.241
edge_mapping_info 10.141 0.264 10.598
path_genes_by_cell_type 9.211 0.144 9.547
get_graph_object 7.581 0.036 7.808
* checking for unstated dependencies in vignettes ... OK
* checking package vignettes in ‘inst/doc’ ... OK
* checking running R code from vignettes ... SKIPPED
* checking re-building of vignette outputs ... SKIPPED
* checking PDF version of manual ... OK
* DONE
Status: 1 NOTE
See
‘/home/biocbuild/bbs-3.11-bioc/meat/KEGGlincs.Rcheck/00check.log’
for details.
KEGGlincs.Rcheck/00install.out
############################################################################## ############################################################################## ### ### Running command: ### ### /home/biocbuild/bbs-3.11-bioc/R/bin/R CMD INSTALL KEGGlincs ### ############################################################################## ############################################################################## * installing to library ‘/home/biocbuild/bbs-3.11-bioc/R/library’ * installing *source* package ‘KEGGlincs’ ... ** using staged installation ** R ** inst ** byte-compile and prepare package for lazy loading ** help *** installing help indices ** building package indices ** installing vignettes ** testing if installed package can be loaded from temporary location ** testing if installed package can be loaded from final location ** testing if installed package keeps a record of temporary installation path * DONE (KEGGlincs)
KEGGlincs.Rcheck/KEGGlincs-Ex.timings
| name | user | system | elapsed | |
| KEGG_lincs | 0 | 0 | 0 | |
| KL_compare | 0.001 | 0.000 | 0.001 | |
| add_edge_data | 19.739 | 0.545 | 21.523 | |
| cyto_vis | 0.517 | 0.000 | 0.874 | |
| edge_mapping_info | 10.141 | 0.264 | 10.598 | |
| expand_KEGG_edges | 0.246 | 0.000 | 0.438 | |
| expand_KEGG_mappings | 0.247 | 0.012 | 0.451 | |
| generate_mappings | 0.000 | 0.000 | 0.001 | |
| get_KGML | 0.244 | 0.000 | 0.816 | |
| get_fisher_info | 0.003 | 0.000 | 0.003 | |
| get_graph_object | 7.581 | 0.036 | 7.808 | |
| keggerize_edges | 0 | 0 | 0 | |
| node_mapping_info | 0.262 | 0.000 | 0.453 | |
| overlap_info | 17.406 | 0.664 | 18.261 | |
| path_genes_by_cell_type | 9.211 | 0.144 | 9.547 | |
| refine_mappings | 10.813 | 0.164 | 11.241 | |
| tidy_edge | 0.001 | 0.000 | 0.000 | |