| Back to Multiple platform build/check report for BioC 3.11 |
|
This page was generated on 2020-10-17 11:56:56 -0400 (Sat, 17 Oct 2020).
| TO THE DEVELOPERS/MAINTAINERS OF THE KEGGREST PACKAGE: Please make sure to use the following settings in order to reproduce any error or warning you see on this page. |
| Package 922/1905 | Hostname | OS / Arch | INSTALL | BUILD | CHECK | BUILD BIN | ||||||
| KEGGREST 1.28.0 Bioconductor Package Maintainer
| malbec2 | Linux (Ubuntu 18.04.4 LTS) / x86_64 | OK | OK | OK | |||||||
| tokay2 | Windows Server 2012 R2 Standard / x64 | OK | OK | [ OK ] | OK | |||||||
| machv2 | macOS 10.14.6 Mojave / x86_64 | OK | OK | OK | OK |
| Package: KEGGREST |
| Version: 1.28.0 |
| Command: C:\Users\biocbuild\bbs-3.11-bioc\R\bin\R.exe CMD check --force-multiarch --install=check:KEGGREST.install-out.txt --library=C:\Users\biocbuild\bbs-3.11-bioc\R\library --no-vignettes --timings KEGGREST_1.28.0.tar.gz |
| StartedAt: 2020-10-17 05:27:37 -0400 (Sat, 17 Oct 2020) |
| EndedAt: 2020-10-17 05:33:07 -0400 (Sat, 17 Oct 2020) |
| EllapsedTime: 330.7 seconds |
| RetCode: 0 |
| Status: OK |
| CheckDir: KEGGREST.Rcheck |
| Warnings: 0 |
##############################################################################
##############################################################################
###
### Running command:
###
### C:\Users\biocbuild\bbs-3.11-bioc\R\bin\R.exe CMD check --force-multiarch --install=check:KEGGREST.install-out.txt --library=C:\Users\biocbuild\bbs-3.11-bioc\R\library --no-vignettes --timings KEGGREST_1.28.0.tar.gz
###
##############################################################################
##############################################################################
* using log directory 'C:/Users/biocbuild/bbs-3.11-bioc/meat/KEGGREST.Rcheck'
* using R version 4.0.3 (2020-10-10)
* using platform: x86_64-w64-mingw32 (64-bit)
* using session charset: ISO8859-1
* using option '--no-vignettes'
* checking for file 'KEGGREST/DESCRIPTION' ... OK
* this is package 'KEGGREST' version '1.28.0'
* checking package namespace information ... OK
* checking package dependencies ... OK
* checking if this is a source package ... OK
* checking if there is a namespace ... OK
* checking for hidden files and directories ... OK
* checking for portable file names ... OK
* checking whether package 'KEGGREST' can be installed ... OK
* checking installed package size ... OK
* checking package directory ... OK
* checking 'build' directory ... OK
* checking DESCRIPTION meta-information ... OK
* checking top-level files ... OK
* checking for left-over files ... OK
* checking index information ... OK
* checking package subdirectories ... OK
* checking R files for non-ASCII characters ... OK
* checking R files for syntax errors ... OK
* loading checks for arch 'i386'
** checking whether the package can be loaded ... OK
** checking whether the package can be loaded with stated dependencies ... OK
** checking whether the package can be unloaded cleanly ... OK
** checking whether the namespace can be loaded with stated dependencies ... OK
** checking whether the namespace can be unloaded cleanly ... OK
* loading checks for arch 'x64'
** checking whether the package can be loaded ... OK
** checking whether the package can be loaded with stated dependencies ... OK
** checking whether the package can be unloaded cleanly ... OK
** checking whether the namespace can be loaded with stated dependencies ... OK
** checking whether the namespace can be unloaded cleanly ... OK
* checking dependencies in R code ... NOTE
Unexported object imported by a ':::' call: 'BiocGenerics:::testPackage'
See the note in ?`:::` about the use of this operator.
* checking S3 generic/method consistency ... OK
* checking replacement functions ... OK
* checking foreign function calls ... OK
* checking R code for possible problems ... OK
* checking Rd files ... OK
* checking Rd metadata ... OK
* checking Rd cross-references ... OK
* checking for missing documentation entries ... OK
* checking for code/documentation mismatches ... OK
* checking Rd \usage sections ... OK
* checking Rd contents ... OK
* checking for unstated dependencies in examples ... OK
* checking files in 'vignettes' ... OK
* checking examples ...
** running examples for arch 'i386' ... OK
Examples with CPU (user + system) or elapsed time > 5s
user system elapsed
listDatabases 3.95 0.72 10.61
keggList 3.08 0.85 12.18
keggLink 1.06 0.03 6.33
mark.pathway.by.objects 0.25 0.03 11.58
** running examples for arch 'x64' ... OK
Examples with CPU (user + system) or elapsed time > 5s
user system elapsed
listDatabases 2.36 0.85 9.39
keggList 2.14 0.56 10.83
keggLink 0.75 0.01 8.10
* checking for unstated dependencies in 'tests' ... OK
* checking tests ...
** running tests for arch 'i386' ...
Running 'KEGGREST_unit_tests.R'
OK
** running tests for arch 'x64' ...
Running 'KEGGREST_unit_tests.R'
OK
* checking for unstated dependencies in vignettes ... OK
* checking package vignettes in 'inst/doc' ... OK
* checking running R code from vignettes ... SKIPPED
* checking re-building of vignette outputs ... SKIPPED
* checking PDF version of manual ... OK
* DONE
Status: 1 NOTE
See
'C:/Users/biocbuild/bbs-3.11-bioc/meat/KEGGREST.Rcheck/00check.log'
for details.
KEGGREST.Rcheck/00install.out
##############################################################################
##############################################################################
###
### Running command:
###
### C:\cygwin\bin\curl.exe -O https://malbec2.bioconductor.org/BBS/3.11/bioc/src/contrib/KEGGREST_1.28.0.tar.gz && rm -rf KEGGREST.buildbin-libdir && mkdir KEGGREST.buildbin-libdir && C:\Users\biocbuild\bbs-3.11-bioc\R\bin\R.exe CMD INSTALL --merge-multiarch --build --library=KEGGREST.buildbin-libdir KEGGREST_1.28.0.tar.gz && C:\Users\biocbuild\bbs-3.11-bioc\R\bin\R.exe CMD INSTALL KEGGREST_1.28.0.zip && rm KEGGREST_1.28.0.tar.gz KEGGREST_1.28.0.zip
###
##############################################################################
##############################################################################
% Total % Received % Xferd Average Speed Time Time Time Current
Dload Upload Total Spent Left Speed
0 0 0 0 0 0 0 0 --:--:-- --:--:-- --:--:-- 0
100 14246 100 14246 0 0 58810 0 --:--:-- --:--:-- --:--:-- 60880
install for i386
* installing *source* package 'KEGGREST' ...
** using staged installation
** R
** inst
** byte-compile and prepare package for lazy loading
** help
*** installing help indices
converting help for package 'KEGGREST'
finding HTML links ... done
keggConv html
keggFind html
keggGet html
keggInfo html
keggLink html
keggList html
listDatabases html
mark.pathway.by.objects html
** building package indices
** installing vignettes
** testing if installed package can be loaded from temporary location
** testing if installed package can be loaded from final location
** testing if installed package keeps a record of temporary installation path
install for x64
* installing *source* package 'KEGGREST' ...
** testing if installed package can be loaded
* MD5 sums
packaged installation of 'KEGGREST' as KEGGREST_1.28.0.zip
* DONE (KEGGREST)
* installing to library 'C:/Users/biocbuild/bbs-3.11-bioc/R/library'
package 'KEGGREST' successfully unpacked and MD5 sums checked
|
KEGGREST.Rcheck/tests_i386/KEGGREST_unit_tests.Rout
R version 4.0.3 (2020-10-10) -- "Bunny-Wunnies Freak Out"
Copyright (C) 2020 The R Foundation for Statistical Computing
Platform: i386-w64-mingw32/i386 (32-bit)
R is free software and comes with ABSOLUTELY NO WARRANTY.
You are welcome to redistribute it under certain conditions.
Type 'license()' or 'licence()' for distribution details.
R is a collaborative project with many contributors.
Type 'contributors()' for more information and
'citation()' on how to cite R or R packages in publications.
Type 'demo()' for some demos, 'help()' for on-line help, or
'help.start()' for an HTML browser interface to help.
Type 'q()' to quit R.
> BiocGenerics:::testPackage("KEGGREST")
No encoding supplied: defaulting to UTF-8.
RUNIT TEST PROTOCOL -- Sat Oct 17 05:31:53 2020
***********************************************
Number of test functions: 11
Number of errors: 0
Number of failures: 0
1 Test Suite :
KEGGREST RUnit Tests - 11 test functions, 0 errors, 0 failures
Number of test functions: 11
Number of errors: 0
Number of failures: 0
>
> proc.time()
user system elapsed
19.42 1.93 61.59
|
KEGGREST.Rcheck/tests_x64/KEGGREST_unit_tests.Rout
R version 4.0.3 (2020-10-10) -- "Bunny-Wunnies Freak Out"
Copyright (C) 2020 The R Foundation for Statistical Computing
Platform: x86_64-w64-mingw32/x64 (64-bit)
R is free software and comes with ABSOLUTELY NO WARRANTY.
You are welcome to redistribute it under certain conditions.
Type 'license()' or 'licence()' for distribution details.
R is a collaborative project with many contributors.
Type 'contributors()' for more information and
'citation()' on how to cite R or R packages in publications.
Type 'demo()' for some demos, 'help()' for on-line help, or
'help.start()' for an HTML browser interface to help.
Type 'q()' to quit R.
> BiocGenerics:::testPackage("KEGGREST")
No encoding supplied: defaulting to UTF-8.
RUNIT TEST PROTOCOL -- Sat Oct 17 05:32:56 2020
***********************************************
Number of test functions: 11
Number of errors: 0
Number of failures: 0
1 Test Suite :
KEGGREST RUnit Tests - 11 test functions, 0 errors, 0 failures
Number of test functions: 11
Number of errors: 0
Number of failures: 0
>
> proc.time()
user system elapsed
19.89 1.60 62.60
|
|
KEGGREST.Rcheck/examples_i386/KEGGREST-Ex.timings
|
KEGGREST.Rcheck/examples_x64/KEGGREST-Ex.timings
|