| Back to Multiple platform build/check report for BioC 3.11 | 
  | 
This page was generated on 2020-01-16 13:52:22 -0500 (Thu, 16 Jan 2020).
| Package 864/1818 | Hostname | OS / Arch | INSTALL | BUILD | CHECK | BUILD BIN | ||||||
| IsoCorrectoR 1.5.1 Christian Kohler 
  | malbec2 | Linux (Ubuntu 18.04.3 LTS) / x86_64 | OK | OK | OK | |||||||
| tokay2 | Windows Server 2012 R2 Standard / x64 | OK | OK | OK | OK | |||||||
| celaya2 | OS X 10.11.6 El Capitan / x86_64 | OK | [ OK ] | OK | OK | 
| Package: IsoCorrectoR | 
| Version: 1.5.1 | 
| Command: /Library/Frameworks/R.framework/Versions/Current/Resources/bin/R CMD build --keep-empty-dirs --no-resave-data IsoCorrectoR | 
| StartedAt: 2020-01-16 00:13:53 -0500 (Thu, 16 Jan 2020) | 
| EndedAt: 2020-01-16 00:14:11 -0500 (Thu, 16 Jan 2020) | 
| EllapsedTime: 18.2 seconds | 
| RetCode: 0 | 
| Status: OK | 
| PackageFile: IsoCorrectoR_1.5.1.tar.gz | 
| PackageFileSize: 1.664 MiB | 
############################################################################## ############################################################################## ### ### Running command: ### ### /Library/Frameworks/R.framework/Versions/Current/Resources/bin/R CMD build --keep-empty-dirs --no-resave-data IsoCorrectoR ### ############################################################################## ############################################################################## * checking for file ‘IsoCorrectoR/DESCRIPTION’ ... OK * preparing ‘IsoCorrectoR’: * checking DESCRIPTION meta-information ... OK * installing the package to build vignettes * creating vignettes ... OK * checking for LF line-endings in source and make files and shell scripts * checking for empty or unneeded directories * building ‘IsoCorrectoR_1.5.1.tar.gz’