| Back to Multiple platform build/check report for BioC 3.11 | 
  | 
This page was generated on 2020-01-16 13:41:19 -0500 (Thu, 16 Jan 2020).
| Package 875/1818 | Hostname | OS / Arch | INSTALL | BUILD | CHECK | BUILD BIN | ||||||
| IVAS 2.7.0 Seonggyun Han 
  | malbec2 | Linux (Ubuntu 18.04.3 LTS) / x86_64 | OK | OK | WARNINGS | |||||||
| tokay2 | Windows Server 2012 R2 Standard / x64 | OK | OK | WARNINGS | OK | |||||||
| celaya2 | OS X 10.11.6 El Capitan / x86_64 | OK | OK | WARNINGS | [ OK ] | 
| Package: IVAS | 
| Version: 2.7.0 | 
| Command: rm -rf IVAS.buildbin-libdir && mkdir IVAS.buildbin-libdir && /Users/biocbuild/BBS/utils/build-universal.sh IVAS_2.7.0.tar.gz /Library/Frameworks/R.framework/Versions/Current/Resources/bin/R IVAS.buildbin-libdir | 
| StartedAt: 2020-01-16 11:10:19 -0500 (Thu, 16 Jan 2020) | 
| EndedAt: 2020-01-16 11:11:38 -0500 (Thu, 16 Jan 2020) | 
| EllapsedTime: 78.4 seconds | 
| RetCode: 0 | 
| Status: OK | 
| PackageFile: IVAS_2.7.0.tgz | 
| PackageFileSize: 656.6 KiB | 
############################################################################## ############################################################################## ### ### Running command: ### ### rm -rf IVAS.buildbin-libdir && mkdir IVAS.buildbin-libdir && /Users/biocbuild/BBS/utils/build-universal.sh IVAS_2.7.0.tar.gz /Library/Frameworks/R.framework/Versions/Current/Resources/bin/R IVAS.buildbin-libdir ### ############################################################################## ############################################################################## >>>>>>> >>>>>>> INSTALLATION WITH 'R CMD INSTALL --preclean --no-multiarch --library=IVAS.buildbin-libdir IVAS_2.7.0.tar.gz' >>>>>>> * installing *source* package ‘IVAS’ ... ** using staged installation ** R ** data ** inst ** byte-compile and prepare package for lazy loading Note: next used in wrong context: no loop is visible ** help *** installing help indices ** building package indices ** installing vignettes ** testing if installed package can be loaded from temporary location ** testing if installed package can be loaded from final location ** testing if installed package keeps a record of temporary installation path * DONE (IVAS)