| Back to Multiple platform build/check report for BioC 3.11 |
|
This page was generated on 2020-10-17 11:56:52 -0400 (Sat, 17 Oct 2020).
| TO THE DEVELOPERS/MAINTAINERS OF THE IMAS PACKAGE: Please make sure to use the following settings in order to reproduce any error or warning you see on this page. |
| Package 866/1905 | Hostname | OS / Arch | INSTALL | BUILD | CHECK | BUILD BIN | ||||||
| IMAS 1.12.0 Seonggyun Han
| malbec2 | Linux (Ubuntu 18.04.4 LTS) / x86_64 | OK | OK | OK | |||||||
| tokay2 | Windows Server 2012 R2 Standard / x64 | [ OK ] | OK | OK | OK | |||||||
| machv2 | macOS 10.14.6 Mojave / x86_64 | OK | OK | OK | OK |
| Package: IMAS |
| Version: 1.12.0 |
| Command: C:\cygwin\bin\curl.exe -O https://malbec2.bioconductor.org/BBS/3.11/bioc/src/contrib/IMAS_1.12.0.tar.gz && rm -rf IMAS.buildbin-libdir && mkdir IMAS.buildbin-libdir && C:\Users\biocbuild\bbs-3.11-bioc\R\bin\R.exe CMD INSTALL --merge-multiarch --build --library=IMAS.buildbin-libdir IMAS_1.12.0.tar.gz && C:\Users\biocbuild\bbs-3.11-bioc\R\bin\R.exe CMD INSTALL IMAS_1.12.0.zip && rm IMAS_1.12.0.tar.gz IMAS_1.12.0.zip |
| StartedAt: 2020-10-16 19:08:02 -0400 (Fri, 16 Oct 2020) |
| EndedAt: 2020-10-16 19:10:01 -0400 (Fri, 16 Oct 2020) |
| EllapsedTime: 119.5 seconds |
| RetCode: 0 |
| Status: OK |
##############################################################################
##############################################################################
###
### Running command:
###
### C:\cygwin\bin\curl.exe -O https://malbec2.bioconductor.org/BBS/3.11/bioc/src/contrib/IMAS_1.12.0.tar.gz && rm -rf IMAS.buildbin-libdir && mkdir IMAS.buildbin-libdir && C:\Users\biocbuild\bbs-3.11-bioc\R\bin\R.exe CMD INSTALL --merge-multiarch --build --library=IMAS.buildbin-libdir IMAS_1.12.0.tar.gz && C:\Users\biocbuild\bbs-3.11-bioc\R\bin\R.exe CMD INSTALL IMAS_1.12.0.zip && rm IMAS_1.12.0.tar.gz IMAS_1.12.0.zip
###
##############################################################################
##############################################################################
% Total % Received % Xferd Average Speed Time Time Time Current
Dload Upload Total Spent Left Speed
0 0 0 0 0 0 0 0 --:--:-- --:--:-- --:--:-- 0
100 397k 100 397k 0 0 2913k 0 --:--:-- --:--:-- --:--:-- 3079k
install for i386
* installing *source* package 'IMAS' ...
** using staged installation
** R
** data
** inst
** byte-compile and prepare package for lazy loading
** help
*** installing help indices
converting help for package 'IMAS'
finding HTML links ... done
ASvisualization html
finding level-2 HTML links ... done
ClinicAnalysis html
Clinical.data html
CompGroupAlt html
ExonsCluster html
GroupSam html
IMAS-package html
MEsQTLFinder html
RatioFromReads html
SplicingReads html
sampleMedata html
sampleMelocus html
samplebamfiles html
samplesnp html
samplesnplocus html
** building package indices
** installing vignettes
** testing if installed package can be loaded from temporary location
** testing if installed package can be loaded from final location
** testing if installed package keeps a record of temporary installation path
install for x64
* installing *source* package 'IMAS' ...
** testing if installed package can be loaded
* MD5 sums
packaged installation of 'IMAS' as IMAS_1.12.0.zip
* DONE (IMAS)
* installing to library 'C:/Users/biocbuild/bbs-3.11-bioc/R/library'
package 'IMAS' successfully unpacked and MD5 sums checked