| Back to Multiple platform build/check report for BioC 3.11 |
|
This page was generated on 2020-10-17 11:56:49 -0400 (Sat, 17 Oct 2020).
| TO THE DEVELOPERS/MAINTAINERS OF THE HIBAG PACKAGE: Please make sure to use the following settings in order to reproduce any error or warning you see on this page. |
| Package 813/1905 | Hostname | OS / Arch | INSTALL | BUILD | CHECK | BUILD BIN | ||||||
| HIBAG 1.24.0 Xiuwen Zheng
| malbec2 | Linux (Ubuntu 18.04.4 LTS) / x86_64 | OK | OK | OK | |||||||
| tokay2 | Windows Server 2012 R2 Standard / x64 | OK | OK | OK | [ OK ] | |||||||
| machv2 | macOS 10.14.6 Mojave / x86_64 | OK | OK | OK | OK |
| Package: HIBAG |
| Version: 1.24.0 |
| Command: rm -rf HIBAG.buildbin-libdir && mkdir HIBAG.buildbin-libdir && C:\Users\biocbuild\bbs-3.11-bioc\R\bin\R.exe CMD INSTALL --merge-multiarch --build --library=HIBAG.buildbin-libdir HIBAG_1.24.0.tar.gz |
| StartedAt: 2020-10-17 10:44:54 -0400 (Sat, 17 Oct 2020) |
| EndedAt: 2020-10-17 10:45:22 -0400 (Sat, 17 Oct 2020) |
| EllapsedTime: 28.6 seconds |
| RetCode: 0 |
| Status: OK |
| PackageFile: HIBAG_1.24.0.zip |
| PackageFileSize: 1.843 MiB |
##############################################################################
##############################################################################
###
### Running command:
###
### rm -rf HIBAG.buildbin-libdir && mkdir HIBAG.buildbin-libdir && C:\Users\biocbuild\bbs-3.11-bioc\R\bin\R.exe CMD INSTALL --merge-multiarch --build --library=HIBAG.buildbin-libdir HIBAG_1.24.0.tar.gz
###
##############################################################################
##############################################################################
install for i386
* installing *source* package 'HIBAG' ...
** using staged installation
** libs
"C:/rtools40/mingw32/bin/"g++ -std=gnu++11 -I"C:/Users/BIOCBU~1/BBS-3~1.11-/R/include" -DNDEBUG -I"C:/extsoft/include" -O2 -Wall -mfpmath=sse -msse2 -mstackrealign -c HIBAG.cpp -o HIBAG.o
"C:/rtools40/mingw32/bin/"g++ -std=gnu++11 -I"C:/Users/BIOCBU~1/BBS-3~1.11-/R/include" -DNDEBUG -I"C:/extsoft/include" -O2 -Wall -mfpmath=sse -msse2 -mstackrealign -c LibHLA.cpp -o LibHLA.o
C:/rtools40/mingw32/bin/g++ -std=gnu++11 -shared -s -static-libgcc -o HIBAG.dll tmp.def HIBAG.o LibHLA.o -LC:/extsoft/lib/i386 -LC:/extsoft/lib -LC:/Users/BIOCBU~1/BBS-3~1.11-/R/bin/i386 -lR
installing to C:/Users/biocbuild/bbs-3.11-bioc/meat/HIBAG.buildbin-libdir/00LOCK-HIBAG/00new/HIBAG/libs/i386
** R
** data
*** moving datasets to lazyload DB
** inst
** byte-compile and prepare package for lazy loading
** help
*** installing help indices
converting help for package 'HIBAG'
finding HTML links ... done
HIBAG-package html
HLA_Type_Table html
HapMap_CEU_Geno html
hlaAASeqClass html
hlaAllele html
hlaAlleleClass html
hlaAlleleDigit html
hlaAlleleSubset html
hlaAssocTest html
hlaAttrBagClass html
hlaAttrBagObj html
hlaAttrBagging html
hlaBED2Geno html
hlaCheckAllele html
hlaCheckSNPs html
hlaClose html
hlaCombineAllele html
hlaCombineModelObj html
hlaCompareAllele html
hlaConvSequence html
hlaDistance html
hlaErrMsg html
hlaFlankingSNP html
hlaGDS2Geno html
hlaGeno2PED html
hlaGenoAFreq html
hlaGenoCombine html
hlaGenoLD html
hlaGenoMFreq html
hlaGenoMRate html
hlaGenoMRate_Samp html
hlaGenoSubset html
hlaGenoSwitchStrand html
hlaLDMatrix html
hlaLociInfo html
hlaMakeSNPGeno html
hlaModelFiles html
hlaModelFromObj html
hlaOutOfBag html
hlaParallelAttrBagging html
hlaPredMerge html
hlaPublish html
hlaReport html
hlaReportPlot html
hlaSNPGenoClass html
hlaSNPID html
hlaSampleAllele html
hlaSplitAllele html
hlaSubModelObj html
hlaUniqueAllele html
plot.hlaAttrBagObj html
predict.hlaAttrBagClass html
print.hlaAttrBagClass html
summary.hlaAlleleClass html
summary.hlaSNPGenoClass html
** building package indices
** installing vignettes
** testing if installed package can be loaded from temporary location
** testing if installed package can be loaded from final location
** testing if installed package keeps a record of temporary installation path
install for x64
* installing *source* package 'HIBAG' ...
** libs
"C:/rtools40/mingw64/bin/"g++ -std=gnu++11 -I"C:/Users/BIOCBU~1/BBS-3~1.11-/R/include" -DNDEBUG -I"C:/extsoft/include" -O2 -Wall -mfpmath=sse -msse2 -mstackrealign -c HIBAG.cpp -o HIBAG.o
"C:/rtools40/mingw64/bin/"g++ -std=gnu++11 -I"C:/Users/BIOCBU~1/BBS-3~1.11-/R/include" -DNDEBUG -I"C:/extsoft/include" -O2 -Wall -mfpmath=sse -msse2 -mstackrealign -c LibHLA.cpp -o LibHLA.o
C:/rtools40/mingw64/bin/g++ -std=gnu++11 -shared -s -static-libgcc -o HIBAG.dll tmp.def HIBAG.o LibHLA.o -LC:/extsoft/lib/x64 -LC:/extsoft/lib -LC:/Users/BIOCBU~1/BBS-3~1.11-/R/bin/x64 -lR
installing to C:/Users/biocbuild/bbs-3.11-bioc/meat/HIBAG.buildbin-libdir/HIBAG/libs/x64
** testing if installed package can be loaded
* MD5 sums
packaged installation of 'HIBAG' as HIBAG_1.24.0.zip
* DONE (HIBAG)