| Back to Multiple platform build/check report for BioC 3.11 |
|
This page was generated on 2020-10-17 11:56:40 -0400 (Sat, 17 Oct 2020).
| TO THE DEVELOPERS/MAINTAINERS OF THE GenomicScores PACKAGE: Please make sure to use the following settings in order to reproduce any error or warning you see on this page. |
| Package 713/1905 | Hostname | OS / Arch | INSTALL | BUILD | CHECK | BUILD BIN | ||||||
| GenomicScores 2.0.0 Robert Castelo
| malbec2 | Linux (Ubuntu 18.04.4 LTS) / x86_64 | OK | OK | OK | |||||||
| tokay2 | Windows Server 2012 R2 Standard / x64 | OK | OK | WARNINGS | [ OK ] | |||||||
| machv2 | macOS 10.14.6 Mojave / x86_64 | OK | OK | OK | OK |
| Package: GenomicScores |
| Version: 2.0.0 |
| Command: rm -rf GenomicScores.buildbin-libdir && mkdir GenomicScores.buildbin-libdir && C:\Users\biocbuild\bbs-3.11-bioc\R\bin\R.exe CMD INSTALL --merge-multiarch --build --library=GenomicScores.buildbin-libdir GenomicScores_2.0.0.tar.gz |
| StartedAt: 2020-10-17 10:38:22 -0400 (Sat, 17 Oct 2020) |
| EndedAt: 2020-10-17 10:39:22 -0400 (Sat, 17 Oct 2020) |
| EllapsedTime: 60.4 seconds |
| RetCode: 0 |
| Status: OK |
| PackageFile: GenomicScores_2.0.0.zip |
| PackageFileSize: 2.681 MiB |
##############################################################################
##############################################################################
###
### Running command:
###
### rm -rf GenomicScores.buildbin-libdir && mkdir GenomicScores.buildbin-libdir && C:\Users\biocbuild\bbs-3.11-bioc\R\bin\R.exe CMD INSTALL --merge-multiarch --build --library=GenomicScores.buildbin-libdir GenomicScores_2.0.0.tar.gz
###
##############################################################################
##############################################################################
install for i386
* installing *source* package 'GenomicScores' ...
** using staged installation
** R
** inst
** byte-compile and prepare package for lazy loading
** help
*** installing help indices
converting help for package 'GenomicScores'
finding HTML links ... done
GScores-class html
finding level-2 HTML links ... done
Rd warning: C:/Users/biocbuild/bbs-3.11-bioc/tmpdir/Rtmp67z02V/R.INSTALL5c872693871/GenomicScores/man/GScores-class.Rd:240: file link 'phastCons100way.UCSC.hg19' in package 'phastCons100way.UCSC.hg19' does not exist and so has been treated as a topic
GenomicScores-defunct html
GenomicScores-deprecated html
gscores html
Rd warning: C:/Users/biocbuild/bbs-3.11-bioc/tmpdir/Rtmp67z02V/R.INSTALL5c872693871/GenomicScores/man/gscores.Rd:123: file link 'phastCons100way.UCSC.hg19' in package 'phastCons100way.UCSC.hg19' does not exist and so has been treated as a topic
Rd warning: C:/Users/biocbuild/bbs-3.11-bioc/tmpdir/Rtmp67z02V/R.INSTALL5c872693871/GenomicScores/man/gscores.Rd:124: file link 'MafDb.1Kgenomes.phase1.hs37d5' in package 'MafDb.1Kgenomes.phase1.hs37d5' does not exist and so has been treated as a topic
igscores html
makeGScoresPackage html
rgscores html
Rd warning: C:/Users/biocbuild/bbs-3.11-bioc/tmpdir/Rtmp67z02V/R.INSTALL5c872693871/GenomicScores/man/rgscores.Rd:57: file link 'phastCons100way.UCSC.hg19' in package 'phastCons100way.UCSC.hg19' does not exist and so has been treated as a topic
Rd warning: C:/Users/biocbuild/bbs-3.11-bioc/tmpdir/Rtmp67z02V/R.INSTALL5c872693871/GenomicScores/man/rgscores.Rd:58: file link 'MafDb.1Kgenomes.phase1.hs37d5' in package 'MafDb.1Kgenomes.phase1.hs37d5' does not exist and so has been treated as a topic
** building package indices
** installing vignettes
** testing if installed package can be loaded from temporary location
** testing if installed package can be loaded from final location
** testing if installed package keeps a record of temporary installation path
install for x64
* installing *source* package 'GenomicScores' ...
** testing if installed package can be loaded
* MD5 sums
packaged installation of 'GenomicScores' as GenomicScores_2.0.0.zip
* DONE (GenomicScores)