| Back to Multiple platform build/check report for BioC 3.11 | 
  | 
This page was generated on 2020-03-12 13:50:20 -0400 (Thu, 12 Mar 2020).
| Package 699/1838 | Hostname | OS / Arch | INSTALL | BUILD | CHECK | BUILD BIN | ||||||
| GenRank 1.15.0 Chakravarthi Kanduri 
  | malbec2 | Linux (Ubuntu 18.04.4 LTS) / x86_64 | OK | OK | [ OK ] | |||||||
| tokay2 | Windows Server 2012 R2 Standard / x64 | OK | OK | OK | OK | 
| Package: GenRank | 
| Version: 1.15.0 | 
| Command: /home/biocbuild/bbs-3.11-bioc/R/bin/R CMD check --install=check:GenRank.install-out.txt --library=/home/biocbuild/bbs-3.11-bioc/R/library --no-vignettes --timings GenRank_1.15.0.tar.gz | 
| StartedAt: 2020-03-12 04:19:38 -0400 (Thu, 12 Mar 2020) | 
| EndedAt: 2020-03-12 04:20:33 -0400 (Thu, 12 Mar 2020) | 
| EllapsedTime: 55.0 seconds | 
| RetCode: 0 | 
| Status: OK | 
| CheckDir: GenRank.Rcheck | 
| Warnings: 0 | 
##############################################################################
##############################################################################
###
### Running command:
###
###   /home/biocbuild/bbs-3.11-bioc/R/bin/R CMD check --install=check:GenRank.install-out.txt --library=/home/biocbuild/bbs-3.11-bioc/R/library --no-vignettes --timings GenRank_1.15.0.tar.gz
###
##############################################################################
##############################################################################
* using log directory ‘/home/biocbuild/bbs-3.11-bioc/meat/GenRank.Rcheck’
* using R Under development (unstable) (2020-01-28 r77731)
* using platform: x86_64-pc-linux-gnu (64-bit)
* using session charset: UTF-8
* using option ‘--no-vignettes’
* checking for file ‘GenRank/DESCRIPTION’ ... OK
* this is package ‘GenRank’ version ‘1.15.0’
* checking package namespace information ... OK
* checking package dependencies ... OK
* checking if this is a source package ... OK
* checking if there is a namespace ... OK
* checking for hidden files and directories ... OK
* checking for portable file names ... OK
* checking for sufficient/correct file permissions ... OK
* checking whether package ‘GenRank’ can be installed ... OK
* checking installed package size ... OK
* checking package directory ... OK
* checking ‘build’ directory ... OK
* checking DESCRIPTION meta-information ... OK
* checking top-level files ... OK
* checking for left-over files ... OK
* checking index information ... OK
* checking package subdirectories ... OK
* checking R files for non-ASCII characters ... OK
* checking R files for syntax errors ... OK
* checking whether the package can be loaded ... OK
* checking whether the package can be loaded with stated dependencies ... OK
* checking whether the package can be unloaded cleanly ... OK
* checking whether the namespace can be loaded with stated dependencies ... OK
* checking whether the namespace can be unloaded cleanly ... OK
* checking dependencies in R code ... OK
* checking S3 generic/method consistency ... OK
* checking replacement functions ... OK
* checking foreign function calls ... OK
* checking R code for possible problems ... NOTE
CombP: no visible global function definition for ‘read.table’
ComputeCE: no visible global function definition for ‘read.table’
ComputeCE: no visible global function definition for ‘complete.cases’
ComputeRP: no visible global function definition for ‘read.table’
ComputeRP: no visible global function definition for ‘complete.cases’
Undefined global functions or variables:
  complete.cases read.table
Consider adding
  importFrom("stats", "complete.cases")
  importFrom("utils", "read.table")
to your NAMESPACE file.
* checking Rd files ... OK
* checking Rd metadata ... OK
* checking Rd cross-references ... OK
* checking for missing documentation entries ... OK
* checking for code/documentation mismatches ... OK
* checking Rd \usage sections ... OK
* checking Rd contents ... OK
* checking for unstated dependencies in examples ... OK
* checking files in ‘vignettes’ ... OK
* checking examples ... OK
* checking for unstated dependencies in ‘tests’ ... OK
* checking tests ...
  Running ‘testthat.R’
 OK
* checking for unstated dependencies in vignettes ... OK
* checking package vignettes in ‘inst/doc’ ... OK
* checking running R code from vignettes ... SKIPPED
* checking re-building of vignette outputs ... SKIPPED
* checking PDF version of manual ... OK
* DONE
Status: 1 NOTE
See
  ‘/home/biocbuild/bbs-3.11-bioc/meat/GenRank.Rcheck/00check.log’
for details.
GenRank.Rcheck/00install.out
############################################################################## ############################################################################## ### ### Running command: ### ### /home/biocbuild/bbs-3.11-bioc/R/bin/R CMD INSTALL GenRank ### ############################################################################## ############################################################################## * installing to library ‘/home/biocbuild/bbs-3.11-bioc/R/library’ * installing *source* package ‘GenRank’ ... ** using staged installation ** R ** inst ** byte-compile and prepare package for lazy loading ** help *** installing help indices ** building package indices ** installing vignettes ** testing if installed package can be loaded from temporary location ** testing if installed package can be loaded from final location ** testing if installed package keeps a record of temporary installation path * DONE (GenRank)
GenRank.Rcheck/tests/testthat.Rout
R Under development (unstable) (2020-01-28 r77731) -- "Unsuffered Consequences"
Copyright (C) 2020 The R Foundation for Statistical Computing
Platform: x86_64-pc-linux-gnu (64-bit)
R is free software and comes with ABSOLUTELY NO WARRANTY.
You are welcome to redistribute it under certain conditions.
Type 'license()' or 'licence()' for distribution details.
R is a collaborative project with many contributors.
Type 'contributors()' for more information and
'citation()' on how to cite R or R packages in publications.
Type 'demo()' for some demos, 'help()' for on-line help, or
'help.start()' for an HTML browser interface to help.
Type 'q()' to quit R.
> library(testthat)
> library(GenRank)
> 
> test_check("GenRank")
══ testthat results  ═══════════════════════════════════════════════════════════
[ OK: 42 | SKIPPED: 0 | WARNINGS: 27 | FAILED: 0 ]
> 
> proc.time()
   user  system elapsed 
  4.005   0.142   4.136 
GenRank.Rcheck/GenRank-Ex.timings
| name | user | system | elapsed | |
| CombP | 0.087 | 0.019 | 0.122 | |
| ComputeCE | 0.068 | 0.004 | 0.081 | |
| ComputeRP | 0.616 | 0.023 | 0.641 | |