| Back to Multiple platform build/check report for BioC 3.11 | 
  | 
This page was generated on 2020-10-17 11:56:37 -0400 (Sat, 17 Oct 2020).
| TO THE DEVELOPERS/MAINTAINERS OF THE GateFinder PACKAGE: Please make sure to use the following settings in order to reproduce any error or warning you see on this page. | 
| Package 656/1905 | Hostname | OS / Arch | INSTALL | BUILD | CHECK | BUILD BIN | ||||||
| GateFinder 1.8.0 Nima Aghaeepour 
  | malbec2 | Linux (Ubuntu 18.04.4 LTS) / x86_64 | OK | OK | OK | |||||||
| tokay2 | Windows Server 2012 R2 Standard / x64 | [ OK ] | OK | OK | OK | |||||||
| machv2 | macOS 10.14.6 Mojave / x86_64 | OK | OK | OK | OK | 
| Package: GateFinder | 
| Version: 1.8.0 | 
| Command: C:\Users\biocbuild\bbs-3.11-bioc\R\bin\R.exe --arch x64 CMD INSTALL --no-multiarch GateFinder | 
| StartedAt: 2020-10-16 17:50:47 -0400 (Fri, 16 Oct 2020) | 
| EndedAt: 2020-10-16 17:52:31 -0400 (Fri, 16 Oct 2020) | 
| EllapsedTime: 103.7 seconds | 
| RetCode: 0 | 
| Status: OK | 
##############################################################################
##############################################################################
###
### Running command:
###
###   C:\Users\biocbuild\bbs-3.11-bioc\R\bin\R.exe --arch x64 CMD INSTALL --no-multiarch GateFinder
###
##############################################################################
##############################################################################
* installing to library 'C:/Users/biocbuild/bbs-3.11-bioc/R/library'
* installing *source* package 'GateFinder' ...
** using staged installation
** R
** data
** inst
** byte-compile and prepare package for lazy loading
** help
*** installing help indices
  converting help for package 'GateFinder'
    finding HTML links ... done
    GateFinder-package                      html  
    GateFinder                              html  
    GatingProjection-class                  html  
    LPSData                                 html  
    plot.GateFinder                         html  
** building package indices
** installing vignettes
** testing if installed package can be loaded from temporary location
** testing if installed package can be loaded from final location
** testing if installed package keeps a record of temporary installation path
* DONE (GateFinder)
Making 'packages.html' ... done