| Back to Multiple platform build/check report for BioC 3.11 |
|
This page was generated on 2020-10-17 11:56:43 -0400 (Sat, 17 Oct 2020).
| TO THE DEVELOPERS/MAINTAINERS OF THE GMRP PACKAGE: Please make sure to use the following settings in order to reproduce any error or warning you see on this page. |
| Package 747/1905 | Hostname | OS / Arch | INSTALL | BUILD | CHECK | BUILD BIN | ||||||
| GMRP 1.16.0 Yuan-De Tan
| malbec2 | Linux (Ubuntu 18.04.4 LTS) / x86_64 | OK | OK | WARNINGS | |||||||
| tokay2 | Windows Server 2012 R2 Standard / x64 | OK | OK | WARNINGS | [ OK ] | |||||||
| machv2 | macOS 10.14.6 Mojave / x86_64 | OK | OK | WARNINGS | OK |
| Package: GMRP |
| Version: 1.16.0 |
| Command: rm -rf GMRP.buildbin-libdir && mkdir GMRP.buildbin-libdir && C:\Users\biocbuild\bbs-3.11-bioc\R\bin\R.exe CMD INSTALL --merge-multiarch --build --library=GMRP.buildbin-libdir GMRP_1.16.0.tar.gz |
| StartedAt: 2020-10-17 10:40:30 -0400 (Sat, 17 Oct 2020) |
| EndedAt: 2020-10-17 10:41:10 -0400 (Sat, 17 Oct 2020) |
| EllapsedTime: 39.5 seconds |
| RetCode: 0 |
| Status: OK |
| PackageFile: GMRP_1.16.0.zip |
| PackageFileSize: 996.7 KiB |
##############################################################################
##############################################################################
###
### Running command:
###
### rm -rf GMRP.buildbin-libdir && mkdir GMRP.buildbin-libdir && C:\Users\biocbuild\bbs-3.11-bioc\R\bin\R.exe CMD INSTALL --merge-multiarch --build --library=GMRP.buildbin-libdir GMRP_1.16.0.tar.gz
###
##############################################################################
##############################################################################
install for i386
* installing *source* package 'GMRP' ...
** using staged installation
** R
** data
** inst
** byte-compile and prepare package for lazy loading
Warning: replacing previous import 'grDevices::windows' by 'GenomicRanges::windows' when loading 'GMRP'
** help
*** installing help indices
converting help for package 'GMRP'
finding HTML links ... done
GMRP-package html
SNP358.data html
SNP368annot.data html
beta.data html
cad.data html
chrp html
fmerge html
lpd.data html
mktable html
path html
pathdiagram html
pathdiagram2 html
snpPositAnnot html
ucscannot html
** building package indices
** installing vignettes
** testing if installed package can be loaded from temporary location
Warning: replacing previous import 'grDevices::windows' by 'GenomicRanges::windows' when loading 'GMRP'
Warning: Package 'GMRP' is deprecated and will be removed from Bioconductor
version 3.7
** testing if installed package can be loaded from final location
Warning: replacing previous import 'grDevices::windows' by 'GenomicRanges::windows' when loading 'GMRP'
Warning: Package 'GMRP' is deprecated and will be removed from Bioconductor
version 3.7
** testing if installed package keeps a record of temporary installation path
install for x64
* installing *source* package 'GMRP' ...
** testing if installed package can be loaded
Warning: replacing previous import 'grDevices::windows' by 'GenomicRanges::windows' when loading 'GMRP'
Warning: Package 'GMRP' is deprecated and will be removed from Bioconductor
version 3.7
* MD5 sums
packaged installation of 'GMRP' as GMRP_1.16.0.zip
* DONE (GMRP)