| Back to Multiple platform build/check report for BioC 3.11 |
|
This page was generated on 2020-10-17 11:56:41 -0400 (Sat, 17 Oct 2020).
| TO THE DEVELOPERS/MAINTAINERS OF THE GGPA PACKAGE: Please make sure to use the following settings in order to reproduce any error or warning you see on this page. |
| Package 730/1905 | Hostname | OS / Arch | INSTALL | BUILD | CHECK | BUILD BIN | ||||||
| GGPA 1.0.0 Dongjun Chung
| malbec2 | Linux (Ubuntu 18.04.4 LTS) / x86_64 | OK | OK | OK | |||||||
| tokay2 | Windows Server 2012 R2 Standard / x64 | [ OK ] | OK | OK | OK | |||||||
| machv2 | macOS 10.14.6 Mojave / x86_64 | OK | OK | OK | OK |
| Package: GGPA |
| Version: 1.0.0 |
| Command: C:\cygwin\bin\curl.exe -O https://malbec2.bioconductor.org/BBS/3.11/bioc/src/contrib/GGPA_1.0.0.tar.gz && rm -rf GGPA.buildbin-libdir && mkdir GGPA.buildbin-libdir && C:\Users\biocbuild\bbs-3.11-bioc\R\bin\R.exe CMD INSTALL --merge-multiarch --build --library=GGPA.buildbin-libdir GGPA_1.0.0.tar.gz && C:\Users\biocbuild\bbs-3.11-bioc\R\bin\R.exe CMD INSTALL GGPA_1.0.0.zip && rm GGPA_1.0.0.tar.gz GGPA_1.0.0.zip |
| StartedAt: 2020-10-16 17:16:13 -0400 (Fri, 16 Oct 2020) |
| EndedAt: 2020-10-16 17:18:13 -0400 (Fri, 16 Oct 2020) |
| EllapsedTime: 120.2 seconds |
| RetCode: 0 |
| Status: OK |
##############################################################################
##############################################################################
###
### Running command:
###
### C:\cygwin\bin\curl.exe -O https://malbec2.bioconductor.org/BBS/3.11/bioc/src/contrib/GGPA_1.0.0.tar.gz && rm -rf GGPA.buildbin-libdir && mkdir GGPA.buildbin-libdir && C:\Users\biocbuild\bbs-3.11-bioc\R\bin\R.exe CMD INSTALL --merge-multiarch --build --library=GGPA.buildbin-libdir GGPA_1.0.0.tar.gz && C:\Users\biocbuild\bbs-3.11-bioc\R\bin\R.exe CMD INSTALL GGPA_1.0.0.zip && rm GGPA_1.0.0.tar.gz GGPA_1.0.0.zip
###
##############################################################################
##############################################################################
% Total % Received % Xferd Average Speed Time Time Time Current
Dload Upload Total Spent Left Speed
0 0 0 0 0 0 0 0 --:--:-- --:--:-- --:--:-- 0
100 3161k 100 3161k 0 0 36.2M 0 --:--:-- --:--:-- --:--:-- 39.0M
install for i386
* installing *source* package 'GGPA' ...
** using staged installation
** libs
"C:/rtools40/mingw32/bin/"g++ -std=gnu++11 -I"C:/Users/BIOCBU~1/BBS-3~1.11-/R/include" -DNDEBUG -I'C:/Users/biocbuild/bbs-3.11-bioc/R/library/Rcpp/include' -I'C:/Users/biocbuild/bbs-3.11-bioc/R/library/RcppArmadillo/include' -I"C:/extsoft/include" -O2 -Wall -mfpmath=sse -msse2 -mstackrealign -c 1_Main.cpp -o 1_Main.o
"C:/rtools40/mingw32/bin/"g++ -std=gnu++11 -I"C:/Users/BIOCBU~1/BBS-3~1.11-/R/include" -DNDEBUG -I'C:/Users/biocbuild/bbs-3.11-bioc/R/library/Rcpp/include' -I'C:/Users/biocbuild/bbs-3.11-bioc/R/library/RcppArmadillo/include' -I"C:/extsoft/include" -O2 -Wall -mfpmath=sse -msse2 -mstackrealign -c 3_Param.cpp -o 3_Param.o
3_Param.cpp: In member function 'void CParam::S6_G_beta_ij(CData&)':
3_Param.cpp:350:47: warning: 'normC_prop' may be used uninitialized in this function [-Wmaybe-uninitialized]
Beta = Beta_prop ; G_mat = G_prop ; normC = normC_prop ;
~~~~~~^~~~~~~~~~~~
3_Param.cpp:335:32: warning: 'logP_denom' may be used uninitialized in this function [-Wmaybe-uninitialized]
if ( w_cur > 0 ) logP_denom = logP_denom - log(w_cur) ; // f(G) // if w_cur=0, let 1/w_cur = 1, so that log(w_cur) = 0
~~~~~~~~~~~^~~~~~~~~~~~~~~~~~~~~~~~~
3_Param.cpp:334:33: warning: 'logP_numer' may be used uninitialized in this function [-Wmaybe-uninitialized]
if ( w_prop > 0 ) logP_numer = logP_numer - log(w_prop) ; // f(G^q) // if w_prop=0, let 1/w_prop = 1, so that log(w_prop) = 0
~~~~~~~~~~~^~~~~~~~~~~~~~~~~~~~~~~~~~
"C:/rtools40/mingw32/bin/"g++ -std=gnu++11 -I"C:/Users/BIOCBU~1/BBS-3~1.11-/R/include" -DNDEBUG -I'C:/Users/biocbuild/bbs-3.11-bioc/R/library/Rcpp/include' -I'C:/Users/biocbuild/bbs-3.11-bioc/R/library/RcppArmadillo/include' -I"C:/extsoft/include" -O2 -Wall -mfpmath=sse -msse2 -mstackrealign -c Gibbs_e_it_no_ann.cpp -o Gibbs_e_it_no_ann.o
"C:/rtools40/mingw32/bin/"g++ -std=gnu++11 -I"C:/Users/BIOCBU~1/BBS-3~1.11-/R/include" -DNDEBUG -I'C:/Users/biocbuild/bbs-3.11-bioc/R/library/Rcpp/include' -I'C:/Users/biocbuild/bbs-3.11-bioc/R/library/RcppArmadillo/include' -I"C:/extsoft/include" -O2 -Wall -mfpmath=sse -msse2 -mstackrealign -c RcppExports.cpp -o RcppExports.o
C:/rtools40/mingw32/bin/g++ -std=gnu++11 -shared -s -static-libgcc -o GGPA.dll tmp.def 1_Main.o 3_Param.o Gibbs_e_it_no_ann.o RcppExports.o -LC:/Users/BIOCBU~1/BBS-3~1.11-/R/bin/i386 -lRlapack -LC:/Users/BIOCBU~1/BBS-3~1.11-/R/bin/i386 -lRblas -lgfortran -lm -lquadmath -LC:/extsoft/lib/i386 -LC:/extsoft/lib -LC:/Users/BIOCBU~1/BBS-3~1.11-/R/bin/i386 -lR
installing to C:/Users/biocbuild/bbs-3.11-bioc/meat/GGPA.buildbin-libdir/00LOCK-GGPA/00new/GGPA/libs/i386
** R
** data
** byte-compile and prepare package for lazy loading
** help
*** installing help indices
converting help for package 'GGPA'
finding HTML links ... done
GGPA-class html
GGPA-internal html
GGPA-package html
GGPA html
assoc html
simulation html
** building package indices
** installing vignettes
** testing if installed package can be loaded from temporary location
** testing if installed package can be loaded from final location
** testing if installed package keeps a record of temporary installation path
install for x64
* installing *source* package 'GGPA' ...
** libs
"C:/rtools40/mingw64/bin/"g++ -std=gnu++11 -I"C:/Users/BIOCBU~1/BBS-3~1.11-/R/include" -DNDEBUG -I'C:/Users/biocbuild/bbs-3.11-bioc/R/library/Rcpp/include' -I'C:/Users/biocbuild/bbs-3.11-bioc/R/library/RcppArmadillo/include' -I"C:/extsoft/include" -O2 -Wall -mfpmath=sse -msse2 -mstackrealign -c 1_Main.cpp -o 1_Main.o
"C:/rtools40/mingw64/bin/"g++ -std=gnu++11 -I"C:/Users/BIOCBU~1/BBS-3~1.11-/R/include" -DNDEBUG -I'C:/Users/biocbuild/bbs-3.11-bioc/R/library/Rcpp/include' -I'C:/Users/biocbuild/bbs-3.11-bioc/R/library/RcppArmadillo/include' -I"C:/extsoft/include" -O2 -Wall -mfpmath=sse -msse2 -mstackrealign -c 3_Param.cpp -o 3_Param.o
3_Param.cpp: In member function 'void CParam::S6_G_beta_ij(CData&)':
3_Param.cpp:350:47: warning: 'normC_prop' may be used uninitialized in this function [-Wmaybe-uninitialized]
Beta = Beta_prop ; G_mat = G_prop ; normC = normC_prop ;
~~~~~~^~~~~~~~~~~~
3_Param.cpp:335:32: warning: 'logP_denom' may be used uninitialized in this function [-Wmaybe-uninitialized]
if ( w_cur > 0 ) logP_denom = logP_denom - log(w_cur) ; // f(G) // if w_cur=0, let 1/w_cur = 1, so that log(w_cur) = 0
~~~~~~~~~~~^~~~~~~~~~~~~~~~~~~~~~~~~
3_Param.cpp:334:33: warning: 'logP_numer' may be used uninitialized in this function [-Wmaybe-uninitialized]
if ( w_prop > 0 ) logP_numer = logP_numer - log(w_prop) ; // f(G^q) // if w_prop=0, let 1/w_prop = 1, so that log(w_prop) = 0
~~~~~~~~~~~^~~~~~~~~~~~~~~~~~~~~~~~~~
"C:/rtools40/mingw64/bin/"g++ -std=gnu++11 -I"C:/Users/BIOCBU~1/BBS-3~1.11-/R/include" -DNDEBUG -I'C:/Users/biocbuild/bbs-3.11-bioc/R/library/Rcpp/include' -I'C:/Users/biocbuild/bbs-3.11-bioc/R/library/RcppArmadillo/include' -I"C:/extsoft/include" -O2 -Wall -mfpmath=sse -msse2 -mstackrealign -c Gibbs_e_it_no_ann.cpp -o Gibbs_e_it_no_ann.o
"C:/rtools40/mingw64/bin/"g++ -std=gnu++11 -I"C:/Users/BIOCBU~1/BBS-3~1.11-/R/include" -DNDEBUG -I'C:/Users/biocbuild/bbs-3.11-bioc/R/library/Rcpp/include' -I'C:/Users/biocbuild/bbs-3.11-bioc/R/library/RcppArmadillo/include' -I"C:/extsoft/include" -O2 -Wall -mfpmath=sse -msse2 -mstackrealign -c RcppExports.cpp -o RcppExports.o
C:/rtools40/mingw64/bin/g++ -std=gnu++11 -shared -s -static-libgcc -o GGPA.dll tmp.def 1_Main.o 3_Param.o Gibbs_e_it_no_ann.o RcppExports.o -LC:/Users/BIOCBU~1/BBS-3~1.11-/R/bin/x64 -lRlapack -LC:/Users/BIOCBU~1/BBS-3~1.11-/R/bin/x64 -lRblas -lgfortran -lm -lquadmath -LC:/extsoft/lib/x64 -LC:/extsoft/lib -LC:/Users/BIOCBU~1/BBS-3~1.11-/R/bin/x64 -lR
installing to C:/Users/biocbuild/bbs-3.11-bioc/meat/GGPA.buildbin-libdir/GGPA/libs/x64
** testing if installed package can be loaded
* MD5 sums
packaged installation of 'GGPA' as GGPA_1.0.0.zip
* DONE (GGPA)
* installing to library 'C:/Users/biocbuild/bbs-3.11-bioc/R/library'
package 'GGPA' successfully unpacked and MD5 sums checked