| Back to Multiple platform build/check report for BioC 3.11 |
|
This page was generated on 2020-01-16 13:53:15 -0500 (Thu, 16 Jan 2020).
| Package 625/1818 | Hostname | OS / Arch | INSTALL | BUILD | CHECK | BUILD BIN | ||||||
| GAPGOM 1.3.0 Casper Peters
| malbec2 | Linux (Ubuntu 18.04.3 LTS) / x86_64 | OK | OK | OK | |||||||
| tokay2 | Windows Server 2012 R2 Standard / x64 | OK | OK | OK | OK | |||||||
| celaya2 | OS X 10.11.6 El Capitan / x86_64 | OK | OK | [ OK ] | OK |
| Package: GAPGOM |
| Version: 1.3.0 |
| Command: /Library/Frameworks/R.framework/Versions/Current/Resources/bin/R CMD check --install=check:GAPGOM.install-out.txt --library=/Library/Frameworks/R.framework/Versions/Current/Resources/library --no-vignettes --timings GAPGOM_1.3.0.tar.gz |
| StartedAt: 2020-01-16 04:37:18 -0500 (Thu, 16 Jan 2020) |
| EndedAt: 2020-01-16 04:43:18 -0500 (Thu, 16 Jan 2020) |
| EllapsedTime: 360.5 seconds |
| RetCode: 0 |
| Status: OK |
| CheckDir: GAPGOM.Rcheck |
| Warnings: 0 |
##############################################################################
##############################################################################
###
### Running command:
###
### /Library/Frameworks/R.framework/Versions/Current/Resources/bin/R CMD check --install=check:GAPGOM.install-out.txt --library=/Library/Frameworks/R.framework/Versions/Current/Resources/library --no-vignettes --timings GAPGOM_1.3.0.tar.gz
###
##############################################################################
##############################################################################
* using log directory ‘/Users/biocbuild/bbs-3.11-bioc/meat/GAPGOM.Rcheck’
* using R Under development (unstable) (2019-12-14 r77572)
* using platform: x86_64-apple-darwin15.6.0 (64-bit)
* using session charset: UTF-8
* using option ‘--no-vignettes’
* checking for file ‘GAPGOM/DESCRIPTION’ ... OK
* checking extension type ... Package
* this is package ‘GAPGOM’ version ‘1.3.0’
* package encoding: UTF-8
* checking package namespace information ... OK
* checking package dependencies ... OK
* checking if this is a source package ... OK
* checking if there is a namespace ... OK
* checking for hidden files and directories ... OK
* checking for portable file names ... OK
* checking for sufficient/correct file permissions ... OK
* checking whether package ‘GAPGOM’ can be installed ... OK
* checking installed package size ... OK
* checking package directory ... OK
* checking ‘build’ directory ... OK
* checking DESCRIPTION meta-information ... OK
* checking top-level files ... OK
* checking for left-over files ... OK
* checking index information ... OK
* checking package subdirectories ... OK
* checking R files for non-ASCII characters ... OK
* checking R files for syntax errors ... OK
* checking whether the package can be loaded ... OK
* checking whether the package can be loaded with stated dependencies ... OK
* checking whether the package can be unloaded cleanly ... OK
* checking whether the namespace can be loaded with stated dependencies ... OK
* checking whether the namespace can be unloaded cleanly ... OK
* checking dependencies in R code ... OK
* checking S3 generic/method consistency ... OK
* checking replacement functions ... OK
* checking foreign function calls ... OK
* checking R code for possible problems ... OK
* checking Rd files ... OK
* checking Rd metadata ... OK
* checking Rd cross-references ... OK
* checking for missing documentation entries ... OK
* checking for code/documentation mismatches ... OK
* checking Rd \usage sections ... OK
* checking Rd contents ... OK
* checking for unstated dependencies in examples ... OK
* checking contents of ‘data’ directory ... OK
* checking data for non-ASCII characters ... OK
* checking data for ASCII and uncompressed saves ... OK
* checking R/sysdata.rda ... OK
* checking files in ‘vignettes’ ... OK
* checking examples ... OK
Examples with CPU (user + system) or elapsed time > 5s
user system elapsed
topo_ic_sim_genes 58.718 8.651 62.697
topo_ic_sim_term 18.142 2.173 19.685
set_go_data 16.127 2.458 18.557
fantom_to_expset 11.156 0.636 10.724
fantom_load_raw 10.545 0.191 10.740
* checking for unstated dependencies in ‘tests’ ... OK
* checking tests ...
Running ‘testthat.R’
OK
* checking for unstated dependencies in vignettes ... OK
* checking package vignettes in ‘inst/doc’ ... OK
* checking running R code from vignettes ... SKIPPED
* checking re-building of vignette outputs ... SKIPPED
* checking PDF version of manual ... OK
* DONE
Status: OK
GAPGOM.Rcheck/00install.out
############################################################################## ############################################################################## ### ### Running command: ### ### /Library/Frameworks/R.framework/Versions/Current/Resources/bin/R CMD INSTALL GAPGOM ### ############################################################################## ############################################################################## * installing to library ‘/Library/Frameworks/R.framework/Versions/4.0/Resources/library’ * installing *source* package ‘GAPGOM’ ... ** using staged installation ** R ** data *** moving datasets to lazyload DB ** inst ** byte-compile and prepare package for lazy loading ** help *** installing help indices ** building package indices ** installing vignettes ** testing if installed package can be loaded from temporary location ** testing if installed package can be loaded from final location ** testing if installed package keeps a record of temporary installation path * DONE (GAPGOM)
GAPGOM.Rcheck/tests/testthat.Rout
R Under development (unstable) (2019-12-14 r77572) -- "Unsuffered Consequences"
Copyright (C) 2019 The R Foundation for Statistical Computing
Platform: x86_64-apple-darwin15.6.0 (64-bit)
R is free software and comes with ABSOLUTELY NO WARRANTY.
You are welcome to redistribute it under certain conditions.
Type 'license()' or 'licence()' for distribution details.
R is a collaborative project with many contributors.
Type 'contributors()' for more information and
'citation()' on how to cite R or R packages in publications.
Type 'demo()' for some demos, 'help()' for on-line help, or
'help.start()' for an HTML browser interface to help.
Type 'q()' to quit R.
> library(testthat)
> library(GAPGOM)
Setting options('download.file.method.GEOquery'='auto')
Setting options('GEOquery.inmemory.gpl'=FALSE)
GAPGOM v1.3.0
For help/issues, refer to the readme FAQ or report an issue on the issue page: https://github.com/Berghopper/GAPGOM/issues
If you use GAPGOM in any sort of publication, please cite:
[1] Ehsani R, Drabløs F: TopoICSim: a new semantic similarity measure based on gene ontology. BMC Bioinformatics 2016, 17(1):296
[2] Ehsani R, Drabløs F: Measures of co-expression for improved function prediction of long non-coding RNAs, 2018. BMC Bioinformatics, 2018 Accepted.
>
> test_check("GAPGOM")
══ testthat results ═══════════════════════════════════════════════════════════
[ OK: 7 | SKIPPED: 3 | WARNINGS: 0 | FAILED: 0 ]
>
> proc.time()
user system elapsed
16.131 3.405 13.813
GAPGOM.Rcheck/GAPGOM-Ex.timings
| name | user | system | elapsed | |
| expression_prediction | 2.371 | 1.707 | 0.947 | |
| expression_semantic_scoring | 0.938 | 0.400 | 0.686 | |
| fantom_download | 0.581 | 0.012 | 0.599 | |
| fantom_load_raw | 10.545 | 0.191 | 10.740 | |
| fantom_to_expset | 11.156 | 0.636 | 10.724 | |
| set_go_data | 16.127 | 2.458 | 18.557 | |
| topo_ic_sim_genes | 58.718 | 8.651 | 62.697 | |
| topo_ic_sim_term | 18.142 | 2.173 | 19.685 | |