| Back to Multiple platform build/check report for BioC 3.11 |
|
This page was generated on 2020-10-17 11:54:46 -0400 (Sat, 17 Oct 2020).
| TO THE DEVELOPERS/MAINTAINERS OF THE FRASER PACKAGE: Please make sure to use the following settings in order to reproduce any error or warning you see on this page. |
| Package 638/1905 | Hostname | OS / Arch | INSTALL | BUILD | CHECK | BUILD BIN | ||||||
| FRASER 1.0.2 Christian Mertes
| malbec2 | Linux (Ubuntu 18.04.4 LTS) / x86_64 | OK | OK | [ OK ] | |||||||
| tokay2 | Windows Server 2012 R2 Standard / x64 | OK | OK | OK | OK | |||||||
| machv2 | macOS 10.14.6 Mojave / x86_64 | OK | OK | OK | OK |
| Package: FRASER |
| Version: 1.0.2 |
| Command: /home/biocbuild/bbs-3.11-bioc/R/bin/R CMD check --install=check:FRASER.install-out.txt --library=/home/biocbuild/bbs-3.11-bioc/R/library --no-vignettes --timings FRASER_1.0.2.tar.gz |
| StartedAt: 2020-10-17 01:25:55 -0400 (Sat, 17 Oct 2020) |
| EndedAt: 2020-10-17 01:36:12 -0400 (Sat, 17 Oct 2020) |
| EllapsedTime: 616.9 seconds |
| RetCode: 0 |
| Status: OK |
| CheckDir: FRASER.Rcheck |
| Warnings: 0 |
##############################################################################
##############################################################################
###
### Running command:
###
### /home/biocbuild/bbs-3.11-bioc/R/bin/R CMD check --install=check:FRASER.install-out.txt --library=/home/biocbuild/bbs-3.11-bioc/R/library --no-vignettes --timings FRASER_1.0.2.tar.gz
###
##############################################################################
##############################################################################
* using log directory ‘/home/biocbuild/bbs-3.11-bioc/meat/FRASER.Rcheck’
* using R version 4.0.3 (2020-10-10)
* using platform: x86_64-pc-linux-gnu (64-bit)
* using session charset: UTF-8
* using option ‘--no-vignettes’
* checking for file ‘FRASER/DESCRIPTION’ ... OK
* checking extension type ... Package
* this is package ‘FRASER’ version ‘1.0.2’
* package encoding: UTF-8
* checking package namespace information ... OK
* checking package dependencies ... OK
* checking if this is a source package ... OK
* checking if there is a namespace ... OK
* checking for hidden files and directories ... OK
* checking for portable file names ... OK
* checking for sufficient/correct file permissions ... OK
* checking whether package ‘FRASER’ can be installed ... OK
* checking installed package size ... NOTE
installed size is 6.6Mb
sub-directories of 1Mb or more:
R 1.2Mb
libs 4.6Mb
* checking package directory ... OK
* checking ‘build’ directory ... OK
* checking DESCRIPTION meta-information ... OK
* checking top-level files ... OK
* checking for left-over files ... OK
* checking index information ... OK
* checking package subdirectories ... OK
* checking R files for non-ASCII characters ... OK
* checking R files for syntax errors ... OK
* checking whether the package can be loaded ... OK
* checking whether the package can be loaded with stated dependencies ... OK
* checking whether the package can be unloaded cleanly ... OK
* checking whether the namespace can be loaded with stated dependencies ... OK
* checking whether the namespace can be unloaded cleanly ... OK
* checking dependencies in R code ... NOTE
Unexported object imported by a ':::' call: ‘S4Vectors:::selectSome’
See the note in ?`:::` about the use of this operator.
* checking S3 generic/method consistency ... OK
* checking replacement functions ... OK
* checking foreign function calls ... OK
* checking R code for possible problems ... NOTE
annotateRangesWithTxDb: no visible binding for global variable
‘uniqueID’
extractChromosomeLengths: no visible binding for global variable
‘mapped’
extractChromosomes: no visible binding for global variable ‘mapped’
getAnnotationFeature: no visible binding for global variable
‘first_feature’
getAnnotationFeature: no visible binding for global variable
‘other_features’
Undefined global functions or variables:
first_feature mapped other_features uniqueID
* checking Rd files ... OK
* checking Rd metadata ... OK
* checking Rd cross-references ... OK
* checking for missing documentation entries ... OK
* checking for code/documentation mismatches ... OK
* checking Rd \usage sections ... OK
* checking Rd contents ... OK
* checking for unstated dependencies in examples ... OK
* checking line endings in C/C++/Fortran sources/headers ... OK
* checking line endings in Makefiles ... OK
* checking compilation flags in Makevars ... OK
* checking for GNU extensions in Makefiles ... OK
* checking for portable use of $(BLAS_LIBS) and $(LAPACK_LIBS) ... OK
* checking use of PKG_*FLAGS in Makefiles ... OK
* checking compiled code ... NOTE
Note: information on .o files is not available
* checking files in ‘vignettes’ ... OK
* checking examples ... OK
Examples with CPU (user + system) or elapsed time > 5s
user system elapsed
FRASER 44.699 8.980 46.448
counts 32.236 5.924 32.515
optimHyperParams 13.799 1.008 11.871
results 8.048 1.224 5.783
plotFunctions 7.230 1.705 5.540
injectOutliers 7.085 0.051 7.135
* checking for unstated dependencies in ‘tests’ ... OK
* checking tests ...
Running ‘testthat.R’
OK
* checking for unstated dependencies in vignettes ... OK
* checking package vignettes in ‘inst/doc’ ... OK
* checking running R code from vignettes ... SKIPPED
* checking re-building of vignette outputs ... SKIPPED
* checking PDF version of manual ... OK
* DONE
Status: 4 NOTEs
See
‘/home/biocbuild/bbs-3.11-bioc/meat/FRASER.Rcheck/00check.log’
for details.
FRASER.Rcheck/00install.out
############################################################################## ############################################################################## ### ### Running command: ### ### /home/biocbuild/bbs-3.11-bioc/R/bin/R CMD INSTALL FRASER ### ############################################################################## ############################################################################## * installing to library ‘/home/biocbuild/bbs-3.11-bioc/R/library’ * installing *source* package ‘FRASER’ ... ** using staged installation ** libs g++ -std=gnu++11 -I"/home/biocbuild/bbs-3.11-bioc/R/include" -DNDEBUG -I'/home/biocbuild/bbs-3.11-bioc/R/library/Rcpp/include' -I'/home/biocbuild/bbs-3.11-bioc/R/library/RcppArmadillo/include' -I/usr/local/include -fopenmp -DARMA_DONT_USE_OPENMP -fpic -g -O2 -Wall -c RcppExports.cpp -o RcppExports.o g++ -std=gnu++11 -I"/home/biocbuild/bbs-3.11-bioc/R/include" -DNDEBUG -I'/home/biocbuild/bbs-3.11-bioc/R/library/Rcpp/include' -I'/home/biocbuild/bbs-3.11-bioc/R/library/RcppArmadillo/include' -I/usr/local/include -fopenmp -DARMA_DONT_USE_OPENMP -fpic -g -O2 -Wall -c loss_n_gradient_functions.cpp -o loss_n_gradient_functions.o g++ -std=gnu++11 -shared -L/home/biocbuild/bbs-3.11-bioc/R/lib -L/usr/local/lib -o FRASER.so RcppExports.o loss_n_gradient_functions.o -fopenmp -L/home/biocbuild/bbs-3.11-bioc/R/lib -lRlapack -L/home/biocbuild/bbs-3.11-bioc/R/lib -lRblas -lgfortran -lm -lquadmath -L/home/biocbuild/bbs-3.11-bioc/R/lib -lR installing to /home/biocbuild/bbs-3.11-bioc/R/library/00LOCK-FRASER/00new/FRASER/libs ** R ** inst ** byte-compile and prepare package for lazy loading ** help *** installing help indices ** building package indices ** installing vignettes ** testing if installed package can be loaded from temporary location ** checking absolute paths in shared objects and dynamic libraries ** testing if installed package can be loaded from final location ** testing if installed package keeps a record of temporary installation path * DONE (FRASER)
FRASER.Rcheck/tests/testthat.Rout
R version 4.0.3 (2020-10-10) -- "Bunny-Wunnies Freak Out"
Copyright (C) 2020 The R Foundation for Statistical Computing
Platform: x86_64-pc-linux-gnu (64-bit)
R is free software and comes with ABSOLUTELY NO WARRANTY.
You are welcome to redistribute it under certain conditions.
Type 'license()' or 'licence()' for distribution details.
R is a collaborative project with many contributors.
Type 'contributors()' for more information and
'citation()' on how to cite R or R packages in publications.
Type 'demo()' for some demos, 'help()' for on-line help, or
'help.start()' for an HTML browser interface to help.
Type 'q()' to quit R.
> library(testthat)
> library(FRASER)
Loading required package: BiocParallel
Loading required package: data.table
Loading required package: Rsamtools
Loading required package: GenomeInfoDb
Loading required package: BiocGenerics
Loading required package: parallel
Attaching package: 'BiocGenerics'
The following objects are masked from 'package:parallel':
clusterApply, clusterApplyLB, clusterCall, clusterEvalQ,
clusterExport, clusterMap, parApply, parCapply, parLapply,
parLapplyLB, parRapply, parSapply, parSapplyLB
The following objects are masked from 'package:stats':
IQR, mad, sd, var, xtabs
The following objects are masked from 'package:base':
Filter, Find, Map, Position, Reduce, anyDuplicated, append,
as.data.frame, basename, cbind, colnames, dirname, do.call,
duplicated, eval, evalq, get, grep, grepl, intersect, is.unsorted,
lapply, mapply, match, mget, order, paste, pmax, pmax.int, pmin,
pmin.int, rank, rbind, rownames, sapply, setdiff, sort, table,
tapply, union, unique, unsplit, which, which.max, which.min
Loading required package: S4Vectors
Loading required package: stats4
Attaching package: 'S4Vectors'
The following objects are masked from 'package:data.table':
first, second
The following object is masked from 'package:base':
expand.grid
Loading required package: IRanges
Attaching package: 'IRanges'
The following object is masked from 'package:data.table':
shift
Loading required package: GenomicRanges
Loading required package: Biostrings
Loading required package: XVector
Attaching package: 'Biostrings'
The following object is masked from 'package:base':
strsplit
Loading required package: SummarizedExperiment
Loading required package: Biobase
Welcome to Bioconductor
Vignettes contain introductory material; view with
'browseVignettes()'. To cite Bioconductor, see
'citation("Biobase")', and for packages 'citation("pkgname")'.
Loading required package: DelayedArray
Loading required package: matrixStats
Attaching package: 'matrixStats'
The following objects are masked from 'package:Biobase':
anyMissing, rowMedians
Attaching package: 'DelayedArray'
The following objects are masked from 'package:matrixStats':
colMaxs, colMins, colRanges, rowMaxs, rowMins, rowRanges
The following objects are masked from 'package:base':
aperm, apply, rowsum
Attaching package: 'FRASER'
The following object is masked from 'package:Biobase':
samples
The following object is masked from 'package:GenomeInfoDb':
mapSeqlevels
>
> # to speed up the testing on windows do it in serial mode
> if(.Platform$OS.type != "unix") {
+ register(SerialParam())
+ }
>
> test_check("FRASER")
========== _____ _ _ ____ _____ ______ _____
===== / ____| | | | _ \| __ \| ____| /\ | __ \
===== | (___ | | | | |_) | |__) | |__ / \ | | | |
==== \___ \| | | | _ <| _ /| __| / /\ \ | | | |
==== ____) | |__| | |_) | | \ \| |____ / ____ \| |__| |
========== |_____/ \____/|____/|_| \_\______/_/ \_\_____/
Rsubread 2.2.6
//========================== featureCounts setting ===========================\\
|| ||
|| Input files : 1 BAM file ||
|| o sample3.bam ||
|| ||
|| Annotation : R data.frame ||
|| Dir for temp files : /tmp/Rtmp4UtNTM/strandSpecific/cache ||
|| Threads : 1 ||
|| Level : meta-feature level ||
|| Paired-end : yes ||
|| Multimapping reads : counted ||
|| Multi-overlapping reads : counted ||
|| Min overlapping bases : 10 ||
|| ||
|| Chimeric reads : counted ||
|| Both ends mapped : not required ||
|| ||
\\============================================================================//
//================================= Running ==================================\\
|| ||
|| Load annotation file .Rsubread_UserProvidedAnnotation_pid17887 ... ||
|| Features : 87 ||
|| Meta-features : 87 ||
|| Chromosomes/contigs : 2 ||
|| ||
|| Process BAM file sample3.bam... ||
|| Strand specific : stranded ||
|| Paired-end reads are included. ||
|| Total alignments : 1918 ||
|| Successfully assigned alignments : 241 (12.6%) ||
|| Running time : 0.00 minutes ||
|| ||
|| Write the final count table. ||
|| Write the read assignment summary. ||
|| ||
\\============================================================================//
══ testthat results ═══════════════════════════════════════════════════════════
[ OK: 52 | SKIPPED: 0 | WARNINGS: 0 | FAILED: 0 ]
>
> proc.time()
user system elapsed
126.679 13.972 127.565
FRASER.Rcheck/FRASER-Ex.timings
| name | user | system | elapsed | |
| FRASER | 44.699 | 8.980 | 46.448 | |
| FraserDataSet | 0.431 | 0.020 | 0.492 | |
| annotateRanges | 0.291 | 0.012 | 0.303 | |
| calculatePSIValues | 1.759 | 0.374 | 1.791 | |
| countRNA | 0.563 | 0.036 | 0.599 | |
| counts | 32.236 | 5.924 | 32.515 | |
| createTestFraserDataSet | 0.350 | 0.004 | 0.378 | |
| fds-methods | 2.220 | 0.011 | 2.232 | |
| filtering | 0.922 | 0.455 | 1.120 | |
| getter_setter_functions | 0.260 | 0.020 | 0.281 | |
| injectOutliers | 7.085 | 0.051 | 7.135 | |
| loadFraserDataSet | 0.220 | 0.004 | 0.225 | |
| makeSimulatedFraserDataSet | 3.327 | 0.004 | 3.332 | |
| optimHyperParams | 13.799 | 1.008 | 11.871 | |
| plotFunctions | 7.230 | 1.705 | 5.540 | |
| psiTypes | 0 | 0 | 0 | |
| results | 8.048 | 1.224 | 5.783 | |
| subset | 0.578 | 0.016 | 0.594 | |