| Back to Multiple platform build/check report for BioC 3.11 | 
  | 
This page was generated on 2020-10-17 11:56:33 -0400 (Sat, 17 Oct 2020).
| TO THE DEVELOPERS/MAINTAINERS OF THE FCBF PACKAGE: Please make sure to use the following settings in order to reproduce any error or warning you see on this page. | 
| Package 586/1905 | Hostname | OS / Arch | INSTALL | BUILD | CHECK | BUILD BIN | ||||||
| FCBF 1.6.0 Tiago Lubiana 
  | malbec2 | Linux (Ubuntu 18.04.4 LTS) / x86_64 | OK | OK | OK | |||||||
| tokay2 | Windows Server 2012 R2 Standard / x64 | OK | OK | OK | [ OK ] | |||||||
| machv2 | macOS 10.14.6 Mojave / x86_64 | OK | OK | OK | OK | 
| Package: FCBF | 
| Version: 1.6.0 | 
| Command: rm -rf FCBF.buildbin-libdir && mkdir FCBF.buildbin-libdir && C:\Users\biocbuild\bbs-3.11-bioc\R\bin\R.exe CMD INSTALL --merge-multiarch --build --library=FCBF.buildbin-libdir FCBF_1.6.0.tar.gz | 
| StartedAt: 2020-10-17 10:29:09 -0400 (Sat, 17 Oct 2020) | 
| EndedAt: 2020-10-17 10:30:12 -0400 (Sat, 17 Oct 2020) | 
| EllapsedTime: 62.8 seconds | 
| RetCode: 0 | 
| Status: OK | 
| PackageFile: FCBF_1.6.0.zip | 
| PackageFileSize: 2.969 MiB | 
##############################################################################
##############################################################################
###
### Running command:
###
###   rm -rf FCBF.buildbin-libdir && mkdir FCBF.buildbin-libdir && C:\Users\biocbuild\bbs-3.11-bioc\R\bin\R.exe CMD INSTALL --merge-multiarch --build --library=FCBF.buildbin-libdir FCBF_1.6.0.tar.gz
###
##############################################################################
##############################################################################
install for i386
* installing *source* package 'FCBF' ...
** using staged installation
** R
** data
** inst
** byte-compile and prepare package for lazy loading
** help
*** installing help indices
  converting help for package 'FCBF'
    finding HTML links ... done
    IG                                      html  
    SU                                      html  
    discretize_exprs                        html  
    discretize_exprs_supervised             html  
    discretize_gene_supervised              html  
    fcbf                                    html  
    get_ig                                  html  
    get_su                                  html  
    scDengue                                html  
    su_plot                                 html  
** building package indices
** installing vignettes
** testing if installed package can be loaded from temporary location
** testing if installed package can be loaded from final location
** testing if installed package keeps a record of temporary installation path
install for x64
* installing *source* package 'FCBF' ...
** testing if installed package can be loaded
* MD5 sums
packaged installation of 'FCBF' as FCBF_1.6.0.zip
* DONE (FCBF)