| Back to Multiple platform build/check report for BioC 3.11 |
|
This page was generated on 2020-10-17 11:56:31 -0400 (Sat, 17 Oct 2020).
| TO THE DEVELOPERS/MAINTAINERS OF THE ENmix PACKAGE: Please make sure to use the following settings in order to reproduce any error or warning you see on this page. |
| Package 543/1905 | Hostname | OS / Arch | INSTALL | BUILD | CHECK | BUILD BIN | ||||||
| ENmix 1.25.1 Zongli Xu
| malbec2 | Linux (Ubuntu 18.04.4 LTS) / x86_64 | OK | OK | OK | |||||||
| tokay2 | Windows Server 2012 R2 Standard / x64 | OK | OK | OK | [ OK ] | |||||||
| machv2 | macOS 10.14.6 Mojave / x86_64 | OK | OK | OK | OK |
| Package: ENmix |
| Version: 1.25.1 |
| Command: rm -rf ENmix.buildbin-libdir && mkdir ENmix.buildbin-libdir && C:\Users\biocbuild\bbs-3.11-bioc\R\bin\R.exe CMD INSTALL --merge-multiarch --build --library=ENmix.buildbin-libdir ENmix_1.25.1.tar.gz |
| StartedAt: 2020-10-17 10:25:43 -0400 (Sat, 17 Oct 2020) |
| EndedAt: 2020-10-17 10:27:13 -0400 (Sat, 17 Oct 2020) |
| EllapsedTime: 90.0 seconds |
| RetCode: 0 |
| Status: OK |
| PackageFile: ENmix_1.25.1.zip |
| PackageFileSize: 1.524 MiB |
##############################################################################
##############################################################################
###
### Running command:
###
### rm -rf ENmix.buildbin-libdir && mkdir ENmix.buildbin-libdir && C:\Users\biocbuild\bbs-3.11-bioc\R\bin\R.exe CMD INSTALL --merge-multiarch --build --library=ENmix.buildbin-libdir ENmix_1.25.1.tar.gz
###
##############################################################################
##############################################################################
install for i386
* installing *source* package 'ENmix' ...
** using staged installation
** R
** inst
** byte-compile and prepare package for lazy loading
** help
*** installing help indices
converting help for package 'ENmix'
finding HTML links ... done
B2M html
M2B html
QCfilter html
QCinfo html
calcdetP html
combp html
ctrlsva html
dupicc html
estimateCellProp html
freqpoly html
getB html
getCGinfo html
getmeth html
ipdmr html
methDataSet-class html
methyAge html
mhtplot html
mpreprocess html
finding level-2 HTML links ... done
multifreqpoly html
nmode.mc html
norm.quantile html
normalize.quantile.450k html
oxBS.MLE html
p.qqplot html
pcrplot html
plotCtrl html
predSex html
preprocessENmix html
rcp html
readidat html
readmanifest html
relic html
rgDataSet-class html
rm.outlier html
** building package indices
** installing vignettes
** testing if installed package can be loaded from temporary location
** testing if installed package can be loaded from final location
** testing if installed package keeps a record of temporary installation path
install for x64
* installing *source* package 'ENmix' ...
** testing if installed package can be loaded
* MD5 sums
packaged installation of 'ENmix' as ENmix_1.25.1.zip
* DONE (ENmix)