| Back to Multiple platform build/check report for BioC 3.11 |
|
This page was generated on 2020-10-17 11:56:31 -0400 (Sat, 17 Oct 2020).
| TO THE DEVELOPERS/MAINTAINERS OF THE ENCODExplorer PACKAGE: Please make sure to use the following settings in order to reproduce any error or warning you see on this page. |
| Package 540/1905 | Hostname | OS / Arch | INSTALL | BUILD | CHECK | BUILD BIN | ||||||
| ENCODExplorer 2.14.0 Charles Joly Beauparlant
| malbec2 | Linux (Ubuntu 18.04.4 LTS) / x86_64 | OK | OK | OK | |||||||
| tokay2 | Windows Server 2012 R2 Standard / x64 | [ OK ] | OK | OK | OK | |||||||
| machv2 | macOS 10.14.6 Mojave / x86_64 | OK | OK | OK | OK |
| Package: ENCODExplorer |
| Version: 2.14.0 |
| Command: C:\cygwin\bin\curl.exe -O https://malbec2.bioconductor.org/BBS/3.11/bioc/src/contrib/ENCODExplorer_2.14.0.tar.gz && rm -rf ENCODExplorer.buildbin-libdir && mkdir ENCODExplorer.buildbin-libdir && C:\Users\biocbuild\bbs-3.11-bioc\R\bin\R.exe CMD INSTALL --merge-multiarch --build --library=ENCODExplorer.buildbin-libdir ENCODExplorer_2.14.0.tar.gz && C:\Users\biocbuild\bbs-3.11-bioc\R\bin\R.exe CMD INSTALL ENCODExplorer_2.14.0.zip && rm ENCODExplorer_2.14.0.tar.gz ENCODExplorer_2.14.0.zip |
| StartedAt: 2020-10-16 18:41:43 -0400 (Fri, 16 Oct 2020) |
| EndedAt: 2020-10-16 18:42:51 -0400 (Fri, 16 Oct 2020) |
| EllapsedTime: 68.1 seconds |
| RetCode: 0 |
| Status: OK |
##############################################################################
##############################################################################
###
### Running command:
###
### C:\cygwin\bin\curl.exe -O https://malbec2.bioconductor.org/BBS/3.11/bioc/src/contrib/ENCODExplorer_2.14.0.tar.gz && rm -rf ENCODExplorer.buildbin-libdir && mkdir ENCODExplorer.buildbin-libdir && C:\Users\biocbuild\bbs-3.11-bioc\R\bin\R.exe CMD INSTALL --merge-multiarch --build --library=ENCODExplorer.buildbin-libdir ENCODExplorer_2.14.0.tar.gz && C:\Users\biocbuild\bbs-3.11-bioc\R\bin\R.exe CMD INSTALL ENCODExplorer_2.14.0.zip && rm ENCODExplorer_2.14.0.tar.gz ENCODExplorer_2.14.0.zip
###
##############################################################################
##############################################################################
% Total % Received % Xferd Average Speed Time Time Time Current
Dload Upload Total Spent Left Speed
0 0 0 0 0 0 0 0 --:--:-- --:--:-- --:--:-- 0
0 0 0 0 0 0 0 0 --:--:-- --:--:-- --:--:-- 0
100 763k 100 763k 0 0 3388k 0 --:--:-- --:--:-- --:--:-- 3440k
install for i386
* installing *source* package 'ENCODExplorer' ...
** using staged installation
** R
** inst
** byte-compile and prepare package for lazy loading
** help
*** installing help indices
converting help for package 'ENCODExplorer'
finding HTML links ... done
ENCODEBindingConsensus-class html
finding level-2 HTML links ... done
ENCODEExpressionSummary-class html
ENCODESummary-class html
ENCODExplorer html
GenomicOverlaps-class html
GenomicOverlaps html
buildConsensusPeaks html
buildExpressionSummary html
choose_interactive_value html
combined_regions-GenomicOverlaps-method
html
combined_regions-set-GenomicOverlaps-GRanges-method
html
consensus_indices html
consensus_regions html
createDesign html
downloadEncode html
download_dt_file html
download_single_file html
fuzzySearch html
get_encode_df html
get_encode_df_demo html
get_encode_df_full html
initial_regions-GenomicOverlaps-method
html
intersect_indices html
intersect_matrix html
intersect_regions html
length-GenomicOverlaps-method html
names-GenomicOverlaps-method html
names-set-GenomicOverlaps-character-method
html
pairwise_overlap html
queryConsensusPeaks html
queryEncode html
queryEncodeGeneric html
queryExpressionGeneric html
queryGeneExpression html
queryTranscriptExpression html
searchEncode html
searchToquery html
shinyEncode html
split_by_metadata html
union_indices html
union_regions html
** building package indices
** installing vignettes
** testing if installed package can be loaded from temporary location
** testing if installed package can be loaded from final location
** testing if installed package keeps a record of temporary installation path
install for x64
* installing *source* package 'ENCODExplorer' ...
** testing if installed package can be loaded
* MD5 sums
packaged installation of 'ENCODExplorer' as ENCODExplorer_2.14.0.zip
* DONE (ENCODExplorer)
* installing to library 'C:/Users/biocbuild/bbs-3.11-bioc/R/library'
package 'ENCODExplorer' successfully unpacked and MD5 sums checked