| Back to Multiple platform build/check report for BioC 3.11 |
|
This page was generated on 2020-10-17 11:54:42 -0400 (Sat, 17 Oct 2020).
| TO THE DEVELOPERS/MAINTAINERS OF THE EGAD PACKAGE: Please make sure to use the following settings in order to reproduce any error or warning you see on this page. |
| Package 531/1905 | Hostname | OS / Arch | INSTALL | BUILD | CHECK | BUILD BIN | ||||||
| EGAD 1.16.0 Sara Ballouz
| malbec2 | Linux (Ubuntu 18.04.4 LTS) / x86_64 | OK | OK | [ OK ] | |||||||
| tokay2 | Windows Server 2012 R2 Standard / x64 | OK | OK | OK | OK | |||||||
| machv2 | macOS 10.14.6 Mojave / x86_64 | OK | OK | OK | OK |
| Package: EGAD |
| Version: 1.16.0 |
| Command: /home/biocbuild/bbs-3.11-bioc/R/bin/R CMD check --install=check:EGAD.install-out.txt --library=/home/biocbuild/bbs-3.11-bioc/R/library --no-vignettes --timings EGAD_1.16.0.tar.gz |
| StartedAt: 2020-10-17 01:00:00 -0400 (Sat, 17 Oct 2020) |
| EndedAt: 2020-10-17 01:03:38 -0400 (Sat, 17 Oct 2020) |
| EllapsedTime: 218.4 seconds |
| RetCode: 0 |
| Status: OK |
| CheckDir: EGAD.Rcheck |
| Warnings: 0 |
##############################################################################
##############################################################################
###
### Running command:
###
### /home/biocbuild/bbs-3.11-bioc/R/bin/R CMD check --install=check:EGAD.install-out.txt --library=/home/biocbuild/bbs-3.11-bioc/R/library --no-vignettes --timings EGAD_1.16.0.tar.gz
###
##############################################################################
##############################################################################
* using log directory ‘/home/biocbuild/bbs-3.11-bioc/meat/EGAD.Rcheck’
* using R version 4.0.3 (2020-10-10)
* using platform: x86_64-pc-linux-gnu (64-bit)
* using session charset: UTF-8
* using option ‘--no-vignettes’
* checking for file ‘EGAD/DESCRIPTION’ ... OK
* checking extension type ... Package
* this is package ‘EGAD’ version ‘1.16.0’
* package encoding: UTF-8
* checking package namespace information ... OK
* checking package dependencies ... OK
* checking if this is a source package ... OK
* checking if there is a namespace ... OK
* checking for hidden files and directories ... OK
* checking for portable file names ... OK
* checking for sufficient/correct file permissions ... OK
* checking whether package ‘EGAD’ can be installed ... OK
* checking installed package size ... NOTE
installed size is 41.4Mb
sub-directories of 1Mb or more:
data 41.2Mb
* checking package directory ... OK
* checking ‘build’ directory ... OK
* checking DESCRIPTION meta-information ... OK
* checking top-level files ... OK
* checking for left-over files ... OK
* checking index information ... OK
* checking package subdirectories ... OK
* checking R files for non-ASCII characters ... OK
* checking R files for syntax errors ... OK
* checking whether the package can be loaded ... OK
* checking whether the package can be loaded with stated dependencies ... OK
* checking whether the package can be unloaded cleanly ... OK
* checking whether the namespace can be loaded with stated dependencies ... OK
* checking whether the namespace can be unloaded cleanly ... OK
* checking dependencies in R code ... NOTE
Namespaces in Imports field not imported from:
‘Matrix’ ‘affy’
All declared Imports should be used.
* checking S3 generic/method consistency ... OK
* checking replacement functions ... OK
* checking foreign function calls ... OK
* checking R code for possible problems ... OK
* checking Rd files ... OK
* checking Rd metadata ... OK
* checking Rd cross-references ... OK
* checking for missing documentation entries ... OK
* checking for code/documentation mismatches ... OK
* checking Rd \usage sections ... OK
* checking Rd contents ... OK
* checking for unstated dependencies in examples ... OK
* checking contents of ‘data’ directory ... OK
* checking data for non-ASCII characters ... OK
* checking data for ASCII and uncompressed saves ... OK
* checking files in ‘vignettes’ ... OK
* checking examples ... OK
* checking for unstated dependencies in ‘tests’ ... OK
* checking tests ...
Running ‘testthat.R’
OK
* checking for unstated dependencies in vignettes ... OK
* checking package vignettes in ‘inst/doc’ ... OK
* checking running R code from vignettes ... SKIPPED
* checking re-building of vignette outputs ... SKIPPED
* checking PDF version of manual ... OK
* DONE
Status: 2 NOTEs
See
‘/home/biocbuild/bbs-3.11-bioc/meat/EGAD.Rcheck/00check.log’
for details.
EGAD.Rcheck/00install.out
############################################################################## ############################################################################## ### ### Running command: ### ### /home/biocbuild/bbs-3.11-bioc/R/bin/R CMD INSTALL EGAD ### ############################################################################## ############################################################################## * installing to library ‘/home/biocbuild/bbs-3.11-bioc/R/library’ * installing *source* package ‘EGAD’ ... ** using staged installation ** R ** data *** moving datasets to lazyload DB ** inst ** byte-compile and prepare package for lazy loading ** help *** installing help indices ** building package indices ** installing vignettes ** testing if installed package can be loaded from temporary location ** testing if installed package can be loaded from final location ** testing if installed package keeps a record of temporary installation path * DONE (EGAD)
EGAD.Rcheck/tests/testthat.Rout
R version 4.0.3 (2020-10-10) -- "Bunny-Wunnies Freak Out"
Copyright (C) 2020 The R Foundation for Statistical Computing
Platform: x86_64-pc-linux-gnu (64-bit)
R is free software and comes with ABSOLUTELY NO WARRANTY.
You are welcome to redistribute it under certain conditions.
Type 'license()' or 'licence()' for distribution details.
R is a collaborative project with many contributors.
Type 'contributors()' for more information and
'citation()' on how to cite R or R packages in publications.
Type 'demo()' for some demos, 'help()' for on-line help, or
'help.start()' for an HTML browser interface to help.
Type 'q()' to quit R.
> library(testthat)
> library(EGAD)
Setting options('download.file.method.GEOquery'='auto')
Setting options('GEOquery.inmemory.gpl'=FALSE)
>
> test_check("EGAD")
══ testthat results ═══════════════════════════════════════════════════════════
[ OK: 9 | SKIPPED: 2 | WARNINGS: 0 | FAILED: 0 ]
>
> proc.time()
user system elapsed
8.753 0.205 8.942
EGAD.Rcheck/EGAD-Ex.timings
| name | user | system | elapsed | |
| assortativity | 0.001 | 0.000 | 0.001 | |
| auc_multifunc | 0.000 | 0.000 | 0.001 | |
| auprc | 0.005 | 0.000 | 0.005 | |
| auroc_analytic | 0 | 0 | 0 | |
| build_binary_network | 0.001 | 0.000 | 0.000 | |
| build_coexp_expressionSet | 0.005 | 0.000 | 0.004 | |
| build_coexp_network | 0.029 | 0.000 | 0.028 | |
| build_semantic_similarity_network | 0.001 | 0.000 | 0.001 | |
| build_weighted_network | 0.000 | 0.000 | 0.001 | |
| calculate_multifunc | 0.002 | 0.000 | 0.002 | |
| conv_smoother | 0.01 | 0.00 | 0.01 | |
| extend_network | 0.003 | 0.000 | 0.002 | |
| filter_network | 0.001 | 0.000 | 0.001 | |
| filter_network_cols | 0.001 | 0.000 | 0.001 | |
| filter_network_rows | 0.001 | 0.000 | 0.001 | |
| filter_orthologs | 0.001 | 0.000 | 0.000 | |
| fmeasure | 0 | 0 | 0 | |
| get_auc | 0.001 | 0.000 | 0.000 | |
| get_counts | 0.002 | 0.000 | 0.002 | |
| get_density | 0.001 | 0.000 | 0.000 | |
| get_prc | 0 | 0 | 0 | |
| get_roc | 0.001 | 0.000 | 0.000 | |
| make_annotations | 0.001 | 0.000 | 0.001 | |
| make_gene_network | 0.001 | 0.000 | 0.000 | |
| make_genelist | 0 | 0 | 0 | |
| neighbor_voting | 0.019 | 0.004 | 0.022 | |
| node_degree | 0 | 0 | 0 | |
| plot_densities | 0.019 | 0.000 | 0.019 | |
| plot_density_compare | 0.007 | 0.000 | 0.006 | |
| plot_distribution | 0.004 | 0.000 | 0.004 | |
| plot_network_heatmap | 0.031 | 0.000 | 0.032 | |
| plot_prc | 0.016 | 0.000 | 0.016 | |
| plot_roc | 0.002 | 0.000 | 0.002 | |
| plot_roc_overlay | 0.116 | 0.000 | 0.117 | |
| predictions | 0.011 | 0.000 | 0.011 | |
| repmat | 0.001 | 0.000 | 0.000 | |
| run_GBA | 0.033 | 0.000 | 0.033 | |