| Back to Multiple platform build/check report for BioC 3.11 | 
  | 
This page was generated on 2020-10-17 11:56:28 -0400 (Sat, 17 Oct 2020).
| TO THE DEVELOPERS/MAINTAINERS OF THE DiscoRhythm PACKAGE: Please make sure to use the following settings in order to reproduce any error or warning you see on this page. | 
| Package 481/1905 | Hostname | OS / Arch | INSTALL | BUILD | CHECK | BUILD BIN | ||||||
| DiscoRhythm 1.4.2 Matthew Carlucci 
  | malbec2 | Linux (Ubuntu 18.04.4 LTS) / x86_64 | OK | OK | OK | |||||||
| tokay2 | Windows Server 2012 R2 Standard / x64 | OK | OK | OK | [ OK ] | |||||||
| machv2 | macOS 10.14.6 Mojave / x86_64 | OK | OK | OK | OK | 
| Package: DiscoRhythm | 
| Version: 1.4.2 | 
| Command: rm -rf DiscoRhythm.buildbin-libdir && mkdir DiscoRhythm.buildbin-libdir && C:\Users\biocbuild\bbs-3.11-bioc\R\bin\R.exe CMD INSTALL --merge-multiarch --build --library=DiscoRhythm.buildbin-libdir DiscoRhythm_1.4.2.tar.gz | 
| StartedAt: 2020-10-17 10:20:47 -0400 (Sat, 17 Oct 2020) | 
| EndedAt: 2020-10-17 10:21:34 -0400 (Sat, 17 Oct 2020) | 
| EllapsedTime: 46.6 seconds | 
| RetCode: 0 | 
| Status: OK | 
| PackageFile: DiscoRhythm_1.4.2.zip | 
| PackageFileSize: 1.927 MiB | 
##############################################################################
##############################################################################
###
### Running command:
###
###   rm -rf DiscoRhythm.buildbin-libdir && mkdir DiscoRhythm.buildbin-libdir && C:\Users\biocbuild\bbs-3.11-bioc\R\bin\R.exe CMD INSTALL --merge-multiarch --build --library=DiscoRhythm.buildbin-libdir DiscoRhythm_1.4.2.tar.gz
###
##############################################################################
##############################################################################
install for i386
* installing *source* package 'DiscoRhythm' ...
** using staged installation
** R
** data
*** moving datasets to lazyload DB
** inst
** byte-compile and prepare package for lazy loading
** help
*** installing help indices
  converting help for package 'DiscoRhythm'
    finding HTML links ... done
    DiscoRhythm-package                     html  
    PeriodDetection_range                   html  
    checkJTKperiod                          html  
    checkPeriod                             html  
    discoApp                                html  
    discoBatch                              html  
    discoCheckInput                         html  
    discoColors                             html  
    discoDFtoSE                             html  
    discoDesignSummary                      html  
    discoGetSimu                            html  
    discoODAexclusionMatrix                 html  
    discoODAid2name                         html  
    discoODAs                               html  
    discoPCA                                html  
    discoPCAgetOutliers                     html  
    discoParseMeta                          html  
    discoPeriodDetection                    html  
    discoQC                                 html  
    discoShinyHandler                       html  
    fisherExact                             html  
    inferFilteredDesign                     html  
    lmCSmat                                 html  
    lmCSmatNoNA                             html  
    sincos                                  html  
** building package indices
** installing vignettes
** testing if installed package can be loaded from temporary location
** testing if installed package can be loaded from final location
** testing if installed package keeps a record of temporary installation path
install for x64
* installing *source* package 'DiscoRhythm' ...
** testing if installed package can be loaded
* MD5 sums
packaged installation of 'DiscoRhythm' as DiscoRhythm_1.4.2.zip
* DONE (DiscoRhythm)