| Back to Multiple platform build/check report for BioC 3.11 |
|
This page was generated on 2020-10-17 11:56:28 -0400 (Sat, 17 Oct 2020).
| TO THE DEVELOPERS/MAINTAINERS OF THE Director PACKAGE: Please make sure to use the following settings in order to reproduce any error or warning you see on this page. |
| Package 478/1905 | Hostname | OS / Arch | INSTALL | BUILD | CHECK | BUILD BIN | ||||||
| Director 1.14.0 Katherine Icay
| malbec2 | Linux (Ubuntu 18.04.4 LTS) / x86_64 | OK | OK | OK | |||||||
| tokay2 | Windows Server 2012 R2 Standard / x64 | [ OK ] | TIMEOUT | skipped | skipped | |||||||
| machv2 | macOS 10.14.6 Mojave / x86_64 | OK | OK | OK | OK |
| Package: Director |
| Version: 1.14.0 |
| Command: C:\cygwin\bin\curl.exe -O https://malbec2.bioconductor.org/BBS/3.11/bioc/src/contrib/Director_1.14.0.tar.gz && rm -rf Director.buildbin-libdir && mkdir Director.buildbin-libdir && C:\Users\biocbuild\bbs-3.11-bioc\R\bin\R.exe CMD INSTALL --merge-multiarch --build --library=Director.buildbin-libdir Director_1.14.0.tar.gz && C:\Users\biocbuild\bbs-3.11-bioc\R\bin\R.exe CMD INSTALL Director_1.14.0.zip && rm Director_1.14.0.tar.gz Director_1.14.0.zip |
| StartedAt: 2020-10-16 16:47:03 -0400 (Fri, 16 Oct 2020) |
| EndedAt: 2020-10-16 16:47:38 -0400 (Fri, 16 Oct 2020) |
| EllapsedTime: 34.6 seconds |
| RetCode: 0 |
| Status: OK |
##############################################################################
##############################################################################
###
### Running command:
###
### C:\cygwin\bin\curl.exe -O https://malbec2.bioconductor.org/BBS/3.11/bioc/src/contrib/Director_1.14.0.tar.gz && rm -rf Director.buildbin-libdir && mkdir Director.buildbin-libdir && C:\Users\biocbuild\bbs-3.11-bioc\R\bin\R.exe CMD INSTALL --merge-multiarch --build --library=Director.buildbin-libdir Director_1.14.0.tar.gz && C:\Users\biocbuild\bbs-3.11-bioc\R\bin\R.exe CMD INSTALL Director_1.14.0.zip && rm Director_1.14.0.tar.gz Director_1.14.0.zip
###
##############################################################################
##############################################################################
% Total % Received % Xferd Average Speed Time Time Time Current
Dload Upload Total Spent Left Speed
0 0 0 0 0 0 0 0 --:--:-- --:--:-- --:--:-- 0
100 333k 100 333k 0 0 5186k 0 --:--:-- --:--:-- --:--:-- 5755k
install for i386
* installing *source* package 'Director' ...
** using staged installation
** R
** data
*** moving datasets to lazyload DB
** inst
** byte-compile and prepare package for lazy loading
** help
*** installing help indices
converting help for package 'Director'
finding HTML links ... done
append2List html
createList html
drawSankey html
filterNumeric html
filterRelation html
filterSubset html
initSankey html
makeSankey html
mesenchymal html
poorprog html
writeSankey html
** building package indices
** installing vignettes
** testing if installed package can be loaded from temporary location
** testing if installed package can be loaded from final location
** testing if installed package keeps a record of temporary installation path
install for x64
* installing *source* package 'Director' ...
** testing if installed package can be loaded
* MD5 sums
packaged installation of 'Director' as Director_1.14.0.zip
* DONE (Director)
* installing to library 'C:/Users/biocbuild/bbs-3.11-bioc/R/library'
package 'Director' successfully unpacked and MD5 sums checked