| Back to Multiple platform build/check report for BioC 3.11 |
|
This page was generated on 2020-10-17 11:56:25 -0400 (Sat, 17 Oct 2020).
| TO THE DEVELOPERS/MAINTAINERS OF THE DeconRNASeq PACKAGE: Please make sure to use the following settings in order to reproduce any error or warning you see on this page. |
| Package 436/1905 | Hostname | OS / Arch | INSTALL | BUILD | CHECK | BUILD BIN | ||||||
| DeconRNASeq 1.30.0 Ting Gong
| malbec2 | Linux (Ubuntu 18.04.4 LTS) / x86_64 | OK | OK | OK | |||||||
| tokay2 | Windows Server 2012 R2 Standard / x64 | [ OK ] | OK | OK | OK | |||||||
| machv2 | macOS 10.14.6 Mojave / x86_64 | OK | OK | OK | OK |
| Package: DeconRNASeq |
| Version: 1.30.0 |
| Command: C:\Users\biocbuild\bbs-3.11-bioc\R\bin\R.exe --arch x64 CMD INSTALL --no-multiarch DeconRNASeq |
| StartedAt: 2020-10-16 17:49:59 -0400 (Fri, 16 Oct 2020) |
| EndedAt: 2020-10-16 17:50:47 -0400 (Fri, 16 Oct 2020) |
| EllapsedTime: 48.0 seconds |
| RetCode: 0 |
| Status: OK |
##############################################################################
##############################################################################
###
### Running command:
###
### C:\Users\biocbuild\bbs-3.11-bioc\R\bin\R.exe --arch x64 CMD INSTALL --no-multiarch DeconRNASeq
###
##############################################################################
##############################################################################
* installing to library 'C:/Users/biocbuild/bbs-3.11-bioc/R/library'
* installing *source* package 'DeconRNASeq' ...
** using staged installation
** R
** data
** demo
** byte-compile and prepare package for lazy loading
** help
*** installing help indices
converting help for package 'DeconRNASeq'
finding HTML links ... done
DeconRNASeq-package html
DeconRNASeq html
all.datasets html
array.proportions html
array.signatures html
condplot html
datasets html
decon.bootstrap html
fraction html
liver_kidney html
multi_tissue html
multiplot html
proportions html
rmse html
signatures html
x.data html
x.signature html
x.signature.filtered html
x.signature.filtered.optimal html
** building package indices
** installing vignettes
** testing if installed package can be loaded from temporary location
** testing if installed package can be loaded from final location
** testing if installed package keeps a record of temporary installation path
* DONE (DeconRNASeq)
Making 'packages.html' ... done