| Back to Multiple platform build/check report for BioC 3.11 |
|
This page was generated on 2020-10-17 11:56:29 -0400 (Sat, 17 Oct 2020).
| TO THE DEVELOPERS/MAINTAINERS OF THE DTA PACKAGE: Please make sure to use the following settings in order to reproduce any error or warning you see on this page. |
| Package 509/1905 | Hostname | OS / Arch | INSTALL | BUILD | CHECK | BUILD BIN | ||||||
| DTA 2.34.0 Bjoern Schwalb
| malbec2 | Linux (Ubuntu 18.04.4 LTS) / x86_64 | OK | OK | OK | |||||||
| tokay2 | Windows Server 2012 R2 Standard / x64 | [ OK ] | OK | OK | OK | |||||||
| machv2 | macOS 10.14.6 Mojave / x86_64 | OK | OK | OK | OK |
| Package: DTA |
| Version: 2.34.0 |
| Command: C:\cygwin\bin\curl.exe -O https://malbec2.bioconductor.org/BBS/3.11/bioc/src/contrib/DTA_2.34.0.tar.gz && rm -rf DTA.buildbin-libdir && mkdir DTA.buildbin-libdir && C:\Users\biocbuild\bbs-3.11-bioc\R\bin\R.exe CMD INSTALL --merge-multiarch --build --library=DTA.buildbin-libdir DTA_2.34.0.tar.gz && C:\Users\biocbuild\bbs-3.11-bioc\R\bin\R.exe CMD INSTALL DTA_2.34.0.zip && rm DTA_2.34.0.tar.gz DTA_2.34.0.zip |
| StartedAt: 2020-10-16 16:49:03 -0400 (Fri, 16 Oct 2020) |
| EndedAt: 2020-10-16 16:50:03 -0400 (Fri, 16 Oct 2020) |
| EllapsedTime: 59.4 seconds |
| RetCode: 0 |
| Status: OK |
##############################################################################
##############################################################################
###
### Running command:
###
### C:\cygwin\bin\curl.exe -O https://malbec2.bioconductor.org/BBS/3.11/bioc/src/contrib/DTA_2.34.0.tar.gz && rm -rf DTA.buildbin-libdir && mkdir DTA.buildbin-libdir && C:\Users\biocbuild\bbs-3.11-bioc\R\bin\R.exe CMD INSTALL --merge-multiarch --build --library=DTA.buildbin-libdir DTA_2.34.0.tar.gz && C:\Users\biocbuild\bbs-3.11-bioc\R\bin\R.exe CMD INSTALL DTA_2.34.0.zip && rm DTA_2.34.0.tar.gz DTA_2.34.0.zip
###
##############################################################################
##############################################################################
% Total % Received % Xferd Average Speed Time Time Time Current
Dload Upload Total Spent Left Speed
0 0 0 0 0 0 0 0 --:--:-- --:--:-- --:--:-- 0
100 7016k 100 7016k 0 0 30.0M 0 --:--:-- --:--:-- --:--:-- 31.0M
install for i386
* installing *source* package 'DTA' ...
** using staged installation
** R
** data
** byte-compile and prepare package for lazy loading
** help
*** installing help indices
converting help for package 'DTA'
finding HTML links ... done
DTA-package html
DTA.dynamic.estimate html
DTA.dynamic.generate html
DTA.estimate html
DTA.generate html
DTA.map.it html
DTA.normalize html
DTA.phenomat html
DTA.plot.it html
Dm.tnumber html
Doelken2008 html
Hs.datamat html
Hs.enst2ensg html
Hs.phenomat html
Hs.reliable html
Hs.tnumber html
Miller2011 html
Miller2011dynamic html
Mm.datamat html
Mm.enst2ensg html
Mm.phenomat html
Mm.reliable html
Mm.tnumber html
Pol.phenomat html
Raw.datamat html
Sc.affy2ensg html
Sc.datamat html
Sc.datamat.dynamic html
Sc.ensg.reliable html
Sc.phenomat html
Sc.phenomat.dynamic html
Sc.reliable html
Sc.reliable.dynamic html
Sc.ribig.ensg html
Sc.rpg.ensg html
Sc.stress.ensg html
Sc.tf.ensg html
Sc.tnumber html
Sp.affy.reliable html
Sp.tnumber html
Sun2011 html
Wt.phenomat html
tls html
** building package indices
** installing vignettes
** testing if installed package can be loaded from temporary location
** testing if installed package can be loaded from final location
** testing if installed package keeps a record of temporary installation path
install for x64
* installing *source* package 'DTA' ...
** testing if installed package can be loaded
* MD5 sums
packaged installation of 'DTA' as DTA_2.34.0.zip
* DONE (DTA)
* installing to library 'C:/Users/biocbuild/bbs-3.11-bioc/R/library'
package 'DTA' successfully unpacked and MD5 sums checked