| Back to Multiple platform build/check report for BioC 3.11 |
|
This page was generated on 2020-10-17 11:56:28 -0400 (Sat, 17 Oct 2020).
| TO THE DEVELOPERS/MAINTAINERS OF THE DMRcaller PACKAGE: Please make sure to use the following settings in order to reproduce any error or warning you see on this page. |
| Package 488/1905 | Hostname | OS / Arch | INSTALL | BUILD | CHECK | BUILD BIN | ||||||
| DMRcaller 1.20.0 Nicolae Radu Zabet
| malbec2 | Linux (Ubuntu 18.04.4 LTS) / x86_64 | OK | OK | OK | |||||||
| tokay2 | Windows Server 2012 R2 Standard / x64 | OK | OK | OK | [ OK ] | |||||||
| machv2 | macOS 10.14.6 Mojave / x86_64 | OK | OK | OK | OK |
| Package: DMRcaller |
| Version: 1.20.0 |
| Command: rm -rf DMRcaller.buildbin-libdir && mkdir DMRcaller.buildbin-libdir && C:\Users\biocbuild\bbs-3.11-bioc\R\bin\R.exe CMD INSTALL --merge-multiarch --build --library=DMRcaller.buildbin-libdir DMRcaller_1.20.0.tar.gz |
| StartedAt: 2020-10-17 10:21:16 -0400 (Sat, 17 Oct 2020) |
| EndedAt: 2020-10-17 10:21:54 -0400 (Sat, 17 Oct 2020) |
| EllapsedTime: 37.6 seconds |
| RetCode: 0 |
| Status: OK |
| PackageFile: DMRcaller_1.20.0.zip |
| PackageFileSize: 1.884 MiB |
##############################################################################
##############################################################################
###
### Running command:
###
### rm -rf DMRcaller.buildbin-libdir && mkdir DMRcaller.buildbin-libdir && C:\Users\biocbuild\bbs-3.11-bioc\R\bin\R.exe CMD INSTALL --merge-multiarch --build --library=DMRcaller.buildbin-libdir DMRcaller_1.20.0.tar.gz
###
##############################################################################
##############################################################################
install for i386
* installing *source* package 'DMRcaller' ...
** using staged installation
** R
** data
** inst
** byte-compile and prepare package for lazy loading
** help
*** installing help indices
converting help for package 'DMRcaller'
finding HTML links ... done
DMRcaller html
finding level-2 HTML links ... done
DMRsNoiseFilterCG html
GEs html
analyseReadsInsideRegionsForCondition html
computeDMRs html
computeDMRsReplicates html
computeMethylationDataCoverage html
computeMethylationDataSpatialCorrelation
html
computeMethylationProfile html
computeOverlapProfile html
extractGC html
filterDMRs html
getWholeChromosomes html
joinReplicates html
mergeDMRsIteratively html
methylationDataList html
plotLocalMethylationProfile html
plotMethylationDataCoverage html
plotMethylationDataSpatialCorrelation html
plotMethylationProfile html
plotMethylationProfileFromData html
plotOverlapProfile html
poolMethylationDatasets html
poolTwoMethylationDatasets html
readBismark html
readBismarkPool html
saveBismark html
syntheticDataReplicates html
** building package indices
** installing vignettes
** testing if installed package can be loaded from temporary location
** testing if installed package can be loaded from final location
** testing if installed package keeps a record of temporary installation path
install for x64
* installing *source* package 'DMRcaller' ...
** testing if installed package can be loaded
* MD5 sums
packaged installation of 'DMRcaller' as DMRcaller_1.20.0.zip
* DONE (DMRcaller)