| Back to Multiple platform build/check report for BioC 3.11 |
|
This page was generated on 2020-10-17 11:56:26 -0400 (Sat, 17 Oct 2020).
| TO THE DEVELOPERS/MAINTAINERS OF THE DEqMS PACKAGE: Please make sure to use the following settings in order to reproduce any error or warning you see on this page. |
| Package 454/1905 | Hostname | OS / Arch | INSTALL | BUILD | CHECK | BUILD BIN | ||||||
| DEqMS 1.6.0 Yafeng Zhu
| malbec2 | Linux (Ubuntu 18.04.4 LTS) / x86_64 | OK | OK | OK | |||||||
| tokay2 | Windows Server 2012 R2 Standard / x64 | OK | OK | OK | [ OK ] | |||||||
| machv2 | macOS 10.14.6 Mojave / x86_64 | OK | OK | OK | OK |
| Package: DEqMS |
| Version: 1.6.0 |
| Command: rm -rf DEqMS.buildbin-libdir && mkdir DEqMS.buildbin-libdir && C:\Users\biocbuild\bbs-3.11-bioc\R\bin\R.exe CMD INSTALL --merge-multiarch --build --library=DEqMS.buildbin-libdir DEqMS_1.6.0.tar.gz |
| StartedAt: 2020-10-17 10:18:52 -0400 (Sat, 17 Oct 2020) |
| EndedAt: 2020-10-17 10:19:28 -0400 (Sat, 17 Oct 2020) |
| EllapsedTime: 35.5 seconds |
| RetCode: 0 |
| Status: OK |
| PackageFile: DEqMS_1.6.0.zip |
| PackageFileSize: 633.1 KiB |
##############################################################################
##############################################################################
###
### Running command:
###
### rm -rf DEqMS.buildbin-libdir && mkdir DEqMS.buildbin-libdir && C:\Users\biocbuild\bbs-3.11-bioc\R\bin\R.exe CMD INSTALL --merge-multiarch --build --library=DEqMS.buildbin-libdir DEqMS_1.6.0.tar.gz
###
##############################################################################
##############################################################################
install for i386
* installing *source* package 'DEqMS' ...
** using staged installation
** R
** inst
** byte-compile and prepare package for lazy loading
** help
*** installing help indices
converting help for package 'DEqMS'
finding HTML links ... done
Residualplot html
VarianceBoxplot html
VarianceScatterplot html
equalMedianNormalization html
farmsSummary html
medianSummary html
medianSweeping html
medpolishSummary html
outputResult html
peptideProfilePlot html
spectraCounteBayes html
** building package indices
** installing vignettes
** testing if installed package can be loaded from temporary location
** testing if installed package can be loaded from final location
** testing if installed package keeps a record of temporary installation path
install for x64
* installing *source* package 'DEqMS' ...
** testing if installed package can be loaded
* MD5 sums
packaged installation of 'DEqMS' as DEqMS_1.6.0.zip
* DONE (DEqMS)