| Back to Multiple platform build/check report for BioC 3.11 |
|
This page was generated on 2020-10-17 11:56:27 -0400 (Sat, 17 Oct 2020).
| TO THE DEVELOPERS/MAINTAINERS OF THE DESeq2 PACKAGE: Please make sure to use the following settings in order to reproduce any error or warning you see on this page. |
| Package 460/1905 | Hostname | OS / Arch | INSTALL | BUILD | CHECK | BUILD BIN | ||||||
| DESeq2 1.28.1 Michael Love
| malbec2 | Linux (Ubuntu 18.04.4 LTS) / x86_64 | OK | OK | OK | |||||||
| tokay2 | Windows Server 2012 R2 Standard / x64 | OK | OK | OK | [ OK ] | |||||||
| machv2 | macOS 10.14.6 Mojave / x86_64 | OK | OK | OK | OK |
| Package: DESeq2 |
| Version: 1.28.1 |
| Command: rm -rf DESeq2.buildbin-libdir && mkdir DESeq2.buildbin-libdir && C:\Users\biocbuild\bbs-3.11-bioc\R\bin\R.exe CMD INSTALL --merge-multiarch --build --library=DESeq2.buildbin-libdir DESeq2_1.28.1.tar.gz |
| StartedAt: 2020-10-17 10:19:13 -0400 (Sat, 17 Oct 2020) |
| EndedAt: 2020-10-17 10:21:08 -0400 (Sat, 17 Oct 2020) |
| EllapsedTime: 114.8 seconds |
| RetCode: 0 |
| Status: OK |
| PackageFile: DESeq2_1.28.1.zip |
| PackageFileSize: 2.705 MiB |
##############################################################################
##############################################################################
###
### Running command:
###
### rm -rf DESeq2.buildbin-libdir && mkdir DESeq2.buildbin-libdir && C:\Users\biocbuild\bbs-3.11-bioc\R\bin\R.exe CMD INSTALL --merge-multiarch --build --library=DESeq2.buildbin-libdir DESeq2_1.28.1.tar.gz
###
##############################################################################
##############################################################################
install for i386
* installing *source* package 'DESeq2' ...
** using staged installation
** libs
"C:/rtools40/mingw32/bin/"g++ -std=gnu++11 -I"C:/Users/BIOCBU~1/BBS-3~1.11-/R/include" -DNDEBUG -I'C:/Users/biocbuild/bbs-3.11-bioc/R/library/Rcpp/include' -I'C:/Users/biocbuild/bbs-3.11-bioc/R/library/RcppArmadillo/include' -I"C:/extsoft/include" -O2 -Wall -mfpmath=sse -msse2 -mstackrealign -c DESeq2.cpp -o DESeq2.o
"C:/rtools40/mingw32/bin/"g++ -std=gnu++11 -I"C:/Users/BIOCBU~1/BBS-3~1.11-/R/include" -DNDEBUG -I'C:/Users/biocbuild/bbs-3.11-bioc/R/library/Rcpp/include' -I'C:/Users/biocbuild/bbs-3.11-bioc/R/library/RcppArmadillo/include' -I"C:/extsoft/include" -O2 -Wall -mfpmath=sse -msse2 -mstackrealign -c RcppExports.cpp -o RcppExports.o
C:/rtools40/mingw32/bin/g++ -std=gnu++11 -shared -s -static-libgcc -o DESeq2.dll tmp.def DESeq2.o RcppExports.o -LC:/Users/BIOCBU~1/BBS-3~1.11-/R/bin/i386 -lRlapack -LC:/Users/BIOCBU~1/BBS-3~1.11-/R/bin/i386 -lRblas -lgfortran -lm -lquadmath -LC:/extsoft/lib/i386 -LC:/extsoft/lib -LC:/Users/BIOCBU~1/BBS-3~1.11-/R/bin/i386 -lR
installing to C:/Users/biocbuild/bbs-3.11-bioc/meat/DESeq2.buildbin-libdir/00LOCK-DESeq2/00new/DESeq2/libs/i386
** R
** inst
** byte-compile and prepare package for lazy loading
** help
*** installing help indices
converting help for package 'DESeq2'
finding HTML links ... done
DESeq html
finding level-2 HTML links ... done
DESeq2-package html
DESeqDataSet html
DESeqResults html
DESeqTransform html
coef html
collapseReplicates html
counts html
design html
dispersionFunction html
dispersions html
estimateBetaPriorVar html
estimateDispersions html
estimateDispersionsGeneEst html
estimateSizeFactors html
estimateSizeFactorsForMatrix html
fpkm html
fpm html
lfcShrink html
makeExampleDESeqDataSet html
nbinomLRT html
nbinomWaldTest html
normTransform html
normalizationFactors html
normalizeGeneLength html
plotCounts html
plotDispEsts html
plotMA html
plotPCA html
plotSparsity html
priorInfo html
replaceOutliers html
results html
rlog html
show html
sizeFactors html
summary html
unmix html
varianceStabilizingTransformation html
vst html
** building package indices
** installing vignettes
** testing if installed package can be loaded from temporary location
** testing if installed package can be loaded from final location
** testing if installed package keeps a record of temporary installation path
install for x64
* installing *source* package 'DESeq2' ...
** libs
"C:/rtools40/mingw64/bin/"g++ -std=gnu++11 -I"C:/Users/BIOCBU~1/BBS-3~1.11-/R/include" -DNDEBUG -I'C:/Users/biocbuild/bbs-3.11-bioc/R/library/Rcpp/include' -I'C:/Users/biocbuild/bbs-3.11-bioc/R/library/RcppArmadillo/include' -I"C:/extsoft/include" -O2 -Wall -mfpmath=sse -msse2 -mstackrealign -c DESeq2.cpp -o DESeq2.o
"C:/rtools40/mingw64/bin/"g++ -std=gnu++11 -I"C:/Users/BIOCBU~1/BBS-3~1.11-/R/include" -DNDEBUG -I'C:/Users/biocbuild/bbs-3.11-bioc/R/library/Rcpp/include' -I'C:/Users/biocbuild/bbs-3.11-bioc/R/library/RcppArmadillo/include' -I"C:/extsoft/include" -O2 -Wall -mfpmath=sse -msse2 -mstackrealign -c RcppExports.cpp -o RcppExports.o
C:/rtools40/mingw64/bin/g++ -std=gnu++11 -shared -s -static-libgcc -o DESeq2.dll tmp.def DESeq2.o RcppExports.o -LC:/Users/BIOCBU~1/BBS-3~1.11-/R/bin/x64 -lRlapack -LC:/Users/BIOCBU~1/BBS-3~1.11-/R/bin/x64 -lRblas -lgfortran -lm -lquadmath -LC:/extsoft/lib/x64 -LC:/extsoft/lib -LC:/Users/BIOCBU~1/BBS-3~1.11-/R/bin/x64 -lR
installing to C:/Users/biocbuild/bbs-3.11-bioc/meat/DESeq2.buildbin-libdir/DESeq2/libs/x64
** testing if installed package can be loaded
* MD5 sums
packaged installation of 'DESeq2' as DESeq2_1.28.1.zip
* DONE (DESeq2)