| Back to Multiple platform build/check report for BioC 3.11 | 
  | 
This page was generated on 2020-10-17 11:56:13 -0400 (Sat, 17 Oct 2020).
| TO THE DEVELOPERS/MAINTAINERS OF THE CFAssay PACKAGE: Please make sure to use the following settings in order to reproduce any error or warning you see on this page. | 
| Package 262/1905 | Hostname | OS / Arch | INSTALL | BUILD | CHECK | BUILD BIN | ||||||
| CFAssay 1.22.0 Herbert Braselmann 
  | malbec2 | Linux (Ubuntu 18.04.4 LTS) / x86_64 | OK | OK | OK | |||||||
| tokay2 | Windows Server 2012 R2 Standard / x64 | OK | OK | OK | [ OK ] | |||||||
| machv2 | macOS 10.14.6 Mojave / x86_64 | OK | OK | OK | OK | 
| Package: CFAssay | 
| Version: 1.22.0 | 
| Command: rm -rf CFAssay.buildbin-libdir && mkdir CFAssay.buildbin-libdir && C:\Users\biocbuild\bbs-3.11-bioc\R\bin\R.exe CMD INSTALL --merge-multiarch --build --library=CFAssay.buildbin-libdir CFAssay_1.22.0.tar.gz | 
| StartedAt: 2020-10-17 10:03:51 -0400 (Sat, 17 Oct 2020) | 
| EndedAt: 2020-10-17 10:04:52 -0400 (Sat, 17 Oct 2020) | 
| EllapsedTime: 60.4 seconds | 
| RetCode: 0 | 
| Status: OK | 
| PackageFile: CFAssay_1.22.0.zip | 
| PackageFileSize: 323.8 KiB | 
##############################################################################
##############################################################################
###
### Running command:
###
###   rm -rf CFAssay.buildbin-libdir && mkdir CFAssay.buildbin-libdir && C:\Users\biocbuild\bbs-3.11-bioc\R\bin\R.exe CMD INSTALL --merge-multiarch --build --library=CFAssay.buildbin-libdir CFAssay_1.22.0.tar.gz
###
##############################################################################
##############################################################################
install for i386
* installing *source* package 'CFAssay' ...
** using staged installation
** R
** inst
** byte-compile and prepare package for lazy loading
** help
*** installing help indices
  converting help for package 'CFAssay'
    finding HTML links ... done
    cellsurvLQdiff                          html  
    cellsurvLQfit                           html  
    cfa2way                                 html  
    pes                                     html  
    plot.cellsurvLQfit                      html  
    plotExp                                 html  
    plotExp.cellsurvLQfit                   html  
    plotExp.cfa2way                         html  
    plotExp.default                         html  
    print.cellsurvLQdiff                    html  
    print.cellsurvLQfit                     html  
    print.cfa2way                           html  
    sfpmean                                 html  
** building package indices
** installing vignettes
** testing if installed package can be loaded from temporary location
** testing if installed package can be loaded from final location
** testing if installed package keeps a record of temporary installation path
install for x64
* installing *source* package 'CFAssay' ...
** testing if installed package can be loaded
* MD5 sums
packaged installation of 'CFAssay' as CFAssay_1.22.0.zip
* DONE (CFAssay)